{"text_format":"1","workbook":"xlsx","n_sheets":12,"sheets":["Known_Issues","Help_Guide","General_Information","Glazing_Systems","Wall_Systems","Shading_Systems","Wall_Glazing_Areas","User_Library","Report","J1.5A_Calcs","J1.5B_Calcs","NCC_Support_Text"],"not_rendered":{"charts":17,"images":31,"macros":1,"external_links":1,"defined_names":49,"comments":0,"pivot_tables":0},"unopened":[],"bounds":{"document_bytes":16777216,"sheet_cells":100000,"rows_first":2000,"rows_last":500,"rows_between":2000,"halvings":0,"cell_chars":16384,"cell_head_chars":4096},"cells_cut":0,"cells_raw":0,"read":"whole","date_system":"1900"}

{"sheet":"Known_Issues","index":0,"n_rows":60,"n_cols":9,"rows_kept":60,"cut":false,"hidden":false,"merged":[[0,1,3,9],[4,8,5,9],[6,1,6,2],[59,1,59,6]]}
[]
[]
[]
[]
[null,null,null,null,null,null,null,null,"Calculator"]
[]
[null,"Known Issues"]
[]
[null,"In testing the current version of this calculator (v1.1), some functionality issues have been identified. These functionality issues do not affect calculations in the tool."]
[]
[null,"General"]
[null,"Issue:","Saving as an Excel file"]
[null,"Fix:","Use the Export function and Change the File Type to a Macro-enabled Workbook. "]
[null,"Applicable Excel version:","MS Office 365 ProPlus Excel"]
[]
[null,"Wall Systems"]
[null,"Issue:","Error displaying the pop-up help for Internal Wall; Ventilation and Metal Frame Web Thickness (Thermal Bridging)"]
[null,"Fix:","This information is available in the Help Guide sheet. "]
[null,"Applicable Excel version:","MS Office 365 ProPlus Excel"]
[]
[null,"Wall Glazing Areas"]
[null,"Issue:","Glazing Area is not calculating (based on entering the height and width) for each orientation (i.e. North, East, South and West)."]
[null,"Fix:","Only enter the Glazing Area (i.e. not the height and width)."]
[null,"Applicable Excel version:","MS Office 365 ProPlus Excel"]
[]
[null,"Wall Glazing Areas"]
[null,"Issue:","Error displaying the pop-up help for Shading (reference building)"]
[null,"Fix:","This information is available in the Help Guide sheet. "]
[null,"Applicable Excel version:","MS Office 365 ProPlus Excel. "]
[]
[null,"Report"]
[null,"Issue:","Report may not display details of the Glazing Reference, Shading System Type; Glass Type; Frame Type; Wall Type; Wall Construction and Solar Absorptance. Cells may show '#NAME?'."]
[null,"Fix:","View the details in each individual sheet."]
[null,"Applicable Excel versions:","MS Excel for Mac and MS Office 365 ProPlus Excel"]
[]
[null,"Calculation limitation"]
[null,"Issue:","Limitations in calculations used in the “build a wall” feature, which may lead to reduced accuracy of the thermal resistance results calculated. "]
[null,"Fix:","Complete thermal resistance calculations external to Façade calculator, in accordance with the requirements of AS 4859.2 (2019) and NZS 4214 (2006). Add the results to the User Defined list in the “Wall Type” section of the User Library so they can be calculations."]
[null,null,"used in wall-glazing calculations."]
[null,"Applicable Excel versions:","All version of MS Excel"]
[]
[null,"Contact resistance"]
[null,"Issue:","This calculator does not account for contact resistances that may occur between facings in contact with metal frames.  This means in some circumstances the tool may produce results that under-estimate a steel-framed wall’s thermal performance. "]
[null,null,"The treatment of contact resistances in steel-framed wall systems is covered in Section 5.7.4 of NZS 4214 (2006). A contact resistance should only be added when a hard facing, such as timber or fibre-cement, is fixed to the steel frame. "]
[null,null,"The magnitude of the contact resistance on either side of the frame is generally no more than 0.03 m².K/W and is influenced by the tightness of the contact between the steel frame and any adjacent hard facing."]
[null,"Fix:","Refer to NZS 4214 (2006) for treatment of contact resistances in steel-framed wall systems."]
[null,"Applicable Excel versions:","All version of MS Excel"]
[]
[null,"Compression of insulation"]
[null,"Issue:","The calculator does not account for any compression of insulation in calculations. This means in some circumstances it may produce results that over-estimate a wall construction’s thermal performance. For more accurate estimates of Wall Total R-Value, "]
[null,null,"the R-Value of compressed insulation should be de-rated in line with Appendix C, Part C2 of NZS 4214 (2006). This recommends that for every 2% compression (decrease in thickness), the thermal resistance of the insulation should be decreased by 1%. "]
[null,null,"This can be achieved in the calculator by modifying both the thermal conductivity and insulation thickness. The calculator assumes that the steel or timber frames supporting insulation batts is the same thickness as the batts."]
[null,"Fix:","De-rate R-Value in line with Appendix C, Part C2 of NZS 4214 (2006)."]
[null,"Applicable Excel versions:","All version of MS Excel"]
[]
[]
[]
[]
[]
[null,"IMPORTANT NOTICE AND DISCLAIMER IN RESPECT OF THIS CALCULATOR\n"]

{"sheet":"Help_Guide","index":1,"n_rows":593,"n_cols":9,"rows_kept":593,"cut":false,"hidden":false,"merged":[[509,1,509,6],[0,1,3,9],[4,8,5,9],[6,1,6,2],[48,1,48,2],[143,1,144,9]]}
[]
[]
[]
[]
[null,null,null,null,null,null,null,null,"Calculator"]
[]
[null,"Technical Information "]
[]
[null,"Users of this tool are reminded that they must ensure any products, elements and designs entered into this tool are appropriate for the building they are to be installed in. "]
[null,"This includes ensuring that these products, elements and designs meet all other applicable requirements of the National Construction Code, such as for fire safety, amenity, condensation and structural reliability."]
[null," "]
[]
[null,"1. Version"]
[]
[null,"•\t  This version of the Façade Calculator was first issued for use with Part J1.5 Walls and glazing (specifically 1.5a and 1.5b) in Volume One of NCC 2019"]
[]
[null,"•\t  The file name includes the version number. The latest version should always be used."]
[]
[null,"•\t  A record of changes made to each version of the Façade Calculator appears at the end of the Help Guide. "]
[]
[null,"2. Operating system "]
[]
[null,"•\t  The Façade Calculator has been developed in the Windows® version of Microsoft Excel® 2016. It should provide full functionality in all versions of Microsoft Excel after 2010 (32 and 64 bit)."]
[]
[null,"•\t  Functionality will be reduced for Mac (all versions) and Microsoft (Office) 365."]
[]
[null,"3. Display "]
[]
[null,"•\t  This tool has been designed to be viewed at 80%."]
[]
[null,"4. Inputs"]
[]
[null,"•\t  Input are identified by either 1) white cells where text or values are provided or 2) grey dropdowns where the user can access the User Library or dynamic menus."]
[]
[null,"5. Printing"]
[]
[null,"•\t The Calculator's report function can be printed using the File/Print menu."]
[]
[null,"6. User worksheets"]
[]
[null,"•\t All worksheets are protected, with access only provided to required input cells."]
[]
[null,"•\t Protection is required to maintain the integrity of the tool but does not restrict the functions and operations of availble to the user. "]
[]
[null,"•\t Navigation has been designed to be controlled within a dedicated ribbon that appears upon opening of the tool. By using these buttons, you can navigate to the relevant sheet."]
[]
[null,"•\t The use of this Calculator is optional and the responsibility for its content and output rests entirely with the user. The ABCB accepts no responsibility for any calculations performed or the outputs."]
[]
[null,"How to use the Calculator?"]
[]
[null,"1. General Information"]
[]
[null,"•\t The General Information sheet is where information for the project/building's identity, address, climate, classification and number of storeys above ground is entered."]
[]
[null,"•\t Inputs are generally required for calculation or reporting purposes."]
[]
[null,"•\t This tool relies on unique glazing, wall and shading references to be used in the Wall Glazing + results section for accurate results. This means that the same glazing, wall or shading reference cannot be used more than once for each aspect."]
[]
[]
[]
[]
[]
[]
[]
[]
[]
[]
[]
[]
[]
[]
[]
[]
[]
[]
[]
[]
[]
[]
[]
[]
[]
[]
[]
[]
[]
[null,"2. Glazing Systems "]
[]
[null,"•\t The Glazing Systems sheet is where the information for the project's glazing details, for vision areas only, is entered."]
[]
[null,"•\t If a Glazing Reference, a unique reference identifier for each vision glazing system, has been entered, all values must be completed within the row to be used on the Wall Glazing Area + Results button."]
[]
[null,"•\t A maximum of 16 Glazing Systems are allowed for any one project. A Glazing System entry is a combination of a System Type, Glass Type and Frame Type (including Sub-Frames)."]
[]
[null,"•\t Total System U-Value and Total System SHGC are based on either WERS (based on the technical protocols and procedures of the Australian Fenestration Rating Council (AFRC) or a method defined by the user.   "]
[null,"  Any method used should account for the performance of the frame, supporting frame elements such as sub-sills and glass.  "]
[null,"  Note: If a user defined method is selected, the methodology used to determine the values must be adequately documented in accordance with Clause A5.2 Evidence of Suitability.  "]
[]
[null,"•\t All materials can be selected from the User Library as Default (Generic) or User (Defined) products. The user is free to add products, as per the project specifications."]
[]
[]
[]
[]
[]
[]
[]
[]
[]
[]
[]
[]
[]
[]
[]
[]
[]
[]
[]
[]
[]
[]
[]
[]
[null,"3. Wall Systems "]
[]
[null,"•\t The Wall Systems sheet is where information for the project's wall details, for opaque areas only, is entered."]
[]
[null,"•\t For a Wall Reference, a unique reference identifier for each opaque wall system needs to be entered. All values must be completed within the row to be used in the Wall Glazing Area + Results sheet."]
[]
[null,"•\t A maximum of 16 Wall Systems are allowed for any one project. A Wall System entry is a combination of a Wall Type, Spandrel Methodology, Wall Construction and Thickness."]
[]
[null,"•\t Users are required to define Wall Types as either spandrel or wall. For spandrels, the associated Spandrel Methodology, either using Specification J1.5b from NCC Volume One or a user defined calculation method supported by"]
[null," \t documentary evidence consistent with the requirements of A5.2."]
[]
[null,"•\t Wall Thickness is used in the reporting function only, to enable better cross referencing of wall constructions."]
[]
[null,"•\t Total System R-Values are to be added to the User Library and can be generated via the Total System R-Value Calculator."]
[]
[null,"•\t Solar Absorptance is generally a value between 0.25 and 0.75, as per the suppliers' specification. Where spandrel glass occurs externally in an opaque wall construction, use the glass SHGC value. "]
[null,"Note, this value is not included in the Total U-Value calculation."]
[]
[null,"•\t All materials can be selected from the User Library as Default (Generic) or User (Defined) products. The user is free to add products, as per the project specifications."]
[]
[]
[]
[]
[]
[]
[]
[]
[]
[]
[]
[]
[]
[]
[]
[]
[]
[]
[]
[]
[]
[]
[]
[]
[]
[]
[]
[]
[]
[]
[]
[]
[]
[]
[]
[]
[]
[]
[]
[]
[]
[]
[]
[]
[]
[]
[]
[]
[]
[]
[]
[]
[]
[]
[]
[]
[]
[]
[]
[]
[]
[null,"4. Shading Systems "]
[]
[null,"•\t The Shading Systems sheet is where information for the project's shading details, for vision areas only, is entered."]
[]
[null,"•\t If a Shading Reference, a unique reference identifier for each opaque shading system, has been entered and device is not selected, all values must be completed within the row to be used on the Wall Glazing Area + Results tab."]
[]
[null,"•\t A maximum of 16 Shading Systems are allowed for any one project, with any one Shading System being a combination of either \"Device\" or P, G and H. Refer to NCC 2019 Volume One Section J for more information."]
[]
[null,"•\t Where a 'device' is selected, it must be illustated as being capable of restricting at least 80% of summer solar radiation and, if adjustable, will operate automatically in response to the level of solar radiation. "]
[]
[]
[]
[]
[]
[]
[]
[]
[]
[]
[]
[]
[]
[]
[]
[]
[]
[]
[]
[]
[]
[]
[]
[]
[]
[]
[]
[]
[]
[]
[]
[]
[]
[]
[]
[]
[]
[null,"5. Wall Glazing Area + Results"]
[]
[null,"•\t The Wall Glazing Area + Results sheet is where the project's façades are built, the results are calculated and a comparison to the minimum requirement of J1.5 of NCC Volume One is shown. "]
[]
[null,"•\t The façades are built in the bottom part of the sheet under the Wall Glazing Area and the Results for Method 1 and 2 (J1.5 of NCC Volume One) are displayed at the top of the sheet."]
[]
[null,"•\t In the Wall Glazing Area, where a Glazing, Wall or Shading Reference has been entered in the Glazing, Wall or Shading Systems sheets, users can select it and its orientation based on the 4 cardinal directions (North, East, South and West)."]
[]
[null,"•\t Glazing and wall areas are then calculated for each Glazing and Wall Reference in use. Note, it is possible that a Glazing References has no corresponding Wall Reference."]
[]
[null,"•\t Enter either the total height and total width of all glazing or the total glazing area for particular glazing reference."]
[]
[null,"• \tChecking '\"Internal\" nominates that the Wall-Glazing construction is interior (facing into a non-conditioned enlosed space) and derates the associated FSA requirements by 100%. "]
[]
[null,"•\t Method 1 Results are presented for each orientation. A summary is provided for Method 1 and 2 for all orientations within the Results area at the top of the sheet."]
[]
[]
[]
[]
[]
[]
[]
[]
[]
[]
[]
[]
[]
[]
[]
[]
[]
[]
[]
[]
[]
[]
[]
[]
[]
[]
[]
[]
[]
[]
[]
[]
[]
[]
[]
[]
[]
[]
[]
[]
[]
[]
[]
[]
[]
[]
[]
[]
[]
[]
[]
[]
[]
[]
[]
[]
[]
[]
[]
[]
[]
[null,"•\t If a user fails to meet the minimum requirements via Method 1 or 2 from J1.5, the Reference Building provides Method 1 and Method 2 performance values to be used in JV3 modelling."]
[]
[null,"•\t The Reference Building can be adjusted to include shading, which must be the same shading as the proposed project if caused by the geometry of building. If the primary purpose of shading is energy efficiency, it must be excluded."]
[]
[]
[]
[]
[]
[]
[]
[]
[]
[]
[]
[]
[]
[]
[]
[]
[]
[]
[]
[]
[null,"6. Additional Support"]
[]
[null,"•\t The following pop-up forms are for reference to support Excel versions that prohibit these features."]
[]
[]
[]
[]
[]
[]
[]
[]
[]
[]
[]
[]
[]
[]
[]
[]
[]
[]
[]
[]
[]
[]
[]
[]
[]
[]
[]
[]
[]
[]
[]
[]
[]
[]
[]
[]
[]
[]
[]
[]
[]
[]
[]
[]
[]
[]
[]
[]
[]
[]
[]
[]
[]
[]
[]
[]
[]
[]
[]
[]
[]
[]
[]
[]
[]
[]
[]
[]
[]
[]
[]
[]
[]
[]
[]
[]
[]
[]
[]
[]
[]
[]
[]
[]
[]
[]
[]
[]
[]
[]
[]
[]
[]
[]
[]
[]
[]
[]
[]
[]
[]
[]
[]
[]
[]
[]
[]
[]
[]
[]
[]
[]
[]
[]
[]
[]
[]
[]
[]
[]
[]
[]
[]
[]
[]
[]
[]
[]
[]
[]
[]
[]
[]
[]
[]
[]
[]
[]
[]
[]
[]
[]
[]
[]
[]
[]
[]
[]
[]
[]
[]
[]
[]
[]
[]
[]
[]
[]
[null,"IMPORTANT NOTICE AND DISCLAIMER IN RESPECT OF THIS CALCULATOR\n"]
[]
[]
[]
[]
[]
[]
[]
[]
[]
[]
[]
[]
[]
[]
[]
[]
[]
[]
[]
[]
[]
[]
[]
[]
[]
[]
[]
[]
[]
[]
[]
[]
[null,"Version History"]
[null,"V1.0"]
[null,"Beta version first public release."]
[]
[null,"V1.1 "]
[null,"General"]
[null,"•\t Tabs provided at the bottom of each sheet so users can navigate tabs from here as well as via the ribbon (solves issue with some Mac computers). "]
[null,"•\t ‘Save as’ function provided."]
[null,"•\t Removed \"beta\" from sheet headings. "]
[]
[null,"‘General Information’ sheet"]
[null,"•\t Updated Northern Territory options so that climate zones 1 & 2 could be selected."]
[null,"•\t Updated South Australia options so that climate zones 4,5 and 6 could be selected."]
[]
[null,"‘Glazing Systems’ sheet"]
[null,"•\t Dropdown methodology selection for Total System U-Value and Total System SHGC values removed."]
[]
[null,"‘Wall system’ sheet"]
[null,"•\t Wall cavity ventilation rate can now be set (with subsequent derating of resistance depending on value selected), walls can be set to be \"internal\" (which means only Total System U-Value is assessed in the Wall-Glazing results tab)."]
[null,"•\t New calculation update, thermal resistance of air gap included in the bridged layer."]
[null,"•\t Removed the limitations placed on wall solar absorptance."]
[null,"•\t 300 mm limit for wall thickness removed."]
[]
[null,"‘Wall-Glazing Results’ sheet"]
[null,"•\t Pop up added indicating you can cannot use the same glazing reference multiple times for a given aspect."]
[null,"•\t ‘Including Shading’ Method 2 now showing revised results for both \"Non\" and \"As Proposed\" reference buildings."]
[]
[null,"‘User Library’ sheet"]
[null,"•\t Double and single low-E coatings values updated."]
[]
[null,"Report "]
[null,"•\t Tool version information added."]
[]
[null,"Help guide"]
[null,"•\t Screen shot images updated."]
[]
[null,"V1.2 "]
[]
[null,"‘General Information’ sheet"]
[null,"•\t Class 6 Display Glazing removed as an option as it is not part of the Wall-Glazing construction."]
[]
[null,"‘Wall-Glazing Results’ sheet"]
[null,"•\t Wall-glazing Internal functioned added and removed from Wall Systems sheet."]
[]
[null,"Help guide"]
[null,"•\t Screen shot images updated."]
[]
[]
[]
[null,"V1.2"]
[null,"Adjustments made to user library and calculation limitations added to known issues page."]

{"sheet":"General_Information","index":2,"n_rows":33,"n_cols":8,"rows_kept":33,"cut":false,"hidden":false,"merged":[[39,1,40,7],[0,1,3,10],[4,7,5,10],[4,1,5,2],[32,1,32,2],[9,4,9,9]]}
[]
[]
[]
[]
[null,null,null,null,null,null,null,"Calculator"]
[]
[null,"General Information"]
[]
[]
[null,"Name"]
[]
[null,"Position"]
[]
[null,"Company"]
[]
[null,"Building Name / Address"]
[]
[]
[null,"Building State"]
[]
[null,"Building Classification"]
[]
[null,"Climate Zone"]
[]
[null,"Storeys Above Ground"]
[]
[]
[]
[]
[]
[]
[]
[null,"IMPORTANT NOTICE AND DISCLAIMER IN RESPECT OF THIS CALCULATOR"]

{"sheet":"Glazing_Systems","index":3,"n_rows":47,"n_cols":11,"rows_kept":47,"cut":false,"hidden":false,"merged":[[6,1,6,2],[0,1,3,11],[51,1,52,7],[4,10,5,11],[46,1,46,6]]}
[]
[]
[]
[]
[null,null,null,null,null,null,null,null,null,null,"Calculator"]
[]
[null,"Glazing Systems"]
[]
[]
[null,null,"Glazing Reference","System Type","Glass Type","Frame Type","Glass U-Value ","Glass SHGC",null,"Total System U-Value ","Total System SHGC"]
[null,null,null,null,null,null,"(W/m².K)",null,null,"(W/m².K)"]
[null,1,null,null,null,null,{"$f":"IFERROR(INDEX(User_Library!$C$10:$C$66,MATCH(Glazing_Systems!E12,User_Library!$B$10:$B$66,0)),\"\")","v":""},{"$f":"IFERROR(INDEX(User_Library!$D$10:$D$66,MATCH(Glazing_Systems!E12,User_Library!$B$10:$B$66,0)),\"\")","v":""}]
[]
[null,2,null,null,null,null,{"$f":"IFERROR(INDEX(User_Library!$C$10:$C$66,MATCH(Glazing_Systems!E14,User_Library!$B$10:$B$66,0)),\"\")","v":""},{"$f":"IFERROR(INDEX(User_Library!$D$10:$D$66,MATCH(Glazing_Systems!E14,User_Library!$B$10:$B$66,0)),\"\")","v":""}]
[]
[null,3,null,null,null,null,{"$f":"IFERROR(INDEX(User_Library!$C$10:$C$66,MATCH(Glazing_Systems!E16,User_Library!$B$10:$B$66,0)),\"\")","v":""},{"$f":"IFERROR(INDEX(User_Library!$D$10:$D$66,MATCH(Glazing_Systems!E16,User_Library!$B$10:$B$66,0)),\"\")","v":""}]
[]
[null,4,null,null,null,null,{"$f":"IFERROR(INDEX(User_Library!$C$10:$C$66,MATCH(Glazing_Systems!E18,User_Library!$B$10:$B$66,0)),\"\")","v":""},{"$f":"IFERROR(INDEX(User_Library!$D$10:$D$66,MATCH(Glazing_Systems!E18,User_Library!$B$10:$B$66,0)),\"\")","v":""}]
[]
[null,5,null,null,null,null,{"$f":"IFERROR(INDEX(User_Library!$C$10:$C$66,MATCH(Glazing_Systems!E20,User_Library!$B$10:$B$66,0)),\"\")","v":""},{"$f":"IFERROR(INDEX(User_Library!$D$10:$D$66,MATCH(Glazing_Systems!E20,User_Library!$B$10:$B$66,0)),\"\")","v":""}]
[]
[null,6,null,null,null,null,{"$f":"IFERROR(INDEX(User_Library!$C$10:$C$66,MATCH(Glazing_Systems!E22,User_Library!$B$10:$B$66,0)),\"\")","v":""},{"$f":"IFERROR(INDEX(User_Library!$D$10:$D$66,MATCH(Glazing_Systems!E22,User_Library!$B$10:$B$66,0)),\"\")","v":""}]
[]
[null,7,null,null,null,null,{"$f":"IFERROR(INDEX(User_Library!$C$10:$C$66,MATCH(Glazing_Systems!E24,User_Library!$B$10:$B$66,0)),\"\")","v":""},{"$f":"IFERROR(INDEX(User_Library!$D$10:$D$66,MATCH(Glazing_Systems!E24,User_Library!$B$10:$B$66,0)),\"\")","v":""}]
[]
[null,8,null,null,null,null,{"$f":"IFERROR(INDEX(User_Library!$C$10:$C$66,MATCH(Glazing_Systems!E26,User_Library!$B$10:$B$66,0)),\"\")","v":""},{"$f":"IFERROR(INDEX(User_Library!$D$10:$D$66,MATCH(Glazing_Systems!E26,User_Library!$B$10:$B$66,0)),\"\")","v":""}]
[]
[null,9,null,null,null,null,{"$f":"IFERROR(INDEX(User_Library!$C$10:$C$66,MATCH(Glazing_Systems!E28,User_Library!$B$10:$B$66,0)),\"\")","v":""},{"$f":"IFERROR(INDEX(User_Library!$D$10:$D$66,MATCH(Glazing_Systems!E28,User_Library!$B$10:$B$66,0)),\"\")","v":""}]
[]
[null,10,null,null,null,null,{"$f":"IFERROR(INDEX(User_Library!$C$10:$C$66,MATCH(Glazing_Systems!E30,User_Library!$B$10:$B$66,0)),\"\")","v":""},{"$f":"IFERROR(INDEX(User_Library!$D$10:$D$66,MATCH(Glazing_Systems!E30,User_Library!$B$10:$B$66,0)),\"\")","v":""}]
[]
[null,11,null,null,null,null,{"$f":"IFERROR(INDEX(User_Library!$C$10:$C$66,MATCH(Glazing_Systems!E32,User_Library!$B$10:$B$66,0)),\"\")","v":""},{"$f":"IFERROR(INDEX(User_Library!$D$10:$D$66,MATCH(Glazing_Systems!E32,User_Library!$B$10:$B$66,0)),\"\")","v":""}]
[]
[null,12,null,null,null,null,{"$f":"IFERROR(INDEX(User_Library!$C$10:$C$66,MATCH(Glazing_Systems!E34,User_Library!$B$10:$B$66,0)),\"\")","v":""},{"$f":"IFERROR(INDEX(User_Library!$D$10:$D$66,MATCH(Glazing_Systems!E34,User_Library!$B$10:$B$66,0)),\"\")","v":""}]
[]
[null,13,null,null,null,null,{"$f":"IFERROR(INDEX(User_Library!$C$10:$C$66,MATCH(Glazing_Systems!E36,User_Library!$B$10:$B$66,0)),\"\")","v":""},{"$f":"IFERROR(INDEX(User_Library!$D$10:$D$66,MATCH(Glazing_Systems!E36,User_Library!$B$10:$B$66,0)),\"\")","v":""}]
[]
[null,14,null,null,null,null,{"$f":"IFERROR(INDEX(User_Library!$C$10:$C$66,MATCH(Glazing_Systems!E38,User_Library!$B$10:$B$66,0)),\"\")","v":""},{"$f":"IFERROR(INDEX(User_Library!$D$10:$D$66,MATCH(Glazing_Systems!E38,User_Library!$B$10:$B$66,0)),\"\")","v":""}]
[]
[null,15,null,null,null,null,{"$f":"IFERROR(INDEX(User_Library!$C$10:$C$66,MATCH(Glazing_Systems!E40,User_Library!$B$10:$B$66,0)),\"\")","v":""},{"$f":"IFERROR(INDEX(User_Library!$D$10:$D$66,MATCH(Glazing_Systems!E40,User_Library!$B$10:$B$66,0)),\"\")","v":""}]
[]
[null,16,null,null,null,null,{"$f":"IFERROR(INDEX(User_Library!$C$10:$C$66,MATCH(Glazing_Systems!E42,User_Library!$B$10:$B$66,0)),\"\")","v":""},{"$f":"IFERROR(INDEX(User_Library!$D$10:$D$66,MATCH(Glazing_Systems!E42,User_Library!$B$10:$B$66,0)),\"\")","v":""}]
[]
[]
[]
[]
[null,"IMPORTANT NOTICE AND DISCLAIMER IN RESPECT OF THIS CALCULATOR\n"]

{"sheet":"Wall_Systems","index":4,"n_rows":88,"n_cols":322,"rows_kept":88,"cut":false,"hidden":false,"merged":[[92,1,93,5],[43,1,43,9],[77,6,77,7],[0,1,3,9],[6,1,6,2],[79,6,79,7],[75,5,75,7],[73,4,73,7],[4,1,5,9]]}
[]
[]
[]
[]
[null,"Calculator"]
[]
[null,"Wall Systems"]
[]
[]
[null,null,"Wall Reference","Wall Type","Spandrel Methodology","Wall Construction","Wall Thickness","Total System R-Value","Solar Absorptance"]
[null,null,null,null,null,null,"(mm)","(m².K/W)"]
[null,1,null,null,null,null,null,{"$f":"IFERROR(IF(D12=\"Wall\",VLOOKUP(F12,User_Library!$J$7:$K$100,2,FALSE),VLOOKUP(F12,User_Library!$L$7:$M$100,2,FALSE)),\"\")","v":""}]
[]
[null,2,null,null,null,null,null,{"$f":"IFERROR(IF(D14=\"Wall\",VLOOKUP(F14,User_Library!$J$7:$K$100,2,FALSE),VLOOKUP(F14,User_Library!$L$7:$M$100,2,FALSE)),\"\")","v":""},null,false]
[]
[null,3,null,null,null,null,null,{"$f":"IFERROR(IF(D16=\"Wall\",VLOOKUP(F16,User_Library!$J$7:$K$100,2,FALSE),VLOOKUP(F16,User_Library!$L$7:$M$100,2,FALSE)),\"\")","v":""},null,false]
[]
[null,4,null,null,null,null,null,{"$f":"IFERROR(IF(D18=\"Wall\",VLOOKUP(F18,User_Library!$J$7:$K$100,2,FALSE),VLOOKUP(F18,User_Library!$L$7:$M$100,2,FALSE)),\"\")","v":""}]
[]
[null,5,null,null,null,null,null,{"$f":"IFERROR(IF(D20=\"Wall\",VLOOKUP(F20,User_Library!$J$7:$K$100,2,FALSE),VLOOKUP(F20,User_Library!$L$7:$M$100,2,FALSE)),\"\")","v":""}]
[]
[null,6,null,null,null,null,null,{"$f":"IFERROR(IF(D22=\"Wall\",VLOOKUP(F22,User_Library!$J$7:$K$100,2,FALSE),VLOOKUP(F22,User_Library!$L$7:$M$100,2,FALSE)),\"\")","v":""}]
[]
[null,7,null,null,null,null,null,{"$f":"IFERROR(IF(D24=\"Wall\",VLOOKUP(F24,User_Library!$J$7:$K$100,2,FALSE),VLOOKUP(F24,User_Library!$L$7:$M$100,2,FALSE)),\"\")","v":""},null,null,null,null,null,null,null,null,null,null,null,null,null,null,null,null,null,null,null,null,null,null,null,null,null,null,null,null,null,null,null,null,null,null,null,null,null,null,null,null,null,null,null,null,null,null,null,null,null,null,null,null,null,null,null,null,null,null,null,null,null,null,null,null,null,null,null,null,null,null,null,null,null,null,null,null,null,null,null,null,null,null,null,null,null,null,null,null,null,null,null,null,null,null,null,null,null,null,null,null,null,null,null,null,null,null,null,null,null,null,null,null,null,null,null,null,null,null,null,null,null,null,null,null,null,null,null,null,null,null,null,null,null,null,null,null,null,null,null,null,null,null,null,null,null,null,null,null,null,null,null,null,null,null,null,null,null,null,null,null,null,null,null,null,null,null,null,null,null,null,null,null,null,null,null,null,null,null,null,null,null,null,null,null,null,null,null,null,null,null,null,null,null,null,null,null,null,null,null,null,null,null,null,null,null,null,null,null,null,null,null,null,null,null,null,null,null,null,null,null,null,null,null,null,null,null,null,null,null,null,null,null,null,null,null,null,null,null,null,null,null,null,null,null,null,null,null,null,null,null,null,null,null,null,null,null,null,null,null,null,null,null,null,null,null,null,null,null,null,null,null,null,null,null,null,null,null,null,null,null,null,null,null,null,null,null,null,null,null,null,null,null,null,null,null,null,null,null,null,null,null,null,null,null,null,null,null,null,null,null,null,null,null,false]
[]
[null,8,null,null,null,null,null,{"$f":"IFERROR(IF(D26=\"Wall\",VLOOKUP(F26,User_Library!$J$7:$K$100,2,FALSE),VLOOKUP(F26,User_Library!$L$7:$M$100,2,FALSE)),\"\")","v":""}]
[]
[null,9,null,null,null,null,null,{"$f":"IFERROR(IF(D28=\"Wall\",VLOOKUP(F28,User_Library!$J$7:$K$100,2,FALSE),VLOOKUP(F28,User_Library!$L$7:$M$100,2,FALSE)),\"\")","v":""}]
[]
[null,10,null,null,null,null,null,{"$f":"IFERROR(IF(D30=\"Wall\",VLOOKUP(F30,User_Library!$J$7:$K$100,2,FALSE),VLOOKUP(F30,User_Library!$L$7:$M$100,2,FALSE)),\"\")","v":""}]
[]
[null,11,null,null,null,null,null,{"$f":"IFERROR(IF(D32=\"Wall\",VLOOKUP(F32,User_Library!$J$7:$K$100,2,FALSE),VLOOKUP(F32,User_Library!$L$7:$M$100,2,FALSE)),\"\")","v":""}]
[]
[null,12,null,null,null,null,null,{"$f":"IFERROR(IF(D34=\"Wall\",VLOOKUP(F34,User_Library!$J$7:$K$100,2,FALSE),VLOOKUP(F34,User_Library!$L$7:$M$100,2,FALSE)),\"\")","v":""}]
[]
[null,13,null,null,null,null,null,{"$f":"IFERROR(IF(D36=\"Wall\",VLOOKUP(F36,User_Library!$J$7:$K$100,2,FALSE),VLOOKUP(F36,User_Library!$L$7:$M$100,2,FALSE)),\"\")","v":""}]
[]
[null,14,null,null,null,null,null,{"$f":"IFERROR(IF(D38=\"Wall\",VLOOKUP(F38,User_Library!$J$7:$K$100,2,FALSE),VLOOKUP(F38,User_Library!$L$7:$M$100,2,FALSE)),\"\")","v":""}]
[]
[null,15,null,null,null,null,null,{"$f":"IFERROR(IF(D40=\"Wall\",VLOOKUP(F40,User_Library!$J$7:$K$100,2,FALSE),VLOOKUP(F40,User_Library!$L$7:$M$100,2,FALSE)),\"\")","v":""}]
[]
[null,16,null,null,null,null,null,{"$f":"IFERROR(IF(D42=\"Wall\",VLOOKUP(F42,User_Library!$J$7:$K$100,2,FALSE),VLOOKUP(F42,User_Library!$L$7:$M$100,2,FALSE)),\"\")","v":""}]
[]
[null,"Total System R-value Calculator"]
[]
[]
[null,null,"Layer 1","Layer 2 (Air space)","Layer 3","Layer 4","Layer 5","Layer 6","Layer 7"]
[]
[null,"Ventilation",null,null,{"$f":"IF(D49=\"Slightly Ventilated\",\"A slightly ventilated air space is derated by 45% for each layer between the cavity and layer 1 to account for lower thermal resistance\",IF(D49=\"Well Ventilated\",\"A well ventilated air space is 100% derated for each layer between the cavity and layer 1 to account for lower thermal resistance\",IF(D49=\"\", \"Select ventilation strategy\",\"\")))","v":"Select ventilation strategy"}]
[]
[null,"Material "]
[]
[]
[null,"Thickness (mm)"]
[]
[null,"Conductivity (W/mK)",{"$f":"IFERROR(INDEX(User_Library!$F$11:$F$64,MATCH(C51,User_Library!$E$11:$E$64,0)),\"\")","v":""},{"$f":"IFERROR(INDEX(User_Library!$F$11:$F$64,MATCH(D51,User_Library!$E$11:$E$64,0)),\"\")","v":""},{"$f":"IFERROR(INDEX(User_Library!$F$11:$F$64,MATCH(E51,User_Library!$E$11:$E$64,0)),\"\")","v":""},{"$f":"IFERROR(INDEX(User_Library!$F$11:$F$64,MATCH(F51,User_Library!$E$11:$E$64,0)),\"\")","v":""},{"$f":"IFERROR(INDEX(User_Library!$F$11:$F$64,MATCH(G51,User_Library!$E$11:$E$64,0)),\"\")","v":""},{"$f":"IFERROR(INDEX(User_Library!$F$11:$F$64,MATCH(H51,User_Library!$E$11:$E$64,0)),\"\")","v":""},{"$f":"IFERROR(INDEX(User_Library!$F$11:$F$64,MATCH(I51,User_Library!$E$11:$E$64,0)),\"\")","v":""}]
[]
[null,"Framing Material"]
[]
[null,"Metal Frame, Web Thickness (mm)"]
[]
[null,"Metal Frame, Flange Width (mm)"]
[]
[null,"Framing Area %"]
[]
[null,"Thermal Break Material"]
[]
[null,"Thermal Break Thickness (mm)"]
[]
[null,"Thermal Break Overlap Area %"]
[]
[null,"Resistance (m².K/W)",{"$f":"IFERROR('J1.5B_Calcs'!B47,\"0.00\")","v":"0"},{"$f":"IFERROR('J1.5B_Calcs'!C47,\"0.00\")","v":"0"},{"$f":"IFERROR('J1.5B_Calcs'!D47,\"0.00\")","v":"0"},{"$f":"IFERROR('J1.5B_Calcs'!E47,\"0.00\")","v":"0"},{"$f":"IFERROR('J1.5B_Calcs'!F47,\"0.00\")","v":"0"},{"$f":"IFERROR('J1.5B_Calcs'!G47,\"0.00\")","v":"0"},{"$f":"IFERROR('J1.5B_Calcs'!H47,\"0.00\")","v":"0"}]
[]
[null,"Wall Construction",null,null,null,null,null,null,{"$f":"IFERROR(INDEX(NCC_Support_Text!$B$98:$B$101,MATCH(E74,NCC_Support_Text!$A$98:$A$101,0)),\"\")","v":""}]
[]
[null,null,null,null,null,"Internal Surface Resistance (still air, on a wall)",null,null,{"$f":"IFERROR(INDEX(NCC_Support_Text!$B$110:$B$113,MATCH(F76,NCC_Support_Text!$A$110:$A$113,0)),\"\")","v":0.12}]
[]
[null,null,null,null,null,null,"System R-Value (m².K/W)",null,{"$f":"'J1.5B_Calcs'!B56","v":0.12}]
[]
[null,null,null,null,null,null,"System U-Value (W/m².K)",null,{"$f":"IFERROR(1/I78,\"\")","v":8.3333333333333339}]
[]
[]
[]
[]
[]
[]
[]
[null,"IMPORTANT NOTICE AND DISCLAIMER IN RESPECT OF THIS CALCULATOR"]

{"sheet":"Shading_Systems","index":5,"n_rows":47,"n_cols":7,"rows_kept":47,"cut":false,"hidden":false,"merged":[[0,1,3,9],[6,1,6,2],[52,1,53,7],[4,1,5,9]]}
[]
[]
[]
[]
[null,"Calculator"]
[]
[null,"Shading Systems"]
[]
[]
[null,null,"Shading Reference","Shading Type","P","G","H"]
[null,null,null,null,"(m)","(m)","(m)"]
[null,1]
[]
[null,2]
[]
[null,3]
[]
[null,4]
[]
[null,5]
[]
[null,6]
[]
[null,7]
[]
[null,8]
[]
[null,9]
[]
[null,10]
[]
[null,11]
[]
[null,12]
[]
[null,13]
[]
[null,14]
[]
[null,15]
[]
[null,16]
[]
[]
[]
[]
[null,"IMPORTANT NOTICE AND DISCLAIMER IN RESPECT OF THIS CALCULATOR\n"]

{"sheet":"Wall_Glazing_Areas","index":6,"n_rows":205,"n_cols":13,"rows_kept":205,"cut":false,"hidden":false,"merged":[[209,1,210,5],[9,2,9,3],[9,4,9,5],[5,2,5,5],[190,2,190,6],[186,3,186,4],[7,2,7,5],[20,1,20,2],[190,8,190,11],[5,6,5,8],[191,10,191,11],[193,10,193,11],[2,11,3,11],[0,1,3,6],[9,6,9,8],[9,9,9,11],[4,11,4,13]]}
[]
[]
[]
[]
[null,null,null,null,null,null,null,null,null,null,null,"Calculator"]
[null,"Results",null,null,null,null,{"$f":"General_Information!C21","v":0},null,null,{"$f":"General_Information!C23","v":0}]
[]
[null,null,"Method 1",null,null,null,null,null,null,"Method 2"]
[]
[]
[]
[null,null,null,null,null,null,null,null,{"$f":"IFERROR('J1.5A_Calcs'!B11,\"\")","v":""},null,null,false]
[]
[]
[]
[]
[]
[]
[]
[null,null,false,false,false,false]
[null,"Wall Glazing Area"]
[null,null,null,null,null,{"$f":"IF(C28=TRUE,C28,\"\")","v":""}]
[null,null,null,null,null,null,null,null,null,null,"Compliant Solution = "]
[null,null,null,null,null,null,null,null,null,null,"Non-Compliant Solution = "]
[]
[]
[null,"North","Glazing Reference","Height (m)","Width (m)","Glazing Area (m²)","Shading Reference",null,"Wall Reference","Wall Area (m²)",null,"Total Area (m²)","Internal "]
[]
[null,1,null,null,null,null,null,null,null,null,null,{"$f":"IFERROR(F29+J29,\"\")","v":0}]
[]
[null,2,null,null,null,null,null,null,null,null,null,{"$f":"F31+J31","v":0}]
[]
[null,3,null,null,null,null,null,null,null,null,null,{"$f":"F33+J33","v":0}]
[]
[null,4,null,null,null,null,null,null,null,null,null,{"$f":"F35+J35","v":0}]
[]
[null,5,null,null,null,null,null,null,null,null,null,{"$f":"F37+J37","v":0}]
[]
[null,6,null,null,null,null,null,null,null,null,null,{"$f":"F39+J39","v":0}]
[]
[null,7,null,null,null,null,null,null,null,null,null,{"$f":"F41+J41","v":0}]
[]
[null,8,null,null,null,null,null,null,null,null,null,{"$f":"F43+J43","v":0}]
[]
[null,9,null,null,null,null,null,null,null,null,null,{"$f":"F45+J45","v":0}]
[]
[null,10,null,null,null,null,null,null,null,null,null,{"$f":"F47+J47","v":0}]
[]
[null,11,null,null,null,null,null,null,null,null,null,{"$f":"F49+J49","v":0}]
[]
[null,12,null,null,null,null,null,null,null,null,null,{"$f":"F51+J51","v":0}]
[]
[null,13,null,null,null,null,null,null,null,null,null,{"$f":"F53+J53","v":0}]
[]
[null,14,null,null,null,null,null,null,null,null,null,{"$f":"F55+J55","v":0}]
[]
[null,15,null,null,null,null,null,null,null,null,null,{"$f":"F57+J57","v":0}]
[]
[null,16,null,null,null,null,null,null,null,null,null,{"$f":"F59+J59","v":0}]
[]
[null,null,null,null,"Result","Target"]
[null,null,null,"Wall-glazing U-Value  (W/m².K)",{"$f":"IFERROR('J1.5A_Calcs'!C73,\"\")","v":""},{"$f":"IF(E62=\"\",\"\",'J1.5A_Calcs'!$B$11)","v":""},null,"Glazing Area (m²)",{"$f":"IF('J1.5A_Calcs'!AI51=0,\"\",'J1.5A_Calcs'!AI53)","v":""},null,"Average Glazing U-Value (W/m².K)",{"$f":"IFERROR('J1.5A_Calcs'!C67,\"\")","v":""}]
[null,null,null,"Solar Admittance",{"$f":"IF('J1.5A_Calcs'!C74=0,\"\",'J1.5A_Calcs'!C74)","v":""},{"$f":"IF(E63=\"\",\"\",'J1.5A_Calcs'!G$11)","v":""},null,"Wall Area (m²)",{"$f":"IF('J1.5A_Calcs'!AI51=0,\"\",'J1.5A_Calcs'!AI51-'J1.5A_Calcs'!AI53)","v":""},null,"Average Glazing SHGC",{"$f":"IFERROR('J1.5A_Calcs'!C70,\"\")","v":0}]
[null,null,null,null,null,null,null,"Glazing to Façade Ratio",{"$f":"IF('J1.5A_Calcs'!AI51=0,\"\",'J1.5A_Calcs'!AI55)","v":""},null,"Average Wall R-Value (m².K/W)",{"$f":"IFERROR(1/'J1.5A_Calcs'!C68,\"\")","v":""}]
[]
[]
[null,"East","Glazing Reference","Height (m)","Width (m)","Glazing Area (m²)","Shading Reference",null,"Wall Reference","Wall Area (m²)",null,"Total Area (m²)","Internal "]
[]
[null,1,null,null,null,null,null,null,null,null,null,{"$f":"F69+J69","v":0}]
[]
[null,2,null,null,null,null,null,null,null,null,null,{"$f":"F71+J71","v":0}]
[]
[null,3,null,null,null,null,null,null,null,null,null,{"$f":"F73+J73","v":0}]
[]
[null,4,null,null,null,null,null,null,null,null,null,{"$f":"F75+J75","v":0}]
[]
[null,5,null,null,null,null,null,null,null,null,null,{"$f":"F77+J77","v":0}]
[]
[null,6,null,null,null,null,null,null,null,null,null,{"$f":"F79+J79","v":0}]
[]
[null,7,null,null,null,null,null,null,null,null,null,{"$f":"F81+J81","v":0}]
[]
[null,8,null,null,null,null,null,null,null,null,null,{"$f":"F83+J83","v":0}]
[]
[null,9,null,null,null,null,null,null,null,null,null,{"$f":"F85+J85","v":0}]
[]
[null,10,null,null,null,null,null,null,null,null,null,{"$f":"F87+J87","v":0}]
[]
[null,11,null,null,null,null,null,null,null,null,null,{"$f":"F89+J89","v":0}]
[]
[null,12,null,null,null,null,null,null,null,null,null,{"$f":"F91+J91","v":0}]
[]
[null,13,null,null,null,null,null,null,null,null,null,{"$f":"F93+J93","v":0}]
[]
[null,14,null,null,null,null,null,null,null,null,null,{"$f":"F95+J95","v":0}]
[]
[null,15,null,null,null,null,null,null,null,null,null,{"$f":"F97+J97","v":0}]
[]
[null,16,null,null,null,null,null,null,null,null,null,{"$f":"F99+J99","v":0}]
[]
[null,null,null,null,"Result","Target"]
[null,null,null,"Wall-glazing U-Value  (W/m².K)",{"$f":"IFERROR('J1.5A_Calcs'!C111,\"\")","v":""},{"$f":"IF(E102=\"\",\"\",'J1.5A_Calcs'!$B$11)","v":""},null,"Glazing Area (m²)",{"$f":"IF('J1.5A_Calcs'!AI89=0,\"\",'J1.5A_Calcs'!AI91)","v":""},null,"Average Glazing U-Value (W/m².K)",{"$f":"IFERROR('J1.5A_Calcs'!C105,\"\")","v":""}]
[null,null,null,"Solar Admittance",{"$f":"IF('J1.5A_Calcs'!C112=0,\"\",'J1.5A_Calcs'!C112)","v":""},{"$f":"IF(E103=\"\",\"\",'J1.5A_Calcs'!H$11)","v":""},null,"Wall Area (m²)",{"$f":"IF('J1.5A_Calcs'!AI89=0,\"\",'J1.5A_Calcs'!AI89-'J1.5A_Calcs'!AI91)","v":""},null,"Average Glazing SHGC",{"$f":"IFERROR('J1.5A_Calcs'!C108,\"\")","v":0}]
[null,null,null,null,null,null,null,"Glazing to Façade Ratio",{"$f":"IF('J1.5A_Calcs'!AI89=0,\"\",'J1.5A_Calcs'!AI93)","v":""},null,"Average Wall R-Value (m².K/W)",{"$f":"IFERROR(1/'J1.5A_Calcs'!C106,\"\")","v":""}]
[]
[]
[null,"South","Glazing Reference","Height (m)","Width (m)","Glazing Area (m²)","Shading Reference",null,"Wall Reference","Wall Area (m²)",null,"Total Area (m²)","Internal "]
[]
[null,1,null,null,null,null,null,null,null,null,null,{"$f":"F109+J109","v":0}]
[]
[null,2,null,null,null,null,null,null,null,null,null,{"$f":"F111+J111","v":0}]
[]
[null,3,null,null,null,null,null,null,null,null,null,{"$f":"F113+J113","v":0}]
[]
[null,4,null,null,null,null,null,null,null,null,null,{"$f":"F115+J115","v":0}]
[]
[null,5,null,null,null,null,null,null,null,null,null,{"$f":"F117+J117","v":0}]
[]
[null,6,null,null,null,null,null,null,null,null,null,{"$f":"F119+J119","v":0}]
[]
[null,7,null,null,null,null,null,null,null,null,null,{"$f":"F121+J121","v":0}]
[]
[null,8,null,null,null,null,null,null,null,null,null,{"$f":"F123+J123","v":0}]
[]
[null,9,null,null,null,null,null,null,null,null,null,{"$f":"F125+J125","v":0}]
[]
[null,10,null,null,null,null,null,null,null,null,null,{"$f":"F127+J127","v":0}]
[]
[null,11,null,null,null,null,null,null,null,null,null,{"$f":"F129+J129","v":0}]
[]
[null,12,null,null,null,null,null,null,null,null,null,{"$f":"F131+J131","v":0}]
[]
[null,13,null,null,null,null,null,null,null,null,null,{"$f":"F133+J133","v":0}]
[]
[null,14,null,null,null,null,null,null,null,null,null,{"$f":"F135+J135","v":0}]
[]
[null,15,null,null,null,null,null,null,null,null,null,{"$f":"F137+J137","v":0}]
[]
[null,16,null,null,null,null,null,null,null,null,null,{"$f":"F139+J139","v":0}]
[]
[null,null,null,null,"Result","Target"]
[null,null,null,"Wall-glazing U-Value  (W/m².K)",{"$f":"IFERROR('J1.5A_Calcs'!C149,\"\")","v":""},{"$f":"IF(E142=\"\",\"\",'J1.5A_Calcs'!$B$11)","v":""},null,"Glazing Area (m²)",{"$f":"IF('J1.5A_Calcs'!AI127=0,\"\",'J1.5A_Calcs'!AI129)","v":""},null,"Average Glazing U-Value (W/m².K)",{"$f":"IFERROR('J1.5A_Calcs'!C143,\"\")","v":""}]
[null,null,null,"Solar Admittance",{"$f":"IF('J1.5A_Calcs'!C150=0,\"\",'J1.5A_Calcs'!C150)","v":""},{"$f":"IF(E143=\"\",\"\",'J1.5A_Calcs'!I$11)","v":""},null,"Wall Area (m²)",{"$f":"IF('J1.5A_Calcs'!AI127=0,\"\",'J1.5A_Calcs'!AI127-'J1.5A_Calcs'!AI129)","v":""},null,"Average Glazing SHGC",{"$f":"IFERROR('J1.5A_Calcs'!C146,\"\")","v":0}]
[null,null,null,null,null,null,null,"Glazing to Façade Ratio",{"$f":"IF('J1.5A_Calcs'!AI127=0,\"\",'J1.5A_Calcs'!AI131)","v":""},null,"Average Wall R-Value (m².K/W)",{"$f":"IFERROR(1/'J1.5A_Calcs'!C144,\"\")","v":""}]
[]
[]
[null,"West","Glazing Reference","Height (m)","Width (m)","Glazing Area (m²)","Shading Reference",null,"Wall Reference","Wall Area (m²)",null,"Total Area (m²)","Internal "]
[]
[null,1,null,null,null,null,null,null,null,null,null,{"$f":"IFERROR(F149+J149,\"\")","v":0}]
[]
[null,2,null,null,null,null,null,null,null,null,null,{"$f":"F151+J151","v":0}]
[]
[null,3,null,null,null,null,null,null,null,null,null,{"$f":"F153+J153","v":0}]
[]
[null,4,null,null,null,null,null,null,null,null,null,{"$f":"F155+J155","v":0}]
[]
[null,5,null,null,null,null,null,null,null,null,null,{"$f":"F157+J157","v":0}]
[]
[null,6,null,null,null,null,null,null,null,null,null,{"$f":"F159+J159","v":0}]
[]
[null,7,null,null,null,null,null,null,null,null,null,{"$f":"F161+J161","v":0}]
[]
[null,8,null,null,null,null,null,null,null,null,null,{"$f":"F163+J163","v":0}]
[]
[null,9,null,null,null,null,null,null,null,null,null,{"$f":"F165+J165","v":0}]
[]
[null,10,null,null,null,null,null,null,null,null,null,{"$f":"F167+J167","v":0}]
[]
[null,11,null,null,null,null,null,null,null,null,null,{"$f":"F169+J169","v":0}]
[]
[null,12,null,null,null,null,null,null,null,null,null,{"$f":"F171+J171","v":0}]
[]
[null,13,null,null,null,null,null,null,null,null,null,{"$f":"F173+J173","v":0}]
[]
[null,14,null,null,null,null,null,null,null,null,null,{"$f":"F175+J175","v":0}]
[]
[null,15,null,null,null,null,null,null,null,null,null,{"$f":"F177+J177","v":0}]
[]
[null,16,null,null,null,null,null,null,null,null,null,{"$f":"F179+J179","v":0}]
[]
[null,null,null,null,"Result","Target"]
[null,null,null,"Wall-glazing U-Value  (W/m².K)",{"$f":"IFERROR('J1.5A_Calcs'!C187,\"\")","v":""},{"$f":"IF(E182=\"\",\"\",'J1.5A_Calcs'!$B$11)","v":""},null,"Glazing Area (m²)",{"$f":"IF('J1.5A_Calcs'!AI165=0,\"\",'J1.5A_Calcs'!AI167)","v":""},null,"Average Glazing U-Value (W/m².K)",{"$f":"IFERROR('J1.5A_Calcs'!C181,\"\")","v":""}]
[null,null,null,"Solar Admittance",{"$f":"IF('J1.5A_Calcs'!C188=0,\"\",'J1.5A_Calcs'!C188)","v":""},{"$f":"IF(E183=\"\",\"\",'J1.5A_Calcs'!J$11)","v":""},null,"Wall Area (m²)",{"$f":"IF('J1.5A_Calcs'!AI165=0,\"\",'J1.5A_Calcs'!AI165-'J1.5A_Calcs'!AI167)","v":""},null,"Average Glazing SHGC",{"$f":"IFERROR('J1.5A_Calcs'!C184,\"\")","v":0}]
[null,null,null,null,null,null,null,"Glazing to Façade Ratio",{"$f":"IF('J1.5A_Calcs'!AI165=0,\"\",'J1.5A_Calcs'!AI169)","v":""},null,"Average Wall R-Value (m².K/W)",{"$f":"IFERROR(1/'J1.5A_Calcs'!C182,\"\")","v":""}]
[]
[]
[null,"Reference Building"]
[]
[null,null,"Include shading?"]
[]
[null,null,"Method 1",null,null,null,null,null,"Method 2"]
[null,null,"Glazing to Façade Ratio","Wall U-Value","Glazing U-Value","Shading Multiplier","SHGC",null,"Wall U-Value  (W/m².K)","Glazing U-Value  (W/m².K)","SHGC"]
[null,null,null," (W/m².K)"," (W/m².K)"]
[null,"North",{"$f":"IFERROR('J1.5A_Calcs'!Y69,\"\")","v":""},{"$f":"IFERROR('J1.5A_Calcs'!Y68,0)","v":0},{"$f":"IFERROR(IF(C194=\"\",\"\",(MIN(MAX(1.5,'J1.5A_Calcs'!Y67),5.8))),\"\")","v":""},{"$f":"IFERROR('J1.5A_Calcs'!Y72,\"\")","v":0},{"$f":"IFERROR(MIN(MAX(0.16,'J1.5A_Calcs'!Y71),0.81),\"\")","v":""},null,{"$f":"IFERROR('J1.5A_Calcs'!C202,\"\")","v":""},{"$f":"IFERROR(MIN(MAX(1.5,'J1.5A_Calcs'!C203),5.8),\"\")","v":""},{"$f":"IFERROR(IF(D189=\"None\",MIN(MAX(0.16,'J1.5A_Calcs'!C205),0.81),IF(D189=\"As Proposed\",MIN(MAX(0.16,'J1.5A_Calcs'!C204),0.81),0)),\"\")","v":0}]
[]
[null,"East",{"$f":"IFERROR('J1.5A_Calcs'!Y107,\"\")","v":""},{"$f":"IFERROR('J1.5A_Calcs'!Y106,\"\")","v":0},{"$f":"IFERROR(IF(C196=\"\",\"\",(MIN(MAX(1.5,'J1.5A_Calcs'!Y105),5.8))),\"\")","v":""},{"$f":"IFERROR('J1.5A_Calcs'!Y110,\"\")","v":0},{"$f":"IFERROR(MIN(MAX(0.16,'J1.5A_Calcs'!Y109),0.81),\"\")","v":""}]
[]
[null,"South",{"$f":"IFERROR('J1.5A_Calcs'!Y145,\"\")","v":""},{"$f":"IFERROR('J1.5A_Calcs'!Y144,\"\")","v":0},{"$f":"IFERROR(IF(C198=\"\",\"\",(MIN(MAX(1.5,'J1.5A_Calcs'!Y143),5.8))),\"\")","v":""},{"$f":"IFERROR('J1.5A_Calcs'!Y148,\"\")","v":0},{"$f":"IFERROR(MIN(MAX(0.16,'J1.5A_Calcs'!Y147),0.81),\"\")","v":""}]
[]
[null,"West",{"$f":"IFERROR('J1.5A_Calcs'!Y183,\"\")","v":""},{"$f":"IFERROR('J1.5A_Calcs'!Y182,\"\")","v":0},{"$f":"IFERROR(IF(C200=\"\",\"\",(MIN(MAX(1.5,'J1.5A_Calcs'!Y181),5.8))),\"\")","v":""},{"$f":"IFERROR('J1.5A_Calcs'!Y186,\"\")","v":0},{"$f":"IFERROR(MIN(MAX(0.16,'J1.5A_Calcs'!Y185),0.81),\"\")","v":""}]
[]
[]
[]
[]
[null,"IMPORTANT NOTICE AND DISCLAIMER IN RESPECT OF THIS  CALCULATOR\n"]

{"sheet":"User_Library","index":7,"n_rows":40,"n_cols":15,"rows_kept":40,"cut":false,"hidden":false,"merged":[[4,12,4,14],[13,6,98,6],[0,1,3,6],[4,1,4,3],[4,4,4,6],[4,9,4,10]]}
[]
[]
[]
[]
[null,null,null,null,null,null,null,null,null,null,null,null,"Calculator"]
[null,"Glass Types","U-value (W/m2.K)","SHGC","Materials","Thermal Conductivity (W/m.K)","R-Value (m2.K/W) ","Frame Types","System Types","Wall Types","R-Value (m2.K/W)","NCC Spec J1.5B, Spandrels","R-Value (m2.K/W) ","Thermal Bridges","Thermal Conductivity (W/m.K)"]
[]
[null,"DEFAULTS (GENERIC)","-","-","DEFAULTS (GENERIC)","-","-","DEFAULTS (GENERIC)","DEFAULTS (GENERIC)","DEFAULTS (GENERIC)","-","DEFAULTS (GENERIC)",null,"DEFAULTS (GENERIC)","-"]
[]
[null,"Double Glazed Unit - single low-E coating",1.8,0.4,"Airspace - non-reflective","n/a",0.17,"Aluminium","Awning","Masonry (90mm glass wool + timber studs)",2.39,"Spandrel Config 1 - no ",0.3,"None",0]
[null,"Double Glazed Unit  - double low-E coating",1.6,0.35,"Airspace - 20mm, inner surface 0.05 emittance","n/a",0.48,"Steel","Casement","Cavity masonry  (90mm glass wool + timber studs)",2.65,"Spandrel Config 1 - R0.5 ",0.39,"Timber",0.1]
[null,"Double Glazed Unit - triple low-E coating",1.3,0.25,"Airspace - 70mm, inner surface 0.05 emittance","n/a",0.43,"Timber","Fixed","Timber wall (uninsulated + timber studs)",0.25,"Spandrel Config  1 - R1.0 ",0.42,"Steel",47.5]
[null,"Double Glazed Unit - no low-E coating",2.8,0.65,"Airspace - 35mm, outer surface 0.20 emittance","n/a",0.5,"uPVC","Sliding Door","Timber wall (90mm glass wool + timber studs)",2.3199999999999998,"Spandrel Config 1 - R1.5 ",0.44,"EPS",0.04]
[null,"Single glazing",5.6,0.56000000000000005,"Aluminium - sheeting",210,null,"Aluminium thermally broken","Punch Window",null,null,"Spandrel Config 1 - R2.0 ",0.45]
[null,"Single Glazing - low-E coating",3.6,0.53,"Cement render (1 cement: 4 sand)",0.53,null,null,null,"USER (DEFINED)","-","Spandrel Config 2 - no ",0.35,"USER (DEFINED)","-"]
[null,null,null,null,"Clay brick - 2.75kg",0.55000000000000004,null,"USER (DEFINED)","USER (DEFINED)","Darren's Wall",1.5265931661297101,"Spandrel Config 2 - R0.5 ",0.41]
[null,"USER (DEFINED)","-","-","Clay brick - 3.25kg",0.65,null,null,null,null,null,"Spandrel Config 2 - R1.0 ",0.43]
[null,null,null,null,"Clay brick - 3.75kg",0.78,null,null,null,null,null,"Spandrel Config 2 - R1.5 ",0.44]
[null,null,null,null,"Concrete - auto aerated, density 350kg/m3",0.1,null,null,null,null,null,"Spandrel Config 2 - R2.0 ",0.45]
[null,null,null,null,"Concrete - auto aerated, density 900kg/m3",0.27,null,null,null,null,null,"Spandrel Config 3  - no ",0.84]
[null,null,null,null,"Concrete - solid",1.44,null,null,null,null,null,"Spandrel Config 3 - R0.5 ",0.96]
[null,null,null,null,"Concrete block - 140 mm dense or 190mm lightweight",0.85,null,null,null,null,null,"Spandrel Config 3 - R1.0 ",1.03]
[null,null,null,null,"Concrete block - 140mm lightweight",0.67,null,null,null,null,null,"Spandrel Config 3 - R1.5 ",1.07]
[null,null,null,null,"Concrete block - 190mm dense or 90mm dense solid",1.1000000000000001,null,null,null,null,null,"Spandrel Config 3 - R2.0 ",1.0900000000000001]
[null,null,null,null,"Concrete block - 90mm dense hollow or 90mm lightweight solid",0.75,null,null,null,null,null,"Spandrel Config 4 - no ",0.91]
[null,null,null,null,"Concrete block - 90mm lightweight",0.55000000000000004,null,null,null,null,null,"Spandrel Config 4 - R0.5 ",1]
[null,null,null,null,"Concrete or terra cotta tiles",0.81,null,null,null,null,null,"Spandrel Config 4 - R1.0 ",1.05]
[null,null,null,null,"EPS",0.04,null,null,null,null,null,"Spandrel Config 4 - R1.5 ",1.0900000000000001]
[null,null,null,null,"Fibre-cement",0.25,null,null,null,null,null,"Spandrel Config 4 - R2.0 ",1.1100000000000001]
[null,null,null,null,"Glass wool",0.04]
[null,null,null,null,"Gypsum plasterboard",0.17,null,null,null,null,null,"USER (DEFINED)","-"]
[null,null,null,null,"Particleboard",0.12]
[null,null,null,null,"Pine weatherboards",0.1]
[null,null,null,null,"Plywood",0.14000000000000001]
[null,null,null,null,"Prestressed hollow core concrete panel",0.8]
[null,null,null,null,"Steel",47.5]
[null,null,null,null,"Timber - radiata pine (Across the grain)",0.1]
[null,null,null,null,"Timber - kiln dried hardwood (across the grain)",0.16]
[]
[null,null,null,null,"USER (DEFINED)","-"]

{"sheet":"Report","index":8,"n_rows":106,"n_cols":10,"rows_kept":106,"cut":false,"hidden":false,"merged":[[4,9,5,10],[55,6,58,6],[55,7,58,7],[55,8,58,8],[78,5,79,5],[68,5,70,5],[78,6,79,6],[68,6,70,6],[60,5,62,5],[29,2,30,2],[6,1,6,2],[12,5,12,8],[33,2,34,2],[8,4,10,7],[83,5,85,5],[83,6,85,6],[68,8,70,8],[78,7,79,7],[78,8,79,8],[0,1,3,10],[97,5,97,8],[93,4,94,4],[87,5,87,8],[89,4,91,4],[55,4,58,4],[78,4,79,4],[93,5,94,5],[93,6,94,6],[93,7,94,7],[93,8,94,8],[89,5,91,5],[89,6,91,6],[89,7,91,7],[83,7,85,7],[83,8,85,8],[111,1,112,5],[45,1,45,10],[64,5,66,5],[64,6,66,6],[64,7,66,7],[64,8,66,8],[60,6,62,6],[60,7,62,7],[60,8,62,8],[55,5,58,5],[83,4,85,4],[64,4,66,4],[60,4,62,4],[68,4,70,4],[68,7,70,7],[89,8,91,8]]}
[]
[]
[]
[]
[null,null,null,null,null,null,null,null,null,"Calculator"]
[]
[null,"Project Summary"]
[]
[null,null,null,null,"The summary below provides an overview of where compliance has been achieved for Specification J1.5a - Calculation of U-Value and solar admittance - Method 1 (Single Aspect) and Method 2 (Multiple Apects).",null,null,null,"Compliant Solution = "]
[null,null,"Date",null,null,null,null,null,"Non-Compliant Solution = "]
[null,null,{"$f":"TODAY()","v":"2020-11-26"}]
[]
[null,null,"Name",null,null,"Method 1",null,null,null,"Method 2"]
[null,null,{"$f":"General_Information!C10","v":0},null,null,"North","East","South","West","All"]
[]
[null,null,"Company",null,{"$f":"Wall_Glazing_Areas!D62","v":"Wall-glazing U-Value  (W/m².K)"},{"$f":"Wall_Glazing_Areas!E62","v":""},{"$f":"Wall_Glazing_Areas!E102","v":""},{"$f":"Wall_Glazing_Areas!E142","v":""},{"$f":"Wall_Glazing_Areas!E182","v":""},{"$f":"IFERROR('J1.5A_Calcs'!C207,\"\")","v":""}]
[null,null,{"$f":"General_Information!C14","v":0},null,null,{"$f":"Wall_Glazing_Areas!F62","v":""},{"$f":"Wall_Glazing_Areas!F102","v":""},{"$f":"Wall_Glazing_Areas!F142","v":""},{"$f":"Wall_Glazing_Areas!F182","v":""},{"$f":"'J1.5A_Calcs'!B11","v":{"$error":"#N/A"}}]
[null,null,null,null,{"$f":"Wall_Glazing_Areas!D63","v":"Solar Admittance"},{"$f":"Wall_Glazing_Areas!E63","v":""},{"$f":"Wall_Glazing_Areas!E103","v":""},{"$f":"Wall_Glazing_Areas!E143","v":""},{"$f":"Wall_Glazing_Areas!E183","v":""}]
[null,null,"Position",null,null,{"$f":"Wall_Glazing_Areas!F63","v":""},{"$f":"Wall_Glazing_Areas!F103","v":""},{"$f":"Wall_Glazing_Areas!F143","v":""},{"$f":"Wall_Glazing_Areas!F183","v":""}]
[null,null,{"$f":"General_Information!C12","v":0},null,null,null,null,null,{"$f":"'J1.5A_Calcs'!A209","v":"AC Energy Value"},{"$f":"'J1.5A_Calcs'!C209","v":0}]
[null,null,null,null,null,null,null,null,null,{"$f":"'J1.5A_Calcs'!C208","v":{"$error":"#N/A"}}]
[null,null,{"$f":"General_Information!B16","v":"Building Name / Address"}]
[null,null,{"$f":"General_Information!C16","v":0}]
[null,null,{"$f":"General_Information!C17","v":0}]
[null,null,null,null,"Method 1"]
[null,null,{"$f":"General_Information!B19","v":"Building State"}]
[null,null,{"$f":"General_Information!C19","v":0}]
[]
[null,null,{"$f":"General_Information!B23","v":"Climate Zone"}]
[null,null,{"$f":"General_Information!C23","v":0}]
[]
[]
[null,null,{"$f":"General_Information!B21","v":"Building Classification"}]
[null,null,{"$f":"General_Information!C21","v":0}]
[]
[]
[null,null,{"$f":"General_Information!B25","v":"Storeys Above Ground"},null,"Method 2"]
[null,null,{"$f":"General_Information!C25","v":0}]
[]
[null,null,"Tool Version"]
[null,null,"1.2 (June 2020)"]
[]
[]
[]
[]
[null,"Project Details"]
[]
[]
[]
[null,null,null,null,null,"North","East","South","West"]
[]
[null,null,null,null,{"$f":"Wall_Glazing_Areas!H62","v":"Glazing Area (m²)"},{"$f":"Wall_Glazing_Areas!I62","v":""},{"$f":"Wall_Glazing_Areas!I102","v":""},{"$f":"Wall_Glazing_Areas!I142","v":""},{"$f":"Wall_Glazing_Areas!I182","v":""}]
[]
[null,null,null,null,{"$f":"Wall_Glazing_Areas!H64","v":"Glazing to Façade Ratio"},{"$f":"Wall_Glazing_Areas!I64","v":""},{"$f":"Wall_Glazing_Areas!I104","v":""},{"$f":"Wall_Glazing_Areas!I144","v":""},{"$f":"Wall_Glazing_Areas!I184","v":""}]
[]
[null,null,null,null,"Glazing References",{"$f":"ConcatUniq('J1.5A_Calcs'!C42:R42,\"    \")","v":""},{"$f":"ConcatUniq('J1.5A_Calcs'!C80:R80,\"    \")","v":""},{"$f":"ConcatUniq('J1.5A_Calcs'!C118:R118,\"   \")","v":""},{"$f":"ConcatUniq('J1.5A_Calcs'!C156:R156,\"   \")","v":""}]
[]
[]
[]
[]
[null,null,null,null,"Glazing System Types",{"$f":"ConcatUniq('J1.5A_Calcs'!C44:R44,\"   \")","v":""},{"$f":"ConcatUniq('J1.5A_Calcs'!C82:R82,\"   \")","v":""},{"$f":"ConcatUniq('J1.5A_Calcs'!C120:R120,\"   \")","v":""},{"$f":"ConcatUniq('J1.5A_Calcs'!C158:R158,\"   \")","v":""}]
[]
[]
[]
[null,null,null,null,"Glass Types",{"$f":"ConcatUniq('J1.5A_Calcs'!C45:R45,\"    \")","v":""},{"$f":"ConcatUniq('J1.5A_Calcs'!C83:R83,\"   \")","v":""},{"$f":"ConcatUniq('J1.5A_Calcs'!C121:R121,\"    \")","v":""},{"$f":"ConcatUniq('J1.5A_Calcs'!C159:R159,\"    \")","v":""}]
[]
[]
[]
[null,null,null,null,"Frame Types ",{"$f":"ConcatUniq('J1.5A_Calcs'!C46:R46,\"    \")","v":""},{"$f":"ConcatUniq('J1.5A_Calcs'!C84:R84,\"    \")","v":""},{"$f":"ConcatUniq('J1.5A_Calcs'!C122:R122,\"     \")","v":""},{"$f":"ConcatUniq('J1.5A_Calcs'!C160:R160,\"    \")","v":""}]
[]
[]
[]
[]
[]
[null,null,null,null,{"$f":"Wall_Glazing_Areas!K62","v":"Average Glazing U-Value (W/m².K)"},{"$f":"Wall_Glazing_Areas!L62","v":""},{"$f":"Wall_Glazing_Areas!L102","v":""},{"$f":"Wall_Glazing_Areas!L142","v":""},{"$f":"Wall_Glazing_Areas!L182","v":""}]
[]
[null,null,null,null,{"$f":"Wall_Glazing_Areas!K63","v":"Average Glazing SHGC"},{"$f":"Wall_Glazing_Areas!L63","v":0},{"$f":"Wall_Glazing_Areas!L103","v":0},{"$f":"Wall_Glazing_Areas!L143","v":0},{"$f":"Wall_Glazing_Areas!L183","v":0}]
[]
[null,null,null,null,"Shading Systems",{"$f":"ConcatUniq(Shading_Systems!D12:D42,\"   \")","v":""},{"$f":"ConcatUniq(Shading_Systems!D12:D42,\"   \")","v":""},{"$f":"ConcatUniq(Shading_Systems!D12:D42,\"   \")","v":""},{"$f":"ConcatUniq(Shading_Systems!D12:D42,\"   \")","v":""}]
[]
[]
[null,null,null,null,{"$f":"Wall_Glazing_Areas!H63","v":"Wall Area (m²)"},{"$f":"Wall_Glazing_Areas!I63","v":""},{"$f":"Wall_Glazing_Areas!I103","v":""},{"$f":"Wall_Glazing_Areas!I143","v":""},{"$f":"Wall_Glazing_Areas!I183","v":""}]
[]
[null,null,null,null,"Wall Types",{"$f":"ConcatUniq('J1.5A_Calcs'!S44:AH44,\"    \")","v":""},{"$f":"ConcatUniq('J1.5A_Calcs'!S82:AH82,\"    \")","v":""},{"$f":"ConcatUniq('J1.5A_Calcs'!S120:AH120,\"    \")","v":""},{"$f":"ConcatUniq('J1.5A_Calcs'!S158:AH158,\"    \")","v":""}]
[]
[]
[]
[null,null,null,null,"Methodology",{"$f":"Wall_Systems!D12","v":0}]
[]
[null,null,null,null,{"$f":"Wall_Systems!F10","v":"Wall Construction"},{"$f":"ConcatUniq('J1.5A_Calcs'!S45:AH45,\"   \")","v":""},{"$f":"ConcatUniq('J1.5A_Calcs'!S83:AH83,\"    \")","v":""},{"$f":"ConcatUniq('J1.5A_Calcs'!S121:AH121,\"    \")","v":""},{"$f":"ConcatUniq('J1.5A_Calcs'!S121:AH121,\"    \")","v":""}]
[]
[]
[]
[null,null,null,null,{"$f":"Wall_Systems!G10","v":"Wall Thickness"},{"$f":"ConcatUniq('J1.5A_Calcs'!S46:AH46,\"   \")","v":""},{"$f":"ConcatUniq('J1.5A_Calcs'!S84:AH84,\"    \")","v":""},{"$f":"ConcatUniq('J1.5A_Calcs'!S122:AH122,\"    \")","v":""},{"$f":"ConcatUniq('J1.5A_Calcs'!S160:AH160,\"    \")","v":""}]
[]
[]
[null,null,null,null,"Average Wall R-value (m².K/W)",{"$f":"Wall_Glazing_Areas!$L$64","v":""},{"$f":"Wall_Glazing_Areas!$L$104","v":""},{"$f":"Wall_Glazing_Areas!$L$144","v":""},{"$f":"Wall_Glazing_Areas!$L$184","v":""}]
[null,null,null,null,null,{"$f":"IF(COUNTIF('J1.5B_Calcs'!B7:H47,\"Steel - inc. EPS thermal break\")>0,\"Warning -  A default (generic) product has been chosen that needs verification by a Responsible Authority\",\"\")","v":""}]
[null,null,null,null,{"$f":"Wall_Systems!I10","v":"Solar Absorptance"},{"$f":"ConcatUniq(Wall_Systems!I12:I42,\"  \")","v":""},{"$f":"ConcatUniq(Wall_Systems!I12:I42,\" \")","v":""},{"$f":"ConcatUniq(Wall_Systems!I12:I42,\"  \")","v":""},{"$f":"ConcatUniq(Wall_Systems!I12:I42,\"  \")","v":""}]
[]
[]
[]
[]
[]
[]
[null,"IMPORTANT NOTICE AND DISCLAIMER IN RESPECT OF THIS CALCULATOR\n"]

{"sheet":"J1.5A_Calcs","index":9,"n_rows":250,"n_cols":76,"rows_kept":250,"cut":false,"hidden":true,"merged":[[116,2,116,17],[154,2,154,17],[0,0,2,16383],[40,2,40,17],[78,2,78,17],[8,6,8,9],[8,10,8,13],[40,18,40,33],[78,18,78,33],[116,18,116,33],[154,18,154,33],[65,22,65,23],[66,22,66,23],[67,22,67,23],[68,22,68,23],[69,22,69,23],[70,22,70,23],[71,22,71,23],[72,22,72,23],[64,24,64,26],[109,22,109,23],[110,22,110,23],[103,22,103,23],[102,24,102,26],[104,22,104,23],[105,22,105,23],[106,22,106,23],[107,22,107,23],[108,22,108,23],[146,22,146,23],[147,22,147,23],[148,22,148,23],[140,24,140,26],[141,22,141,23],[142,22,142,23],[143,22,143,23],[144,22,144,23],[145,22,145,23]]}
["All information held within this worksheet is for the reference and calculations of J1.5A only. This sheet is subject to auditing and maintainence and therefore must be clear and organsied."]
[]
[]
["Climate Zone",{"$f":"VLOOKUP(General_Information!C23,NCC_Support_Text!A88:B95,2,FALSE)","v":{"$error":"#N/A"}}]
["Building Class",{"$f":"VLOOKUP(General_Information!C21,NCC_Support_Text!A8:B27,2,FALSE)","v":{"$error":"#N/A"}}]
["Is class 3/9a ward/9c?",{"$f":"IF(OR(B5=\"9a ward\",B5=3,B5=\"9c\"),TRUE,FALSE)","v":{"$error":"#N/A"}}]
["Is display glazing",{"$f":"IF(B5=\"6 display\",TRUE,FALSE)","v":{"$error":"#N/A"}}]
[]
["Targets",null,null,null,null,null,"Solar admittance",null,null,null,"Weighting coefficient"]
[null,"U-value","R-value < 80%","U-value < 80%","R-value >= 80%","U-value >= 80%","North","East","South","West","North","East","South","West"]
[null,{"$f":"IF($B$6=TRUE,HLOOKUP($B$4,NCC_Support_Text!B38:I40,3,FALSE),HLOOKUP($B$4,NCC_Support_Text!B38:I40,2,FALSE))","v":{"$error":"#N/A"}},{"$f":"IF($B$6=TRUE,HLOOKUP($B$4,NCC_Support_Text!B32:I34,3,FALSE),HLOOKUP($B$4,NCC_Support_Text!B32:I34,2,FALSE))","v":{"$error":"#N/A"}},{"$f":"1/C11","v":{"$error":"#N/A"}},{"$f":"IF($B$6=TRUE,HLOOKUP($B$4,NCC_Support_Text!J32:Q34,3,FALSE),HLOOKUP($B$4,NCC_Support_Text!J32:Q34,2,FALSE))","v":{"$error":"#N/A"}},{"$f":"1/E11","v":{"$error":"#N/A"}},{"$f":"IF($B$6=TRUE,HLOOKUP($B$4,NCC_Support_Text!$B52:$I56,2,FALSE),HLOOKUP($B$4,NCC_Support_Text!$B45:$I49,2,FALSE))","v":{"$error":"#N/A"}},{"$f":"IF($B$6=TRUE,HLOOKUP($B$4,NCC_Support_Text!$B52:$I56,3,FALSE),HLOOKUP($B$4,NCC_Support_Text!$B45:$I49,3,FALSE))","v":{"$error":"#N/A"}},{"$f":"IF($B$6=TRUE,HLOOKUP($B$4,NCC_Support_Text!$B52:$I56,4,FALSE),HLOOKUP($B$4,NCC_Support_Text!$B45:$I49,4,FALSE))","v":{"$error":"#N/A"}},{"$f":"IF($B$6=TRUE,HLOOKUP($B$4,NCC_Support_Text!$B52:$I56,5,FALSE),HLOOKUP($B$4,NCC_Support_Text!$B45:$I49,5,FALSE))","v":{"$error":"#N/A"}},{"$f":"IF($B$6=TRUE,HLOOKUP($B$4,NCC_Support_Text!$B68:$I72,2,FALSE),HLOOKUP($B$4,NCC_Support_Text!$B61:$I65,2,FALSE))","v":{"$error":"#N/A"}},{"$f":"IF($B$6=TRUE,HLOOKUP($B$4,NCC_Support_Text!$B68:$I72,3,FALSE),HLOOKUP($B$4,NCC_Support_Text!$B61:$I65,3,FALSE))","v":{"$error":"#N/A"}},{"$f":"IF($B$6=TRUE,HLOOKUP($B$4,NCC_Support_Text!$B68:$I72,4,FALSE),HLOOKUP($B$4,NCC_Support_Text!$B61:$I65,4,FALSE))","v":{"$error":"#N/A"}},{"$f":"IF($B$6=TRUE,HLOOKUP($B$4,NCC_Support_Text!$B68:$I72,5,FALSE),HLOOKUP($B$4,NCC_Support_Text!$B61:$I65,5,FALSE))","v":{"$error":"#N/A"}}]
[]
[]
[]
["Summary of Systems"]
["No. of Vision",null,null,null,"No. of Wall",null,null,null,"No. of Shading Devices",null,null,null,null,null,null,null,null,null,"Multiplier","Multiplier"]
["Number","System Reference","System U-value","System SHGC","Number","System Reference","R-value","U-value","Number","Shading Reference","Shading Type","P / m","H / m","G / m","P/H","G/H","Interpolation?",null,"N, E, W","S"]
[null,null,null,null,null,null,null,null,null,null,null,null,null,null,null,null,"P/H","G/H",null,null,"Internal Window"]
[1,{"$f":"IF(Glazing_Systems!C$12<>0,Glazing_Systems!C$12,\"\")","v":""},{"$f":"IF(B19<>\"\",Glazing_Systems!J$12,\"\")","v":""},{"$f":"IF(B19<>\"\",Glazing_Systems!K$12)","v":false},1,{"$f":"IF(Wall_Systems!C$12<>0,Wall_Systems!C$12,\"\")","v":""},{"$f":"IF(F19<>\"\",Wall_Systems!H12,\"\")","v":""},{"$f":"IFERROR(1/G19,\"\")","v":""},1,{"$f":"IF(Shading_Systems!C$12<>\"\",Shading_Systems!C$12,\"\")","v":""},{"$f":"IF(J19<>\"\",Shading_Systems!D$12,\"\")","v":""},{"$f":"IF(J19<>\"\",Shading_Systems!$E$12,\"\")","v":""},{"$f":"IF(K19<>\"\",Shading_Systems!$G$12,\"\")","v":""},{"$f":"IF(L19<>\"\",Shading_Systems!$F$12,\"\")","v":""},{"$f":"IF(J19<>\"\",L19/M19,\"\")","v":""},{"$f":"IF(J19<>\"\",N19/M19,\"\")","v":""},{"$f":"IF(COUNTIF(NCC_Support_Text!L$62:V$62,O19)=1,FALSE,TRUE)","v":true},{"$f":"IF(COUNTIF(NCC_Support_Text!$K$63:$K$68,P19)=1,FALSE,TRUE)","v":true},{"$f":"IF($J19<>\"\",IF($K19=\"device\",0.35,IFERROR(AQ$72,AQ$66)),\"\")","v":""},{"$f":"IF($J19<>\"\",IF($K19=\"device\",0.35,IFERROR(BI$73,BI$67)),\"\")","v":""}]
[2,{"$f":"IF(Glazing_Systems!C$14<>0,Glazing_Systems!C$14,\"\")","v":""},{"$f":"IF(B20<>\"\",Glazing_Systems!J$14,\"\")","v":""},{"$f":"IF(B20<>\"\",Glazing_Systems!K$14)","v":false},2,{"$f":"IF(Wall_Systems!C$14<>0,Wall_Systems!C$14,\"\")","v":""},{"$f":"IF(F20<>\"\",Wall_Systems!H14,\"\")","v":""},{"$f":"IFERROR(1/G20,\"\")","v":""},2,{"$f":"IF(Shading_Systems!C$14<>\"\",Shading_Systems!C$14,\"\")","v":""},{"$f":"IF(J20<>\"\",Shading_Systems!D$14,\"\")","v":""},{"$f":"IF(J20<>\"\",Shading_Systems!$E$14,\"\")","v":""},{"$f":"IF(K20<>\"\",Shading_Systems!$G$14,\"\")","v":""},{"$f":"IF(L20<>\"\",Shading_Systems!$F$14,\"\")","v":""},{"$f":"IF(J20<>\"\",L20/M20,\"\")","v":""},{"$f":"IF(J20<>\"\",N20/M20,\"\")","v":""},{"$f":"IF(COUNTIF(NCC_Support_Text!L$62:V$62,O20)=1,FALSE,TRUE)","v":true},{"$f":"IF(COUNTIF(NCC_Support_Text!$K$63:$K$68,P20)=1,FALSE,TRUE)","v":true},{"$f":"IF($J20<>\"\",IF($K20=\"device\",0.35,IFERROR(AR$72,AR$66)),\"\")","v":""},{"$f":"IF($J20<>\"\",IF($K20=\"device\",0.35,IFERROR(BJ$73,BJ$67)),\"\")","v":""},{"$f":"IF(B19<>\"\",IF(Wall_Systems!L$12=TRUE,\"0\",Glazing_Systems!K$12))","v":false}]
[3,{"$f":"IF(Glazing_Systems!C$16<>0,Glazing_Systems!C$16,\"\")","v":""},{"$f":"IF(B21<>\"\",Glazing_Systems!J$16,\"\")","v":""},{"$f":"IF(B21<>\"\",Glazing_Systems!K$16)","v":false},3,{"$f":"IF(Wall_Systems!C$16<>0,Wall_Systems!C$16,\"\")","v":""},{"$f":"IF(F21<>\"\",Wall_Systems!H16,\"\")","v":""},"",3,{"$f":"IF(Shading_Systems!C$16<>\"\",Shading_Systems!C$16,\"\")","v":""},{"$f":"IF(J21<>\"\",Shading_Systems!D$16,\"\")","v":""},{"$f":"IF(J21<>\"\",Shading_Systems!$E$16,\"\")","v":""},{"$f":"IF(K21<>\"\",Shading_Systems!$G$16,\"\")","v":""},{"$f":"IF(L21<>\"\",Shading_Systems!$F$16,\"\")","v":""},{"$f":"IF(J21<>\"\",L21/M21,\"\")","v":""},"",{"$f":"IF(COUNTIF(NCC_Support_Text!L$62:V$62,O21)=1,FALSE,TRUE)","v":true},{"$f":"IF(COUNTIF(NCC_Support_Text!$K$63:$K$68,P21)=1,FALSE,TRUE)","v":true},{"$f":"IF($J21<>\"\",IF($K21=\"device\",0.35,IFERROR(AS$72,AS$66)),\"\")","v":""},{"$f":"IF($J21<>\"\",IF($K21=\"device\",0.35,IFERROR(BK$73,BK$67)),\"\")","v":""}]
[4,{"$f":"IF(Glazing_Systems!C$18<>0,Glazing_Systems!C$18,\"\")","v":""},{"$f":"IF(B22<>\"\",Glazing_Systems!J$18,\"\")","v":""},{"$f":"IF(B22<>\"\",Glazing_Systems!K$18)","v":false},4,{"$f":"IF(Wall_Systems!C$18<>0,Wall_Systems!C$18,\"\")","v":""},{"$f":"IF(F22<>\"\",Wall_Systems!H18,\"\")","v":""},"",4,{"$f":"IF(Shading_Systems!C$18<>\"\",Shading_Systems!C$18,\"\")","v":""},{"$f":"IF(J22<>\"\",Shading_Systems!D$18,\"\")","v":""},{"$f":"IF(J22<>\"\",Shading_Systems!$E$18,\"\")","v":""},{"$f":"IF(K22<>\"\",Shading_Systems!$G$18,\"\")","v":""},{"$f":"IF(L22<>\"\",Shading_Systems!$F$18,\"\")","v":""},"","",{"$f":"IF(COUNTIF(NCC_Support_Text!L$62:V$62,O22)=1,FALSE,TRUE)","v":true},{"$f":"IF(COUNTIF(NCC_Support_Text!$K$63:$K$68,P22)=1,FALSE,TRUE)","v":true},{"$f":"IF($J22<>\"\",IF($K22=\"device\",0.35,IFERROR(AT$72,AT$66)),\"\")","v":""},{"$f":"IF($J22<>\"\",IF($K22=\"device\",0.35,IFERROR(BL$73,BL$67)),\"\")","v":""}]
[5,{"$f":"IF(Glazing_Systems!C$20<>0,Glazing_Systems!C$20,\"\")","v":""},{"$f":"IF(B23<>\"\",Glazing_Systems!J$20,\"\")","v":""},{"$f":"IF(B23<>\"\",Glazing_Systems!K$20)","v":false},5,{"$f":"IF(Wall_Systems!C$20<>0,Wall_Systems!C$20,\"\")","v":""},{"$f":"IF(F23<>\"\",Wall_Systems!H20,\"\")","v":""},"",5,{"$f":"IF(Shading_Systems!C$20<>\"\",Shading_Systems!C$20,\"\")","v":""},{"$f":"IF(J23<>\"\",Shading_Systems!D$20,\"\")","v":""},{"$f":"IF(J23<>\"\",Shading_Systems!$E$20,\"\")","v":""},{"$f":"IF(K23<>\"\",Shading_Systems!$G$20,\"\")","v":""},{"$f":"IF(L23<>\"\",Shading_Systems!$F$20,\"\")","v":""},"","",{"$f":"IF(COUNTIF(NCC_Support_Text!L$62:V$62,O23)=1,FALSE,TRUE)","v":true},{"$f":"IF(COUNTIF(NCC_Support_Text!$K$63:$K$68,P23)=1,FALSE,TRUE)","v":true},{"$f":"IF($J23<>\"\",IF($K23=\"device\",0.35,IFERROR(AU$72,AU$66)),\"\")","v":""},{"$f":"IF($J23<>\"\",IF($K23=\"device\",0.35,IFERROR(BM$73,BM$67)),\"\")","v":""}]
[6,{"$f":"IF(Glazing_Systems!C$22<>0,Glazing_Systems!C$22,\"\")","v":""},{"$f":"IF(B24<>\"\",Glazing_Systems!J$22,\"\")","v":""},{"$f":"IF(B24<>\"\",Glazing_Systems!K$22)","v":false},6,{"$f":"IF(Wall_Systems!C$22<>0,Wall_Systems!C$22,\"\")","v":""},{"$f":"IF(F24<>\"\",Wall_Systems!H22,\"\")","v":""},"",6,{"$f":"IF(Shading_Systems!C$22<>\"\",Shading_Systems!C$22,\"\")","v":""},{"$f":"IF(J24<>\"\",Shading_Systems!D$22,\"\")","v":""},{"$f":"IF(J24<>\"\",Shading_Systems!$E$22,\"\")","v":""},{"$f":"IF(K24<>\"\",Shading_Systems!$G$22,\"\")","v":""},{"$f":"IF(L24<>\"\",Shading_Systems!$F$22,\"\")","v":""},"","",{"$f":"IF(COUNTIF(NCC_Support_Text!L$62:V$62,O24)=1,FALSE,TRUE)","v":true},{"$f":"IF(COUNTIF(NCC_Support_Text!$K$63:$K$68,P24)=1,FALSE,TRUE)","v":true},{"$f":"IF($J24<>\"\",IF($K24=\"device\",0.35,IFERROR(AV$72,AV$66)),\"\")","v":""},{"$f":"IF($J24<>\"\",IF($K24=\"device\",0.35,IFERROR(BN$73,BN$67)),\"\")","v":""},null,null,null,null,null,null,null,null,null,null,null,null,null,null,null,null,null,null,null,null,null,null,null,"Target","Result"]
[7,{"$f":"IF(Glazing_Systems!C$24<>0,Glazing_Systems!C$24,\"\")","v":""},{"$f":"IF(B25<>\"\",Glazing_Systems!J$24,\"\")","v":""},{"$f":"IF(B25<>\"\",Glazing_Systems!K$24)","v":false},7,{"$f":"IF(Wall_Systems!C$24<>0,Wall_Systems!C$24,\"\")","v":""},{"$f":"IF(F25<>\"\",Wall_Systems!H24,\"\")","v":""},"",7,{"$f":"IF(Shading_Systems!C$24<>\"\",Shading_Systems!C$24,\"\")","v":""},{"$f":"IF(J25<>\"\",Shading_Systems!D$24,\"\")","v":""},{"$f":"IF(J25<>\"\",Shading_Systems!$E$24,\"\")","v":""},{"$f":"IF(K25<>\"\",Shading_Systems!$G$24,\"\")","v":""},{"$f":"IF(L25<>\"\",Shading_Systems!$F$24,\"\")","v":""},{"$f":"IF(J25<>\"\",L25/M25,\"\")","v":""},"",{"$f":"IF(COUNTIF(NCC_Support_Text!L$62:V$62,O25)=1,FALSE,TRUE)","v":true},{"$f":"IF(COUNTIF(NCC_Support_Text!$K$63:$K$68,P25)=1,FALSE,TRUE)","v":true},{"$f":"IF($J25<>\"\",IF($K25=\"device\",0.35,IFERROR(AW$72,AW$66)),\"\")","v":""},{"$f":"IF($J25<>\"\",IF($K25=\"device\",0.35,IFERROR(BO$73,BO$67)),\"\")","v":""},null,null,null,null,null,null,null,null,null,null,null,null,null,null,null,null,null,null,null,null,null,null,"North",{"$f":"B11","v":{"$error":"#N/A"}},{"$f":"C73","v":""}]
[8,{"$f":"IF(Glazing_Systems!C$26<>0,Glazing_Systems!C$26,\"\")","v":""},{"$f":"IF(B26<>\"\",Glazing_Systems!J$26,\"\")","v":""},{"$f":"IF(B26<>\"\",Glazing_Systems!K$26)","v":false},8,{"$f":"IF(Wall_Systems!C$26<>0,Wall_Systems!C$26,\"\")","v":""},{"$f":"IF(F26<>\"\",Wall_Systems!H26,\"\")","v":""},"",8,{"$f":"IF(Shading_Systems!C$26<>\"\",Shading_Systems!C$26,\"\")","v":""},{"$f":"IF(J26<>\"\",Shading_Systems!D$26,\"\")","v":""},{"$f":"IF(J26<>\"\",Shading_Systems!$E$26,\"\")","v":""},{"$f":"IF(K26<>\"\",Shading_Systems!$G$26,\"\")","v":""},{"$f":"IF(L26<>\"\",Shading_Systems!$F$26,\"\")","v":""},"","",{"$f":"IF(COUNTIF(NCC_Support_Text!L$62:V$62,O26)=1,FALSE,TRUE)","v":true},{"$f":"IF(COUNTIF(NCC_Support_Text!$K$63:$K$68,P26)=1,FALSE,TRUE)","v":true},{"$f":"IF($J26<>\"\",IF($K26=\"device\",0.35,IFERROR(AX$72,AX$66)),\"\")","v":""},{"$f":"IF($J26<>\"\",IF($K26=\"device\",0.35,IFERROR(BP$73,BP$67)),\"\")","v":""},null,null,null,null,null,null,null,null,null,null,null,null,null,null,null,null,null,null,null,null,null,null,"East",{"$f":"B11","v":{"$error":"#N/A"}},{"$f":"C111","v":""}]
[9,{"$f":"IF(Glazing_Systems!C$28<>0,Glazing_Systems!C$28,\"\")","v":""},{"$f":"IF(B27<>\"\",Glazing_Systems!J$28,\"\")","v":""},{"$f":"IF(B27<>\"\",Glazing_Systems!K$28)","v":false},9,{"$f":"IF(Wall_Systems!C$28<>0,Wall_Systems!C$28,\"\")","v":""},{"$f":"IF(F27<>\"\",Wall_Systems!H28,\"\")","v":""},"",9,{"$f":"IF(Shading_Systems!C$28<>\"\",Shading_Systems!C$28,\"\")","v":""},{"$f":"IF(J27<>\"\",Shading_Systems!D$28,\"\")","v":""},{"$f":"IF(J27<>\"\",Shading_Systems!$E$28,\"\")","v":""},{"$f":"IF(K27<>\"\",Shading_Systems!$G$28,\"\")","v":""},{"$f":"IF(L27<>\"\",Shading_Systems!$F$28,\"\")","v":""},"",{"$f":"IF(J27<>\"\",N27/M27,\"\")","v":""},{"$f":"IF(COUNTIF(NCC_Support_Text!L$62:V$62,O27)=1,FALSE,TRUE)","v":true},{"$f":"IF(COUNTIF(NCC_Support_Text!$K$63:$K$68,P27)=1,FALSE,TRUE)","v":true},{"$f":"IF($J27<>\"\",IF($K27=\"device\",0.35,IFERROR(AY$72,AY$66)),\"\")","v":""},{"$f":"IF($J27<>\"\",IF($K27=\"device\",0.35,IFERROR(BQ$73,BQ$67)),\"\")","v":""},null,null,null,null,null,null,null,null,null,null,null,null,null,null,null,null,null,null,null,null,null,null,"South ",{"$f":"B11","v":{"$error":"#N/A"}},{"$f":"C149","v":""}]
[10,{"$f":"IF(Glazing_Systems!C$30<>0,Glazing_Systems!C$30,\"\")","v":""},{"$f":"IF(B28<>\"\",Glazing_Systems!J$30,\"\")","v":""},{"$f":"IF(B28<>\"\",Glazing_Systems!K$30)","v":false},10,{"$f":"IF(Wall_Systems!C$30<>0,Wall_Systems!C$30,\"\")","v":""},{"$f":"IF(F28<>\"\",Wall_Systems!H30,\"\")","v":""},"",10,{"$f":"IF(Shading_Systems!C$30<>\"\",Shading_Systems!C$30,\"\")","v":""},{"$f":"IF(J28<>\"\",Shading_Systems!D$30,\"\")","v":""},{"$f":"IF(J28<>\"\",Shading_Systems!$E$30,\"\")","v":""},{"$f":"IF(K28<>\"\",Shading_Systems!$G$30,\"\")","v":""},{"$f":"IF(L28<>\"\",Shading_Systems!$F$30,\"\")","v":""},"",{"$f":"IF(J28<>\"\",N28/M28,\"\")","v":""},{"$f":"IF(COUNTIF(NCC_Support_Text!L$62:V$62,O28)=1,FALSE,TRUE)","v":true},{"$f":"IF(COUNTIF(NCC_Support_Text!$K$63:$K$68,P28)=1,FALSE,TRUE)","v":true},{"$f":"IF($J28<>\"\",IF($K28=\"device\",0.35,IFERROR(AZ$72,AZ$66)),\"\")","v":""},{"$f":"IF($J28<>\"\",IF($K28=\"device\",0.35,IFERROR(BR$73,BR$67)),\"\")","v":""},null,null,null,null,null,null,null,null,null,null,null,null,null,null,null,null,null,null,null,null,null,null,"West",{"$f":"B11","v":{"$error":"#N/A"}},{"$f":"C187","v":""}]
[11,{"$f":"IF(Glazing_Systems!C$32<>0,Glazing_Systems!C$32,\"\")","v":""},{"$f":"IF(B29<>\"\",Glazing_Systems!J$32,\"\")","v":""},{"$f":"IF(B29<>\"\",Glazing_Systems!K$32)","v":false},11,{"$f":"IF(Wall_Systems!C$32<>0,Wall_Systems!C$32,\"\")","v":""},{"$f":"IF(F29<>\"\",Wall_Systems!H32,\"\")","v":""},"",11,{"$f":"IF(Shading_Systems!C$32<>\"\",Shading_Systems!C$32,\"\")","v":""},{"$f":"IF(J29<>\"\",Shading_Systems!D$32,\"\")","v":""},{"$f":"IF(J29<>\"\",Shading_Systems!$E$32,\"\")","v":""},{"$f":"IF(K29<>\"\",Shading_Systems!$G$32,\"\")","v":""},{"$f":"IF(L29<>\"\",Shading_Systems!$F$32,\"\")","v":""},"","",{"$f":"IF(COUNTIF(NCC_Support_Text!L$62:V$62,O29)=1,FALSE,TRUE)","v":true},{"$f":"IF(COUNTIF(NCC_Support_Text!$K$63:$K$68,P29)=1,FALSE,TRUE)","v":true},{"$f":"IF($J29<>\"\",IF($K29=\"device\",0.35,IFERROR(BA$72,BA$66)),\"\")","v":""},{"$f":"IF($J29<>\"\",IF($K29=\"device\",0.35,IFERROR(BS$73,BS$67)),\"\")","v":""}]
[12,{"$f":"IF(Glazing_Systems!C$34<>0,Glazing_Systems!C$34,\"\")","v":""},{"$f":"IF(B30<>\"\",Glazing_Systems!J$34,\"\")","v":""},{"$f":"IF(B30<>\"\",Glazing_Systems!K$34)","v":false},12,{"$f":"IF(Wall_Systems!C$34<>0,Wall_Systems!C$34,\"\")","v":""},{"$f":"IF(F30<>\"\",Wall_Systems!H34,\"\")","v":""},"",12,{"$f":"IF(Shading_Systems!C$34<>\"\",Shading_Systems!C$34,\"\")","v":""},{"$f":"IF(J30<>\"\",Shading_Systems!D$34,\"\")","v":""},{"$f":"IF(J30<>\"\",Shading_Systems!$E$34,\"\")","v":""},{"$f":"IF(K30<>\"\",Shading_Systems!$G$34,\"\")","v":""},{"$f":"IF(L30<>\"\",Shading_Systems!$F$34,\"\")","v":""},"","",{"$f":"IF(COUNTIF(NCC_Support_Text!L$62:V$62,O30)=1,FALSE,TRUE)","v":true},{"$f":"IF(COUNTIF(NCC_Support_Text!$K$63:$K$68,P30)=1,FALSE,TRUE)","v":true},{"$f":"IF($J30<>\"\",IF($K30=\"device\",0.35,IFERROR(BB$72,BB$66)),\"\")","v":""},{"$f":"IF($J30<>\"\",IF($K30=\"device\",0.35,IFERROR(BT$73,BT$67)),\"\")","v":""},null,null,null,null,null,null,null,null,null,null,null,null,null,null,null,null,null,null,null,null,null,null,null,"Target","Result"]
[13,{"$f":"IF(Glazing_Systems!C$36<>0,Glazing_Systems!C$36,\"\")","v":""},{"$f":"IF(B31<>\"\",Glazing_Systems!J$36,\"\")","v":""},{"$f":"IF(B31<>\"\",Glazing_Systems!K$36)","v":false},13,{"$f":"IF(Wall_Systems!C$36<>0,Wall_Systems!C$36,\"\")","v":""},{"$f":"IF(F31<>\"\",Wall_Systems!H36,\"\")","v":""},"",13,{"$f":"IF(Shading_Systems!C$36<>\"\",Shading_Systems!C$36,\"\")","v":""},{"$f":"IF(J31<>\"\",Shading_Systems!D$36,\"\")","v":""},{"$f":"IF(J31<>\"\",Shading_Systems!$E$36,\"\")","v":""},{"$f":"IF(K31<>\"\",Shading_Systems!$G$36,\"\")","v":""},{"$f":"IF(L31<>\"\",Shading_Systems!$F$36,\"\")","v":""},"","",{"$f":"IF(COUNTIF(NCC_Support_Text!L$62:V$62,O31)=1,FALSE,TRUE)","v":true},{"$f":"IF(COUNTIF(NCC_Support_Text!$K$63:$K$68,P31)=1,FALSE,TRUE)","v":true},{"$f":"IF($J31<>\"\",IF($K31=\"device\",0.35,IFERROR(BC$72,BC$66)),\"\")","v":""},{"$f":"IF($J31<>\"\",IF($K31=\"device\",0.35,IFERROR(BU$73,BU$67)),\"\")","v":""},null,null,null,null,null,null,null,null,null,null,null,null,null,null,null,null,null,null,null,null,null,null,"North",{"$f":"G11","v":{"$error":"#N/A"}},{"$f":"C74","v":0}]
[14,{"$f":"IF(Glazing_Systems!C$38<>0,Glazing_Systems!C$38,\"\")","v":""},{"$f":"IF(B32<>\"\",Glazing_Systems!J$38,\"\")","v":""},{"$f":"IF(B32<>\"\",Glazing_Systems!K$38)","v":false},14,{"$f":"IF(Wall_Systems!C$38<>0,Wall_Systems!C$38,\"\")","v":""},{"$f":"IF(F32<>\"\",Wall_Systems!H38,\"\")","v":""},"",14,{"$f":"IF(Shading_Systems!C$38<>\"\",Shading_Systems!C$38,\"\")","v":""},{"$f":"IF(J32<>\"\",Shading_Systems!D$38,\"\")","v":""},{"$f":"IF(J32<>\"\",Shading_Systems!$E$38,\"\")","v":""},{"$f":"IF(K32<>\"\",Shading_Systems!$G$38,\"\")","v":""},{"$f":"IF(L32<>\"\",Shading_Systems!$F$38,\"\")","v":""},"","",{"$f":"IF(COUNTIF(NCC_Support_Text!L$62:V$62,O32)=1,FALSE,TRUE)","v":true},{"$f":"IF(COUNTIF(NCC_Support_Text!$K$63:$K$68,P32)=1,FALSE,TRUE)","v":true},{"$f":"IF($J32<>\"\",IF($K32=\"device\",0.35,IFERROR(BD$72,BD$66)),\"\")","v":""},{"$f":"IF($J32<>\"\",IF($K32=\"device\",0.35,IFERROR(BV$73,BV$67)),\"\")","v":""},null,null,null,null,null,null,null,null,null,null,null,null,null,null,null,null,null,null,null,null,null,null,"East",{"$f":"H11","v":{"$error":"#N/A"}},{"$f":"C112","v":0}]
[15,{"$f":"IF(Glazing_Systems!C$40<>0,Glazing_Systems!C$40,\"\")","v":""},{"$f":"IF(B33<>\"\",Glazing_Systems!J$40,\"\")","v":""},{"$f":"IF(B33<>\"\",Glazing_Systems!K$40)","v":false},15,{"$f":"IF(Wall_Systems!C$40<>0,Wall_Systems!C$40,\"\")","v":""},{"$f":"IF(F33<>\"\",Wall_Systems!H40,\"\")","v":""},"",15,{"$f":"IF(Shading_Systems!C$38<>\"\",Shading_Systems!C$40,\"\")","v":""},{"$f":"IF(J33<>\"\",Shading_Systems!D$38,\"\")","v":""},{"$f":"IF(J33<>\"\",Shading_Systems!$E$38,\"\")","v":""},{"$f":"IF(K33<>\"\",Shading_Systems!$G$38,\"\")","v":""},{"$f":"IF(L33<>\"\",Shading_Systems!$F$38,\"\")","v":""},"","",{"$f":"IF(COUNTIF(NCC_Support_Text!L$62:V$62,O33)=1,FALSE,TRUE)","v":true},{"$f":"IF(COUNTIF(NCC_Support_Text!$K$63:$K$68,P33)=1,FALSE,TRUE)","v":true},{"$f":"IF($J33<>\"\",IF($K33=\"device\",0.35,IFERROR(BE$72,BE$66)),\"\")","v":""},{"$f":"IF($J33<>\"\",IF($K33=\"device\",0.35,IFERROR(BW$73,BW$67)),\"\")","v":""},null,null,null,null,null,null,null,null,null,null,null,null,null,null,null,null,null,null,null,null,null,null,"South ",{"$f":"I11","v":{"$error":"#N/A"}},{"$f":"C150","v":0}]
[16,{"$f":"IF(Glazing_Systems!C$42<>0,Glazing_Systems!C$42,\"\")","v":""},{"$f":"IF(B34<>\"\",Glazing_Systems!J$42,\"\")","v":""},{"$f":"IF(B34<>\"\",Glazing_Systems!K$42)","v":false},16,{"$f":"IF(Wall_Systems!C$42<>0,Wall_Systems!C$42,\"\")","v":""},{"$f":"IF(F34<>\"\",Wall_Systems!H42,\"\")","v":""},"",16,{"$f":"IF(Shading_Systems!C$40<>\"\",Shading_Systems!C$42,\"\")","v":""},{"$f":"IF(J34<>\"\",Shading_Systems!D$38,\"\")","v":""},{"$f":"IF(J34<>\"\",Shading_Systems!$E$38,\"\")","v":""},{"$f":"IF(K34<>\"\",Shading_Systems!$G$38,\"\")","v":""},{"$f":"IF(L34<>\"\",Shading_Systems!$F$38,\"\")","v":""},"","",{"$f":"IF(COUNTIF(NCC_Support_Text!L$62:V$62,O34)=1,FALSE,TRUE)","v":true},{"$f":"IF(COUNTIF(NCC_Support_Text!$K$63:$K$68,P34)=1,FALSE,TRUE)","v":true},{"$f":"IF($J34<>\"\",IF($K34=\"device\",0.35,IFERROR(BF$72,BF$66)),\"\")","v":""},{"$f":"IF($J34<>\"\",IF($K34=\"device\",0.35,IFERROR(BX$73,BX$67)),\"\")","v":""},null,null,null,null,null,null,null,null,null,null,null,null,null,null,null,null,null,null,null,null,null,null,"West",{"$f":"J11","v":{"$error":"#N/A"}},{"$f":"C188","v":0}]
[]
[null,null,null,null,null,null,null,null,null,null,null,null,null,null,null,null,null,null,null,null,null,null,null,null,null,null,null,null,null,null,null,null,null,null,null,null,null,null,null,null,null,null,null,"Target","Result"]
[null,null,null,null,null,null,null,null,null,null,null,null,null,null,null,null,null,null,null,null,null,null,null,null,null,null,null,null,null,null,null,null,null,null,null,null,null,null,null,null,null,null,null,{"$f":"B11","v":{"$error":"#N/A"}},{"$f":"C207","v":{"$error":"#DIV/0!"}}]
[null,null,null,null,null,null,null,null,null,null,null,null,null,null,null,null,null,null,null,null,null,null,null,null,null,null,null,null,null,null,null,null,null,null,null,null,null,null,null,null,null,null,null,"Target","Result"]
[null,null,null,null,null,null,null,null,null,null,null,null,null,null,null,null,null,null,null,null,null,null,null,null,null,null,null,null,null,null,null,null,null,null,null,null,null,null,null,null,null,null,null,{"$f":"C208","v":{"$error":"#N/A"}},{"$f":"C209","v":0}]
[null,null,1,2,3,4,5,6,7,8,9,10,11,12,13,14,15,16,1,2,3,4,5,6,7,8,9,10,11,12,13,14,15,16]
["North",null,"Vision",null,null,null,null,null,null,null,null,null,null,null,null,null,null,null,"Wall"]
[null,"Façade Reference",{"$f":"IF(Wall_Glazing_Areas!C$29<>0,Wall_Glazing_Areas!C$29,\"\")","v":""},{"$f":"IF(Wall_Glazing_Areas!C$31<>0,Wall_Glazing_Areas!C$31,\"\")","v":""},{"$f":"IF(Wall_Glazing_Areas!C$33<>0,Wall_Glazing_Areas!C$33,\"\")","v":""},{"$f":"IF(Wall_Glazing_Areas!C$35<>0,Wall_Glazing_Areas!C$35,\"\")","v":""},{"$f":"IF(Wall_Glazing_Areas!C$37<>0,Wall_Glazing_Areas!C$37,\"\")","v":""},{"$f":"IF(Wall_Glazing_Areas!C$39<>0,Wall_Glazing_Areas!C$39,\"\")","v":""},{"$f":"IF(Wall_Glazing_Areas!C$41<>0,Wall_Glazing_Areas!C$41,\"\")","v":""},{"$f":"IF(Wall_Glazing_Areas!C$43<>0,Wall_Glazing_Areas!C$43,\"\")","v":""},{"$f":"IF(Wall_Glazing_Areas!$C$45<>0,Wall_Glazing_Areas!$C$45,\"\")","v":""},{"$f":"IF(Wall_Glazing_Areas!$C$47<>0,Wall_Glazing_Areas!$C$47,\"\")","v":""},{"$f":"IF(Wall_Glazing_Areas!$C$49<>0,Wall_Glazing_Areas!$C$49,\"\")","v":""},{"$f":"IF(Wall_Glazing_Areas!$C$51<>0,Wall_Glazing_Areas!$C$51,\"\")","v":""},{"$f":"IF(Wall_Glazing_Areas!$C$53<>0,Wall_Glazing_Areas!$C$53,\"\")","v":""},{"$f":"IF(Wall_Glazing_Areas!$C$55<>0,Wall_Glazing_Areas!$C$55,\"\")","v":""},{"$f":"IF(Wall_Glazing_Areas!$C$57<>0,Wall_Glazing_Areas!$C$57,\"\")","v":""},{"$f":"IF(Wall_Glazing_Areas!$C$59<>0,Wall_Glazing_Areas!$C$59,\"\")","v":""},{"$f":"IF(Wall_Glazing_Areas!I$29<>0,Wall_Glazing_Areas!I$29,\"\")","v":""},{"$f":"IF(Wall_Glazing_Areas!I$31<>0,Wall_Glazing_Areas!I$31,\"\")","v":""},{"$f":"IF(Wall_Glazing_Areas!I$33<>0,Wall_Glazing_Areas!I$33,\"\")","v":""},{"$f":"IF(Wall_Glazing_Areas!I$35<>0,Wall_Glazing_Areas!I$35,\"\")","v":""},{"$f":"IF(Wall_Glazing_Areas!I$37<>0,Wall_Glazing_Areas!I$37,\"\")","v":""},{"$f":"IF(Wall_Glazing_Areas!I$39<>0,Wall_Glazing_Areas!I$39,\"\")","v":""},{"$f":"IF(Wall_Glazing_Areas!I$41<>0,Wall_Glazing_Areas!I$41,\"\")","v":""},{"$f":"IF(Wall_Glazing_Areas!$I$43<>0,Wall_Glazing_Areas!$I$43,\"\")","v":""},{"$f":"IF(Wall_Glazing_Areas!$I$45<>0,Wall_Glazing_Areas!$I$45,\"\")","v":""},{"$f":"IF(Wall_Glazing_Areas!$I$47<>0,Wall_Glazing_Areas!$I$47,\"\")","v":""},{"$f":"IF(Wall_Glazing_Areas!$I$49<>0,Wall_Glazing_Areas!$I$49,\"\")","v":""},{"$f":"IF(Wall_Glazing_Areas!$I$51<>0,Wall_Glazing_Areas!$I$51,\"\")","v":""},{"$f":"IF(Wall_Glazing_Areas!$I$53<>0,Wall_Glazing_Areas!$I$53,\"\")","v":""},{"$f":"IF(Wall_Glazing_Areas!$I$55<>0,Wall_Glazing_Areas!$I$55,\"\")","v":""},{"$f":"IF(Wall_Glazing_Areas!$I$57<>0,Wall_Glazing_Areas!$I$57,\"\")","v":""},{"$f":"IF(Wall_Glazing_Areas!$I$59<>0,Wall_Glazing_Areas!$I$59,\"\")","v":""}]
[null,"Internal",{"$f":"IF(Wall_Glazing_Areas!P29,TRUE,FALSE)","v":false},{"$f":"IF(Wall_Glazing_Areas!P31,TRUE,FALSE)","v":false},{"$f":"IF(Wall_Glazing_Areas!P33,TRUE,FALSE)","v":false},{"$f":"IF(Wall_Glazing_Areas!P35,TRUE,FALSE)","v":false},{"$f":"IF(Wall_Glazing_Areas!P37,TRUE,FALSE)","v":false},{"$f":"IF(Wall_Glazing_Areas!P39,TRUE,FALSE)","v":false},{"$f":"IF(Wall_Glazing_Areas!P41,TRUE,FALSE)","v":false},{"$f":"IF(Wall_Glazing_Areas!P43,TRUE,FALSE)","v":false},{"$f":"IF(Wall_Glazing_Areas!P45,TRUE,FALSE)","v":false},{"$f":"IF(Wall_Glazing_Areas!P47,TRUE,FALSE)","v":false},{"$f":"IF(Wall_Glazing_Areas!P49,TRUE,FALSE)","v":false},{"$f":"IF(Wall_Glazing_Areas!P51,TRUE,FALSE)","v":false},{"$f":"IF(Wall_Glazing_Areas!P53,TRUE,FALSE)","v":false},{"$f":"IF(Wall_Glazing_Areas!P55,TRUE,FALSE)","v":false},{"$f":"IF(Wall_Glazing_Areas!P57,TRUE,FALSE)","v":false},{"$f":"IF(Wall_Glazing_Areas!P59,TRUE,FALSE)","v":false}]
[null,"System Type",{"$f":"IFERROR(INDEX(Glazing_Systems!$D$12:$D$42,MATCH('J1.5A_Calcs'!C42,Glazing_Systems!$C$12:$C$42,0)),\"\")","v":""},{"$f":"IFERROR(INDEX(Glazing_Systems!$D$12:$D$42,MATCH('J1.5A_Calcs'!D42,Glazing_Systems!$C$12:$C$42,0)),\"\")","v":""},{"$f":"IFERROR(INDEX(Glazing_Systems!$D$12:$D$42,MATCH('J1.5A_Calcs'!E42,Glazing_Systems!$C$12:$C$42,0)),\"\")","v":""},{"$f":"IFERROR(INDEX(Glazing_Systems!$D$12:$D$42,MATCH('J1.5A_Calcs'!F42,Glazing_Systems!$C$12:$C$42,0)),\"\")","v":""},{"$f":"IFERROR(INDEX(Glazing_Systems!$D$12:$D$42,MATCH('J1.5A_Calcs'!G42,Glazing_Systems!$C$12:$C$42,0)),\"\")","v":""},{"$f":"IFERROR(INDEX(Glazing_Systems!$D$12:$D$42,MATCH('J1.5A_Calcs'!H42,Glazing_Systems!$C$12:$C$42,0)),\"\")","v":""},{"$f":"IFERROR(INDEX(Glazing_Systems!$D$12:$D$42,MATCH('J1.5A_Calcs'!I42,Glazing_Systems!$C$12:$C$42,0)),\"\")","v":""},{"$f":"IFERROR(INDEX(Glazing_Systems!$D$12:$D$42,MATCH('J1.5A_Calcs'!J42,Glazing_Systems!$C$12:$C$42,0)),\"\")","v":""},{"$f":"IFERROR(INDEX(Glazing_Systems!$D$12:$D$42,MATCH('J1.5A_Calcs'!K42,Glazing_Systems!$C$12:$C$42,0)),\"\")","v":""},{"$f":"IFERROR(INDEX(Glazing_Systems!$D$12:$D$42,MATCH('J1.5A_Calcs'!L42,Glazing_Systems!$C$12:$C$42,0)),\"\")","v":""},{"$f":"IFERROR(INDEX(Glazing_Systems!$D$12:$D$42,MATCH('J1.5A_Calcs'!M42,Glazing_Systems!$C$12:$C$42,0)),\"\")","v":""},{"$f":"IFERROR(INDEX(Glazing_Systems!$D$12:$D$42,MATCH('J1.5A_Calcs'!N42,Glazing_Systems!$C$12:$C$42,0)),\"\")","v":""},{"$f":"IFERROR(INDEX(Glazing_Systems!$D$12:$D$42,MATCH('J1.5A_Calcs'!O42,Glazing_Systems!$C$12:$C$42,0)),\"\")","v":""},{"$f":"IFERROR(INDEX(Glazing_Systems!$D$12:$D$42,MATCH('J1.5A_Calcs'!P42,Glazing_Systems!$C$12:$C$42,0)),\"\")","v":""},{"$f":"IFERROR(INDEX(Glazing_Systems!$D$12:$D$42,MATCH('J1.5A_Calcs'!Q42,Glazing_Systems!$C$12:$C$42,0)),\"\")","v":""},{"$f":"IFERROR(INDEX(Glazing_Systems!$D$12:$D$42,MATCH('J1.5A_Calcs'!R42,Glazing_Systems!$C$12:$C$42,0)),\"\")","v":""},{"$f":"IFERROR(INDEX(Wall_Systems!$D$12:$D$42,MATCH('J1.5A_Calcs'!S42,Wall_Systems!$C$12:$C$42,0)),\"\")","v":""},{"$f":"IFERROR(INDEX(Wall_Systems!$D$12:$D$42,MATCH('J1.5A_Calcs'!T42,Wall_Systems!$C$12:$C$42,0)),\"\")","v":""},{"$f":"IFERROR(INDEX(Wall_Systems!$D$12:$D$42,MATCH('J1.5A_Calcs'!U42,Wall_Systems!$C$12:$C$42,0)),\"\")","v":""},{"$f":"IFERROR(INDEX(Wall_Systems!$D$12:$D$42,MATCH('J1.5A_Calcs'!V42,Wall_Systems!$C$12:$C$42,0)),\"\")","v":""},{"$f":"IFERROR(INDEX(Wall_Systems!$D$12:$D$42,MATCH('J1.5A_Calcs'!W42,Wall_Systems!$C$12:$C$42,0)),\"\")","v":""},{"$f":"IFERROR(INDEX(Wall_Systems!$D$12:$D$42,MATCH('J1.5A_Calcs'!X42,Wall_Systems!$C$12:$C$42,0)),\"\")","v":""},{"$f":"IFERROR(INDEX(Wall_Systems!$D$12:$D$42,MATCH('J1.5A_Calcs'!Y42,Wall_Systems!$C$12:$C$42,0)),\"\")","v":""},{"$f":"IFERROR(INDEX(Wall_Systems!$D$12:$D$42,MATCH('J1.5A_Calcs'!Z42,Wall_Systems!$C$12:$C$42,0)),\"\")","v":""},{"$f":"IFERROR(INDEX(Wall_Systems!$D$12:$D$42,MATCH('J1.5A_Calcs'!AA42,Wall_Systems!$C$12:$C$42,0)),\"\")","v":""},{"$f":"IFERROR(INDEX(Wall_Systems!$D$12:$D$42,MATCH('J1.5A_Calcs'!AB42,Wall_Systems!$C$12:$C$42,0)),\"\")","v":""},{"$f":"IFERROR(INDEX(Wall_Systems!$D$12:$D$42,MATCH('J1.5A_Calcs'!AC42,Wall_Systems!$C$12:$C$42,0)),\"\")","v":""},{"$f":"IFERROR(INDEX(Wall_Systems!$D$12:$D$42,MATCH('J1.5A_Calcs'!AD42,Wall_Systems!$C$12:$C$42,0)),\"\")","v":""},{"$f":"IFERROR(INDEX(Wall_Systems!$D$12:$D$42,MATCH('J1.5A_Calcs'!AE42,Wall_Systems!$C$12:$C$42,0)),\"\")","v":""},{"$f":"IFERROR(INDEX(Wall_Systems!$D$12:$D$42,MATCH('J1.5A_Calcs'!AF42,Wall_Systems!$C$12:$C$42,0)),\"\")","v":""},{"$f":"IFERROR(INDEX(Wall_Systems!$D$12:$D$42,MATCH('J1.5A_Calcs'!AG42,Wall_Systems!$C$12:$C$42,0)),\"\")","v":""},{"$f":"IFERROR(INDEX(Wall_Systems!$D$12:$D$42,MATCH('J1.5A_Calcs'!AH42,Wall_Systems!$C$12:$C$42,0)),\"\")","v":""}]
[null,"Glazing Type",{"$f":"IFERROR(INDEX(Glazing_Systems!$E$12:$E$42,MATCH('J1.5A_Calcs'!C42,Glazing_Systems!$C$12:$C$42,0)),\"\")","v":""},{"$f":"IFERROR(INDEX(Glazing_Systems!$E$12:$E$42,MATCH('J1.5A_Calcs'!D42,Glazing_Systems!$C$12:$C$42,0)),\"\")","v":""},{"$f":"IFERROR(INDEX(Glazing_Systems!$E$12:$E$42,MATCH('J1.5A_Calcs'!E42,Glazing_Systems!$C$12:$C$42,0)),\"\")","v":""},{"$f":"IFERROR(INDEX(Glazing_Systems!$E$12:$E$42,MATCH('J1.5A_Calcs'!F42,Glazing_Systems!$C$12:$C$42,0)),\"\")","v":""},{"$f":"IFERROR(INDEX(Glazing_Systems!$E$12:$E$42,MATCH('J1.5A_Calcs'!G42,Glazing_Systems!$C$12:$C$42,0)),\"\")","v":""},{"$f":"IFERROR(INDEX(Glazing_Systems!$E$12:$E$42,MATCH('J1.5A_Calcs'!H42,Glazing_Systems!$C$12:$C$42,0)),\"\")","v":""},{"$f":"IFERROR(INDEX(Glazing_Systems!$E$12:$E$42,MATCH('J1.5A_Calcs'!I42,Glazing_Systems!$C$12:$C$42,0)),\"\")","v":""},{"$f":"IFERROR(INDEX(Glazing_Systems!$E$12:$E$42,MATCH('J1.5A_Calcs'!J42,Glazing_Systems!$C$12:$C$42,0)),\"\")","v":""},{"$f":"IFERROR(INDEX(Glazing_Systems!$E$12:$E$42,MATCH('J1.5A_Calcs'!K42,Glazing_Systems!$C$12:$C$42,0)),\"\")","v":""},{"$f":"IFERROR(INDEX(Glazing_Systems!$E$12:$E$42,MATCH('J1.5A_Calcs'!L42,Glazing_Systems!$C$12:$C$42,0)),\"\")","v":""},{"$f":"IFERROR(INDEX(Glazing_Systems!$E$12:$E$42,MATCH('J1.5A_Calcs'!M42,Glazing_Systems!$C$12:$C$42,0)),\"\")","v":""},{"$f":"IFERROR(INDEX(Glazing_Systems!$E$12:$E$42,MATCH('J1.5A_Calcs'!N42,Glazing_Systems!$C$12:$C$42,0)),\"\")","v":""},{"$f":"IFERROR(INDEX(Glazing_Systems!$E$12:$E$42,MATCH('J1.5A_Calcs'!O42,Glazing_Systems!$C$12:$C$42,0)),\"\")","v":""},{"$f":"IFERROR(INDEX(Glazing_Systems!$E$12:$E$42,MATCH('J1.5A_Calcs'!P42,Glazing_Systems!$C$12:$C$42,0)),\"\")","v":""},{"$f":"IFERROR(INDEX(Glazing_Systems!$E$12:$E$42,MATCH('J1.5A_Calcs'!Q42,Glazing_Systems!$C$12:$C$42,0)),\"\")","v":""},{"$f":"IFERROR(INDEX(Glazing_Systems!$E$12:$E$42,MATCH('J1.5A_Calcs'!R42,Glazing_Systems!$C$12:$C$42,0)),\"\")","v":""},{"$f":"IFERROR(INDEX(Wall_Systems!$F$12:$F$42,MATCH('J1.5A_Calcs'!S42,Wall_Systems!$C$12:$C$42,0)),\"\")","v":""},{"$f":"IFERROR(INDEX(Wall_Systems!$F$12:$F$42,MATCH('J1.5A_Calcs'!T42,Wall_Systems!$C$12:$C$42,0)),\"\")","v":""},{"$f":"IFERROR(INDEX(Wall_Systems!$F$12:$F$42,MATCH('J1.5A_Calcs'!U42,Wall_Systems!$C$12:$C$42,0)),\"\")","v":""},{"$f":"IFERROR(INDEX(Wall_Systems!$F$12:$F$42,MATCH('J1.5A_Calcs'!V42,Wall_Systems!$C$12:$C$42,0)),\"\")","v":""},{"$f":"IFERROR(INDEX(Wall_Systems!$F$12:$F$42,MATCH('J1.5A_Calcs'!W42,Wall_Systems!$C$12:$C$42,0)),\"\")","v":""},{"$f":"IFERROR(INDEX(Wall_Systems!$F$12:$F$42,MATCH('J1.5A_Calcs'!X42,Wall_Systems!$C$12:$C$42,0)),\"\")","v":""},{"$f":"IFERROR(INDEX(Wall_Systems!$F$12:$F$42,MATCH('J1.5A_Calcs'!Y42,Wall_Systems!$C$12:$C$42,0)),\"\")","v":""},{"$f":"IFERROR(INDEX(Wall_Systems!$F$12:$F$42,MATCH('J1.5A_Calcs'!Z42,Wall_Systems!$C$12:$C$42,0)),\"\")","v":""},{"$f":"IFERROR(INDEX(Wall_Systems!$F$12:$F$42,MATCH('J1.5A_Calcs'!AA42,Wall_Systems!$C$12:$C$42,0)),\"\")","v":""},{"$f":"IFERROR(INDEX(Wall_Systems!$F$12:$F$42,MATCH('J1.5A_Calcs'!AB42,Wall_Systems!$C$12:$C$42,0)),\"\")","v":""},{"$f":"IFERROR(INDEX(Wall_Systems!$F$12:$F$42,MATCH('J1.5A_Calcs'!AC42,Wall_Systems!$C$12:$C$42,0)),\"\")","v":""},{"$f":"IFERROR(INDEX(Wall_Systems!$F$12:$F$42,MATCH('J1.5A_Calcs'!AD42,Wall_Systems!$C$12:$C$42,0)),\"\")","v":""},{"$f":"IFERROR(INDEX(Wall_Systems!$F$12:$F$42,MATCH('J1.5A_Calcs'!AE42,Wall_Systems!$C$12:$C$42,0)),\"\")","v":""},{"$f":"IFERROR(INDEX(Wall_Systems!$F$12:$F$42,MATCH('J1.5A_Calcs'!AF42,Wall_Systems!$C$12:$C$42,0)),\"\")","v":""},{"$f":"IFERROR(INDEX(Wall_Systems!$F$12:$F$42,MATCH('J1.5A_Calcs'!AG42,Wall_Systems!$C$12:$C$42,0)),\"\")","v":""},{"$f":"IFERROR(INDEX(Wall_Systems!$F$12:$F$42,MATCH('J1.5A_Calcs'!AH42,Wall_Systems!$C$12:$C$42,0)),\"\")","v":""}]
[null,"Framing Type / Wall Thickness",{"$f":"IFERROR(INDEX(Glazing_Systems!$F$12:$F$42,MATCH('J1.5A_Calcs'!C42,Glazing_Systems!$C$12:$C$42,0)),\"\")","v":""},{"$f":"IFERROR(INDEX(Glazing_Systems!$F$12:$F$42,MATCH('J1.5A_Calcs'!D42,Glazing_Systems!$C$12:$C$42,0)),\"\")","v":""},{"$f":"IFERROR(INDEX(Glazing_Systems!$F$12:$F$42,MATCH('J1.5A_Calcs'!E42,Glazing_Systems!$C$12:$C$42,0)),\"\")","v":""},{"$f":"IFERROR(INDEX(Glazing_Systems!$F$12:$F$42,MATCH('J1.5A_Calcs'!F42,Glazing_Systems!$C$12:$C$42,0)),\"\")","v":""},{"$f":"IFERROR(INDEX(Glazing_Systems!$F$12:$F$42,MATCH('J1.5A_Calcs'!G42,Glazing_Systems!$C$12:$C$42,0)),\"\")","v":""},{"$f":"IFERROR(INDEX(Glazing_Systems!$F$12:$F$42,MATCH('J1.5A_Calcs'!H42,Glazing_Systems!$C$12:$C$42,0)),\"\")","v":""},{"$f":"IFERROR(INDEX(Glazing_Systems!$F$12:$F$42,MATCH('J1.5A_Calcs'!I42,Glazing_Systems!$C$12:$C$42,0)),\"\")","v":""},{"$f":"IFERROR(INDEX(Glazing_Systems!$F$12:$F$42,MATCH('J1.5A_Calcs'!J42,Glazing_Systems!$C$12:$C$42,0)),\"\")","v":""},{"$f":"IFERROR(INDEX(Glazing_Systems!$F$12:$F$42,MATCH('J1.5A_Calcs'!K42,Glazing_Systems!$C$12:$C$42,0)),\"\")","v":""},{"$f":"IFERROR(INDEX(Glazing_Systems!$F$12:$F$42,MATCH('J1.5A_Calcs'!L42,Glazing_Systems!$C$12:$C$42,0)),\"\")","v":""},{"$f":"IFERROR(INDEX(Glazing_Systems!$F$12:$F$42,MATCH('J1.5A_Calcs'!M42,Glazing_Systems!$C$12:$C$42,0)),\"\")","v":""},{"$f":"IFERROR(INDEX(Glazing_Systems!$F$12:$F$42,MATCH('J1.5A_Calcs'!N42,Glazing_Systems!$C$12:$C$42,0)),\"\")","v":""},{"$f":"IFERROR(INDEX(Glazing_Systems!$F$12:$F$42,MATCH('J1.5A_Calcs'!O42,Glazing_Systems!$C$12:$C$42,0)),\"\")","v":""},{"$f":"IFERROR(INDEX(Glazing_Systems!$F$12:$F$42,MATCH('J1.5A_Calcs'!P42,Glazing_Systems!$C$12:$C$42,0)),\"\")","v":""},{"$f":"IFERROR(INDEX(Glazing_Systems!$F$12:$F$42,MATCH('J1.5A_Calcs'!Q42,Glazing_Systems!$C$12:$C$42,0)),\"\")","v":""},{"$f":"IFERROR(INDEX(Glazing_Systems!$F$12:$F$42,MATCH('J1.5A_Calcs'!R42,Glazing_Systems!$C$12:$C$42,0)),\"\")","v":""},{"$f":"IFERROR(INDEX(Wall_Systems!$G$12:$G$42,MATCH('J1.5A_Calcs'!S42,Wall_Systems!$C$12:$C$42,0)),\"\")","v":""},{"$f":"IFERROR(INDEX(Wall_Systems!$G$12:$G$42,MATCH('J1.5A_Calcs'!T42,Wall_Systems!$C$12:$C$42,0)),\"\")","v":""},{"$f":"IFERROR(INDEX(Wall_Systems!$G$12:$G$42,MATCH('J1.5A_Calcs'!U42,Wall_Systems!$C$12:$C$42,0)),\"\")","v":""},{"$f":"IFERROR(INDEX(Wall_Systems!$G$12:$G$42,MATCH('J1.5A_Calcs'!V42,Wall_Systems!$C$12:$C$42,0)),\"\")","v":""},{"$f":"IFERROR(INDEX(Wall_Systems!$G$12:$G$42,MATCH('J1.5A_Calcs'!W42,Wall_Systems!$C$12:$C$42,0)),\"\")","v":""},{"$f":"IFERROR(INDEX(Wall_Systems!$G$12:$G$42,MATCH('J1.5A_Calcs'!X42,Wall_Systems!$C$12:$C$42,0)),\"\")","v":""},{"$f":"IFERROR(INDEX(Wall_Systems!$G$12:$G$42,MATCH('J1.5A_Calcs'!Y42,Wall_Systems!$C$12:$C$42,0)),\"\")","v":""},{"$f":"IFERROR(INDEX(Wall_Systems!$G$12:$G$42,MATCH('J1.5A_Calcs'!Z42,Wall_Systems!$C$12:$C$42,0)),\"\")","v":""},{"$f":"IFERROR(INDEX(Wall_Systems!$G$12:$G$42,MATCH('J1.5A_Calcs'!AA42,Wall_Systems!$C$12:$C$42,0)),\"\")","v":""},{"$f":"IFERROR(INDEX(Wall_Systems!$G$12:$G$42,MATCH('J1.5A_Calcs'!AB42,Wall_Systems!$C$12:$C$42,0)),\"\")","v":""},{"$f":"IFERROR(INDEX(Wall_Systems!$G$12:$G$42,MATCH('J1.5A_Calcs'!AC42,Wall_Systems!$C$12:$C$42,0)),\"\")","v":""},{"$f":"IFERROR(INDEX(Wall_Systems!$G$12:$G$42,MATCH('J1.5A_Calcs'!AD42,Wall_Systems!$C$12:$C$42,0)),\"\")","v":""},{"$f":"IFERROR(INDEX(Wall_Systems!$G$12:$G$42,MATCH('J1.5A_Calcs'!AE42,Wall_Systems!$C$12:$C$42,0)),\"\")","v":""},{"$f":"IFERROR(INDEX(Wall_Systems!$G$12:$G$42,MATCH('J1.5A_Calcs'!AF42,Wall_Systems!$C$12:$C$42,0)),\"\")","v":""},{"$f":"IFERROR(INDEX(Wall_Systems!$G$12:$G$42,MATCH('J1.5A_Calcs'!AG42,Wall_Systems!$C$12:$C$42,0)),\"\")","v":""},{"$f":"IFERROR(INDEX(Wall_Systems!$G$12:$G$42,MATCH('J1.5A_Calcs'!AH42,Wall_Systems!$C$12:$C$42,0)),\"\")","v":""}]
[null,"Vision?",{"$f":"IF(C42<>\"\",TRUE,\"\")","v":""},"","","","","","","","","","","","","","","",{"$f":"IF(S42<>\"\",FALSE,\"\")","v":""},"","","","","","","","","","","","","","",""]
[null,"R-value / m2K/W",{"$f":"IF(C42<>\"\",IF(C47=TRUE,\"\",VLOOKUP(C42,$F$17:$H$35,2,FALSE)),\"\")","v":""},"","","","","","","","","","","","","","","",{"$f":"IF(S42<>\"\",IF(S47=TRUE,\"\",VLOOKUP(S42,$F$17:$H$34,2,FALSE)),\"\")","v":""},"","","","","","","","","","","","","","",""]
[null,"U-value / W/m2K",{"$f":"IF(C42<>\"\",IF(C47=TRUE,VLOOKUP(C42,$B$17:$D$34,2,FALSE),VLOOKUP(C42,$F$17:$H$34,3,FALSE)),\"\")","v":""},{"$f":"IF(D42<>\"\",IF(D47=TRUE,VLOOKUP(D42,$B$17:$D$35,2,FALSE),VLOOKUP(D42,$F$17:$H$35,3,FALSE)),\"\")","v":""},"","","","","","","","","","","","","","",{"$f":"IF(S42<>\"\",IF(S47=TRUE,VLOOKUP(S42,$B$17:$D$34,2,FALSE),VLOOKUP(S42,$F$17:$H$34,3,FALSE)),\"\")","v":""},{"$f":"IF(T42<>\"\",IF(T47=TRUE,VLOOKUP(T42,$B$17:$D$35,2,FALSE),VLOOKUP(T42,$F$17:$H$35,3,FALSE)),\"\")","v":""},"","","","","","","","","","","","","",""]
[null,"SHGC",{"$f":"IF(AND(C43=FALSE,C47=TRUE),VLOOKUP(C42,$B$17:$D$34,3,FALSE),\"0\")","v":"0"},{"$f":"IF(AND(D43=FALSE,D47=TRUE),VLOOKUP(D42,$B$17:$D$34,3,FALSE),\"0\")","v":"0"},"0","0","0","0","0","0","0","0","0","0","0","0","0","0",{"$f":"IF(S47=TRUE,VLOOKUP(S42,$B$17:$D$34,3,FALSE),\"\")","v":""},"","","","","","","","","","","","","","","","Total",null,null,null,null,null,null,"Interpolation calcs - North, East & West",1,2,3,4,5,6,7,8,9,10,11,12,13,14,15,16]
[null,"Area / m2",{"$f":"IF(C47=TRUE,VLOOKUP(C42,Wall_Glazing_Areas!$C$29:$F$59,4,FALSE),IF(C47=FALSE,VLOOKUP(C42,Wall_Glazing_Areas!$I$29:$J$59,2,FALSE),\"\"))","v":""},{"$f":"IF(D47=TRUE,VLOOKUP(D42,Wall_Glazing_Areas!$C$29:$F$59,4,FALSE),IF(D47=FALSE,VLOOKUP(D42,Wall_Glazing_Areas!$I$29:$J$59,2,FALSE),\"\"))","v":""},{"$f":"IF(E47=TRUE,VLOOKUP(E42,Wall_Glazing_Areas!$C$29:$F$59,4,FALSE),IF(E47=FALSE,VLOOKUP(E42,Wall_Glazing_Areas!$I$29:$J$59,2,FALSE),\"\"))","v":""},{"$f":"IF(F47=TRUE,VLOOKUP(F42,Wall_Glazing_Areas!$C$29:$F$59,4,FALSE),IF(F47=FALSE,VLOOKUP(F42,Wall_Glazing_Areas!$I$29:$J$59,2,FALSE),\"\"))","v":""},{"$f":"IF(G47=TRUE,VLOOKUP(G42,Wall_Glazing_Areas!$C$29:$F$59,4,FALSE),IF(G47=FALSE,VLOOKUP(G42,Wall_Glazing_Areas!$I$29:$J$59,2,FALSE),\"\"))","v":""},{"$f":"IF(H47=TRUE,VLOOKUP(H42,Wall_Glazing_Areas!$C$29:$F$59,4,FALSE),IF(H47=FALSE,VLOOKUP(H42,Wall_Glazing_Areas!$I$29:$J$59,2,FALSE),\"\"))","v":""},{"$f":"IF(I47=TRUE,VLOOKUP(I42,Wall_Glazing_Areas!$C$29:$F$59,4,FALSE),IF(I47=FALSE,VLOOKUP(I42,Wall_Glazing_Areas!$I$29:$J$59,2,FALSE),\"\"))","v":""},{"$f":"IF(J47=TRUE,VLOOKUP(J42,Wall_Glazing_Areas!$C$29:$F$59,4,FALSE),IF(J47=FALSE,VLOOKUP(J42,Wall_Glazing_Areas!$I$29:$J$59,2,FALSE),\"\"))","v":""},{"$f":"IF(K47=TRUE,VLOOKUP(K42,Wall_Glazing_Areas!$C$29:$F$59,4,FALSE),IF(K47=FALSE,VLOOKUP(K42,Wall_Glazing_Areas!$I$29:$J$59,2,FALSE),\"\"))","v":""},{"$f":"IF(L47=TRUE,VLOOKUP(L42,Wall_Glazing_Areas!$C$29:$F$59,4,FALSE),IF(L47=FALSE,VLOOKUP(L42,Wall_Glazing_Areas!$I$29:$J$59,2,FALSE),\"\"))","v":""},{"$f":"IF(M47=TRUE,VLOOKUP(M42,Wall_Glazing_Areas!$C$29:$F$59,4,FALSE),IF(M47=FALSE,VLOOKUP(M42,Wall_Glazing_Areas!$I$29:$J$59,2,FALSE),\"\"))","v":""},{"$f":"IF(N47=TRUE,VLOOKUP(N42,Wall_Glazing_Areas!$C$29:$F$59,4,FALSE),IF(N47=FALSE,VLOOKUP(N42,Wall_Glazing_Areas!$I$29:$J$59,2,FALSE),\"\"))","v":""},{"$f":"IF(O47=TRUE,VLOOKUP(O42,Wall_Glazing_Areas!$C$29:$F$59,4,FALSE),IF(O47=FALSE,VLOOKUP(O42,Wall_Glazing_Areas!$I$29:$J$59,2,FALSE),\"\"))","v":""},{"$f":"IF(P47=TRUE,VLOOKUP(P42,Wall_Glazing_Areas!$C$29:$F$59,4,FALSE),IF(P47=FALSE,VLOOKUP(P42,Wall_Glazing_Areas!$I$29:$J$59,2,FALSE),\"\"))","v":""},{"$f":"IF(Q47=TRUE,VLOOKUP(Q42,Wall_Glazing_Areas!$C$29:$F$59,4,FALSE),IF(Q47=FALSE,VLOOKUP(Q42,Wall_Glazing_Areas!$I$29:$J$59,2,FALSE),\"\"))","v":""},{"$f":"IF(R47=TRUE,VLOOKUP(R42,Wall_Glazing_Areas!$C$29:$F$59,4,FALSE),IF(R47=FALSE,VLOOKUP(R42,Wall_Glazing_Areas!$I$29:$J$59,2,FALSE),\"\"))","v":""},{"$f":"IF(S47=TRUE,VLOOKUP(S42,Wall_Glazing_Areas!$C$29:$F$55,4),IF(S47=FALSE,VLOOKUP(S42,Wall_Glazing_Areas!$I$29:$J$55,2,FALSE),\"\"))","v":""},{"$f":"IF(T47=TRUE,VLOOKUP(T42,Wall_Glazing_Areas!$C$29:$F$55,4),IF(T47=FALSE,VLOOKUP(T42,Wall_Glazing_Areas!$I$29:$J$55,2,FALSE),\"\"))","v":""},{"$f":"IF(U47=TRUE,VLOOKUP(U42,Wall_Glazing_Areas!$C$29:$F$55,4),IF(U47=FALSE,VLOOKUP(U42,Wall_Glazing_Areas!$I$29:$J$55,2,FALSE),\"\"))","v":""},{"$f":"IF(V47=TRUE,VLOOKUP(V42,Wall_Glazing_Areas!$C$29:$F$55,4),IF(V47=FALSE,VLOOKUP(V42,Wall_Glazing_Areas!$I$29:$J$55,2,FALSE),\"\"))","v":""},{"$f":"IF(W47=TRUE,VLOOKUP(W42,Wall_Glazing_Areas!$C$29:$F$55,4),IF(W47=FALSE,VLOOKUP(W42,Wall_Glazing_Areas!$I$29:$J$55,2,FALSE),\"\"))","v":""},{"$f":"IF(X47=TRUE,VLOOKUP(X42,Wall_Glazing_Areas!$C$29:$F$55,4),IF(X47=FALSE,VLOOKUP(X42,Wall_Glazing_Areas!$I$29:$J$55,2,FALSE),\"\"))","v":""},{"$f":"IF(Y47=TRUE,VLOOKUP(Y42,Wall_Glazing_Areas!$C$29:$F$55,4),IF(Y47=FALSE,VLOOKUP(Y42,Wall_Glazing_Areas!$I$29:$J$55,2,FALSE),\"\"))","v":""},{"$f":"IF(Z47=TRUE,VLOOKUP(Z42,Wall_Glazing_Areas!$C$29:$F$55,4),IF(Z47=FALSE,VLOOKUP(Z42,Wall_Glazing_Areas!$I$29:$J$55,2,FALSE),\"\"))","v":""},{"$f":"IF(AA47=TRUE,VLOOKUP(AA42,Wall_Glazing_Areas!$C$29:$F$55,4),IF(AA47=FALSE,VLOOKUP(AA42,Wall_Glazing_Areas!$I$29:$J$55,2,FALSE),\"\"))","v":""},{"$f":"IF(AB47=TRUE,VLOOKUP(AB42,Wall_Glazing_Areas!$C$29:$F$55,4),IF(AB47=FALSE,VLOOKUP(AB42,Wall_Glazing_Areas!$I$29:$J$55,2,FALSE),\"\"))","v":""},{"$f":"IF(AC47=TRUE,VLOOKUP(AC42,Wall_Glazing_Areas!$C$29:$F$55,4),IF(AC47=FALSE,VLOOKUP(AC42,Wall_Glazing_Areas!$I$29:$J$55,2,FALSE),\"\"))","v":""},{"$f":"IF(AD47=TRUE,VLOOKUP(AD42,Wall_Glazing_Areas!$C$29:$F$55,4),IF(AD47=FALSE,VLOOKUP(AD42,Wall_Glazing_Areas!$I$29:$J$55,2,FALSE),\"\"))","v":""},{"$f":"IF(AE47=TRUE,VLOOKUP(AE42,Wall_Glazing_Areas!$C$29:$F$55,4),IF(AE47=FALSE,VLOOKUP(AE42,Wall_Glazing_Areas!$I$29:$J$55,2,FALSE),\"\"))","v":""},{"$f":"IF(AF47=TRUE,VLOOKUP(AF42,Wall_Glazing_Areas!$C$29:$F$55,4),IF(AF47=FALSE,VLOOKUP(AF42,Wall_Glazing_Areas!$I$29:$J$55,2,FALSE),\"\"))","v":""},{"$f":"IF(AG47=TRUE,VLOOKUP(AG42,Wall_Glazing_Areas!$C$29:$F$59,4),IF(AG47=FALSE,VLOOKUP(AG42,Wall_Glazing_Areas!$I$29:$J$59,2,FALSE),\"\"))","v":""},{"$f":"IF(AH47=TRUE,VLOOKUP(AH42,Wall_Glazing_Areas!$C$29:$F$59,4),IF(AH47=FALSE,VLOOKUP(AH42,Wall_Glazing_Areas!$I$29:$J$59,2,FALSE),\"\"))","v":""},{"$f":"SUM(C51:AH51)","v":0},"m2",null,null,null,null,null,"Shading Ref",{"$f":"$J19","v":""},{"$f":"$J20","v":""},{"$f":"$J21","v":""},{"$f":"$J22","v":""},{"$f":"$J23","v":""},{"$f":"$J24","v":""},{"$f":"$J25","v":""},{"$f":"$J26","v":""},{"$f":"$J27","v":""},{"$f":"$J28","v":""},{"$f":"$J29","v":""},{"$f":"$J30","v":""},{"$f":"$J31","v":""},{"$f":"$J32","v":""},{"$f":"$J33","v":""},{"$f":"$J34","v":""},null,"Interpolation calcs - South",1,2,3,4,5,6,7,8,9,10,11,12,13,14,15,16]
[null,"%",{"$f":"IFERROR(C51/SUM($C51:$Z51),\"\")","v":""},{"$f":"IFERROR(D51/SUM($C51:$Z51),\"\")","v":""},{"$f":"IFERROR(E51/SUM($C51:$Z51),\"\")","v":""},"","","","","","","","","","","","","",{"$f":"IFERROR(S51/SUM($C51:$Z51),\"\")","v":""},{"$f":"IFERROR(T51/SUM($C51:$Z51),\"\")","v":""},"","","","","","","","","","","","","","",{"$f":"SUM(C52:AH52)","v":0},"=100?",null,null,null,null,null,"P/H",{"$f":"$O19","v":""},{"$f":"$O20","v":""},{"$f":"$O21","v":""},{"$f":"$O22","v":""},{"$f":"$O23","v":""},{"$f":"$O24","v":""},{"$f":"$O25","v":""},{"$f":"$O26","v":""},{"$f":"$O27","v":""},{"$f":"$O28","v":""},{"$f":"$O29","v":""},{"$f":"$O30","v":""},{"$f":"$O31","v":""},{"$f":"$O32","v":""},{"$f":"$O33","v":""},{"$f":"$O34","v":""},null,"Shading Ref",{"$f":"AQ51","v":""},"","","","","","",{"$f":"AX51","v":""},"","","","","","",{"$f":"BE51","v":""},""]
[null,"Vision area / m2",{"$f":"IF(C47=TRUE,C51,\"\")","v":""},"","","","","","","","","","","","","","","",{"$f":"IF(S47=TRUE,S51,\"\")","v":""},"","","","","","","","","","","","","","","",{"$f":"SUM(C53:AH53)","v":0},"m2",null,null,null,null,null,null,null,null,null,null,null,null,null,null,null,null,null,null,null,null,null,null,null,"P/H",{"$f":"AQ52","v":""},"","","","","",{"$f":"AW52","v":""},"","","","","","","",{"$f":"BE52","v":""},{"$f":"BF52","v":""}]
[null,"Wall area / m2",{"$f":"IF(C47=FALSE,C51,\"\")","v":""},"","","","","","","","","","","","","","","",{"$f":"IF(S47=FALSE,S51,\"\")","v":""},"","","","","","","","","","","","","",{"$f":"IF(AG47=FALSE,AG51,\"\")","v":""},"",{"$f":"SUM(C54:AH54)","v":0},"m2",null,null,null,null,null,"P/H max?",{"$f":"IF(AQ52<>\"\",IF(AQ52>=1,TRUE,FALSE),\"\")","v":""},{"$f":"IF(AR52<>\"\",IF(AR52>=1,TRUE,FALSE),\"\")","v":""},"","",{"$f":"IF(AU52<>\"\",IF(AU52>=1,TRUE,FALSE),\"\")","v":""},"","","","",{"$f":"IF(AZ52<>\"\",IF(AZ52>=1,TRUE,FALSE),\"\")","v":""},"","","","","",{"$f":"IF(BF52<>\"\",IF(BF52>=1,TRUE,FALSE),\"\")","v":""}]
[null,"Wall >= 80%?",{"$f":"IF(C47=FALSE,IF(C52>=0.8,TRUE,FALSE),\"\")","v":""},"","","","","","","","","","","","","","","",{"$f":"IF(S47=FALSE,IF(S52>=0.8,TRUE,FALSE),\"\")","v":""},"","","","","","","","","","","","","","","",{"$f":"AI53/AI51","v":{"$error":"#DIV/0!"}},"WWR",null,null,null,null,null,"G/H",{"$f":"$P19","v":""},{"$f":"$P20","v":""},{"$f":"$P21","v":""},{"$f":"$P22","v":""},{"$f":"$P23","v":""},{"$f":"$P24","v":""},{"$f":"$P25","v":""},{"$f":"$P26","v":""},{"$f":"$P27","v":""},{"$f":"$P28","v":""},{"$f":"$P29","v":""},{"$f":"$P30","v":""},{"$f":"$P31","v":""},{"$f":"$P32","v":""},{"$f":"$P33","v":""},{"$f":"$P33","v":""},null,"P/H max?",{"$f":"AQ54","v":""},"","","","","",{"$f":"AW54","v":""},"","","","","","","","",""]
[null,"Meets R-value?",{"$f":"IF(C47=FALSE,IF(C55=TRUE,IF(C48<$E$11,FALSE,TRUE),IF(C48<$C$11,FALSE,TRUE)),\"\")","v":""},{"$f":"IF(D47=FALSE,IF(D55=TRUE,IF(D48<$E$11,FALSE,TRUE),IF(D48<$C$11,FALSE,TRUE)),\"\")","v":""},"","","","","","","","","","","","","","",{"$f":"IF(S47=FALSE,IF(S55=TRUE,IF(S48<$E$11,FALSE,TRUE),IF(S48<$C$11,FALSE,TRUE)),\"\")","v":""},"","","","","","","","","","","","","","","",null,null,null,null,null,null,null,"G/H max?",{"$f":"IF(AQ55<>\"\",IF(AQ55>=0.5,TRUE,FALSE),\"\")","v":""},{"$f":"IF(AR55<>\"\",IF(AR55>=0.5,TRUE,FALSE),\"\")","v":""},"","","","","","","","","","","","","",{"$f":"IF(BF55<>\"\",IF(BF55>=0.5,TRUE,FALSE),\"\")","v":""},null,"G/H","","","","","","","","","","","","","","","",""]
["if vision, then ","Shading?",{"$f":"IF(Wall_Glazing_Areas!G$29<>\"\",TRUE,FALSE)","v":false},{"$f":"IF(Wall_Glazing_Areas!G$31<>\"\",TRUE,FALSE)","v":false},{"$f":"IF(Wall_Glazing_Areas!G$33<>\"\",TRUE,FALSE)","v":false},{"$f":"IF(Wall_Glazing_Areas!G$35<>\"\",TRUE,FALSE)","v":false},{"$f":"IF(Wall_Glazing_Areas!G$37<>\"\",TRUE,FALSE)","v":false},{"$f":"IF(Wall_Glazing_Areas!G$39<>\"\",TRUE,FALSE)","v":false},{"$f":"IF(Wall_Glazing_Areas!$G$41<>\"\",TRUE,FALSE)","v":false},{"$f":"IF(Wall_Glazing_Areas!$G$43<>\"\",TRUE,FALSE)","v":false},{"$f":"IF(Wall_Glazing_Areas!$G$45<>\"\",TRUE,FALSE)","v":false},{"$f":"IF(Wall_Glazing_Areas!$G$47<>\"\",TRUE,FALSE)","v":false},{"$f":"IF(Wall_Glazing_Areas!$G$49<>\"\",TRUE,FALSE)","v":false},{"$f":"IF(Wall_Glazing_Areas!$G$51<>\"\",TRUE,FALSE)","v":false},{"$f":"IF(Wall_Glazing_Areas!$G$53<>\"\",TRUE,FALSE)","v":false},{"$f":"IF(Wall_Glazing_Areas!$G$56<>\"\",TRUE,FALSE)","v":false},{"$f":"IF(Wall_Glazing_Areas!$G$56<>\"\",TRUE,FALSE)","v":false},{"$f":"IF(Wall_Glazing_Areas!$G$56<>\"\",TRUE,FALSE)","v":false},null,null,null,null,null,null,null,null,null,null,null,null,null,null,null,null,null,null,null,null,null,null,null,"P/H1",{"$f":"INDEX(NCC_Support_Text!$K$62:$V$62,MATCH(AQ52,NCC_Support_Text!$K$62:$V$62))","v":{"$error":"#N/A"}},{"$f":"INDEX(NCC_Support_Text!$K$62:$V$62,MATCH(AR52,NCC_Support_Text!$K$62:$V$62))","v":{"$error":"#N/A"}},{"$f":"INDEX(NCC_Support_Text!$K$62:$V$62,MATCH(AS52,NCC_Support_Text!$K$62:$V$62))","v":{"$error":"#N/A"}},{"$f":"INDEX(NCC_Support_Text!$K$62:$V$62,MATCH(AT52,NCC_Support_Text!$K$62:$V$62))","v":{"$error":"#N/A"}},{"$f":"INDEX(NCC_Support_Text!$K$62:$V$62,MATCH(AU52,NCC_Support_Text!$K$62:$V$62))","v":{"$error":"#N/A"}},{"$f":"INDEX(NCC_Support_Text!$K$62:$V$62,MATCH(AV52,NCC_Support_Text!$K$62:$V$62))","v":{"$error":"#N/A"}},{"$f":"INDEX(NCC_Support_Text!$K$62:$V$62,MATCH(AW52,NCC_Support_Text!$K$62:$V$62))","v":{"$error":"#N/A"}},{"$f":"INDEX(NCC_Support_Text!$K$62:$V$62,MATCH(AX52,NCC_Support_Text!$K$62:$V$62))","v":{"$error":"#N/A"}},{"$f":"INDEX(NCC_Support_Text!$K$62:$V$62,MATCH(AY52,NCC_Support_Text!$K$62:$V$62))","v":{"$error":"#N/A"}},{"$f":"INDEX(NCC_Support_Text!$K$62:$V$62,MATCH(AZ52,NCC_Support_Text!$K$62:$V$62))","v":{"$error":"#N/A"}},{"$f":"INDEX(NCC_Support_Text!$K$62:$V$62,MATCH(BA52,NCC_Support_Text!$K$62:$V$62))","v":{"$error":"#N/A"}},{"$f":"INDEX(NCC_Support_Text!$K$62:$V$62,MATCH(BB52,NCC_Support_Text!$K$62:$V$62))","v":{"$error":"#N/A"}},{"$f":"INDEX(NCC_Support_Text!$K$62:$V$62,MATCH(BC52,NCC_Support_Text!$K$62:$V$62))","v":{"$error":"#N/A"}},{"$f":"INDEX(NCC_Support_Text!$K$62:$V$62,MATCH(BD52,NCC_Support_Text!$K$62:$V$62))","v":{"$error":"#N/A"}},{"$f":"INDEX(NCC_Support_Text!$K$62:$V$62,MATCH(BE52,NCC_Support_Text!$K$62:$V$62))","v":{"$error":"#N/A"}},{"$f":"INDEX(NCC_Support_Text!$K$62:$V$62,MATCH(BF52,NCC_Support_Text!$K$62:$V$62))","v":{"$error":"#N/A"}},null,"G/H max?","","","","","","","","","","","","","","","",""]
[null,"Shading ref",{"$f":"IF(C57=TRUE,Wall_Glazing_Areas!G29,\"\")","v":""},{"$f":"IF(D57=TRUE,Wall_Glazing_Areas!G31,\"\")","v":""},{"$f":"IF(E57=TRUE,Wall_Glazing_Areas!G33,\"\")","v":""},{"$f":"IF(F57=TRUE,Wall_Glazing_Areas!G35,\"\")","v":""},{"$f":"IF(G57=TRUE,Wall_Glazing_Areas!G37,\"\")","v":""},{"$f":"IF(H57=TRUE,Wall_Glazing_Areas!G39,\"\")","v":""},{"$f":"IF(I57=TRUE,Wall_Glazing_Areas!$G$41,\"\")","v":""},{"$f":"IF(J57=TRUE,Wall_Glazing_Areas!$G$43,\"\")","v":""},{"$f":"IF(K57=TRUE,Wall_Glazing_Areas!$G$45,\"\")","v":""},{"$f":"IF(L57=TRUE,Wall_Glazing_Areas!$G$47,\"\")","v":""},{"$f":"IF(M57=TRUE,Wall_Glazing_Areas!$G$49,\"\")","v":""},{"$f":"IF(N57=TRUE,Wall_Glazing_Areas!$G$51,\"\")","v":""},{"$f":"IF(O57=TRUE,Wall_Glazing_Areas!$G$53,\"\")","v":""},{"$f":"IF(P57=TRUE,Wall_Glazing_Areas!$G$56,\"\")","v":""},null,null,null,null,null,null,null,null,null,null,null,null,null,null,null,null,null,null,null,null,null,null,null,null,null,"P/H2",{"$f":"IF(AQ54=TRUE,\"\",INDEX(NCC_Support_Text!$K$62:$V$62,MATCH(AQ52,NCC_Support_Text!$K$62:$V$62)+1))","v":{"$error":"#N/A"}},{"$f":"IF(AR54=TRUE,\"\",INDEX(NCC_Support_Text!$K$62:$V$62,MATCH(AR52,NCC_Support_Text!$K$62:$V$62)+1))","v":{"$error":"#N/A"}},{"$f":"IF(AS54=TRUE,\"\",INDEX(NCC_Support_Text!$K$62:$V$62,MATCH(AS52,NCC_Support_Text!$K$62:$V$62)+1))","v":{"$error":"#N/A"}},{"$f":"IF(AT54=TRUE,\"\",INDEX(NCC_Support_Text!$K$62:$V$62,MATCH(AT52,NCC_Support_Text!$K$62:$V$62)+1))","v":{"$error":"#N/A"}},{"$f":"IF(AU54=TRUE,\"\",INDEX(NCC_Support_Text!$K$62:$V$62,MATCH(AU52,NCC_Support_Text!$K$62:$V$62)+1))","v":{"$error":"#N/A"}},{"$f":"IF(AV54=TRUE,\"\",INDEX(NCC_Support_Text!$K$62:$V$62,MATCH(AV52,NCC_Support_Text!$K$62:$V$62)+1))","v":{"$error":"#N/A"}},{"$f":"IF(AW54=TRUE,\"\",INDEX(NCC_Support_Text!$K$62:$V$62,MATCH(AW52,NCC_Support_Text!$K$62:$V$62)+1))","v":{"$error":"#N/A"}},{"$f":"IF(AX54=TRUE,\"\",INDEX(NCC_Support_Text!$K$62:$V$62,MATCH(AX52,NCC_Support_Text!$K$62:$V$62)+1))","v":{"$error":"#N/A"}},{"$f":"IF(AY54=TRUE,\"\",INDEX(NCC_Support_Text!$K$62:$V$62,MATCH(AY52,NCC_Support_Text!$K$62:$V$62)+1))","v":{"$error":"#N/A"}},{"$f":"IF(AZ54=TRUE,\"\",INDEX(NCC_Support_Text!$K$62:$V$62,MATCH(AZ52,NCC_Support_Text!$K$62:$V$62)+1))","v":{"$error":"#N/A"}},{"$f":"IF(BA54=TRUE,\"\",INDEX(NCC_Support_Text!$K$62:$V$62,MATCH(BA52,NCC_Support_Text!$K$62:$V$62)+1))","v":{"$error":"#N/A"}},{"$f":"IF(BB54=TRUE,\"\",INDEX(NCC_Support_Text!$K$62:$V$62,MATCH(BB52,NCC_Support_Text!$K$62:$V$62)+1))","v":{"$error":"#N/A"}},{"$f":"IF(BC54=TRUE,\"\",INDEX(NCC_Support_Text!$K$62:$V$62,MATCH(BC52,NCC_Support_Text!$K$62:$V$62)+1))","v":{"$error":"#N/A"}},{"$f":"IF(BD54=TRUE,\"\",INDEX(NCC_Support_Text!$K$62:$V$62,MATCH(BD52,NCC_Support_Text!$K$62:$V$62)+1))","v":{"$error":"#N/A"}},{"$f":"IF(BE54=TRUE,\"\",INDEX(NCC_Support_Text!$K$62:$V$62,MATCH(BE52,NCC_Support_Text!$K$62:$V$62)+1))","v":{"$error":"#N/A"}},{"$f":"IF(BF54=TRUE,\"\",INDEX(NCC_Support_Text!$K$62:$V$62,MATCH(BF52,NCC_Support_Text!$K$62:$V$62)+1))","v":{"$error":"#N/A"}},null,"P/H1",{"$f":"INDEX(NCC_Support_Text!$K$71:$V$71,MATCH(BI53,NCC_Support_Text!$K$71:$V$71))","v":{"$error":"#N/A"}},{"$f":"INDEX(NCC_Support_Text!$K$71:$V$71,MATCH(BJ53,NCC_Support_Text!$K$71:$V$71))","v":{"$error":"#N/A"}},{"$f":"INDEX(NCC_Support_Text!$K$71:$V$71,MATCH(BK53,NCC_Support_Text!$K$71:$V$71))","v":{"$error":"#N/A"}},{"$f":"INDEX(NCC_Support_Text!$K$71:$V$71,MATCH(BL53,NCC_Support_Text!$K$71:$V$71))","v":{"$error":"#N/A"}},{"$f":"INDEX(NCC_Support_Text!$K$71:$V$71,MATCH(BM53,NCC_Support_Text!$K$71:$V$71))","v":{"$error":"#N/A"}},{"$f":"INDEX(NCC_Support_Text!$K$71:$V$71,MATCH(BN53,NCC_Support_Text!$K$71:$V$71))","v":{"$error":"#N/A"}},{"$f":"INDEX(NCC_Support_Text!$K$71:$V$71,MATCH(BO53,NCC_Support_Text!$K$71:$V$71))","v":{"$error":"#N/A"}},{"$f":"INDEX(NCC_Support_Text!$K$71:$V$71,MATCH(BP53,NCC_Support_Text!$K$71:$V$71))","v":{"$error":"#N/A"}},{"$f":"INDEX(NCC_Support_Text!$K$71:$V$71,MATCH(BQ53,NCC_Support_Text!$K$71:$V$71))","v":{"$error":"#N/A"}},{"$f":"INDEX(NCC_Support_Text!$K$71:$V$71,MATCH(BR53,NCC_Support_Text!$K$71:$V$71))","v":{"$error":"#N/A"}},{"$f":"INDEX(NCC_Support_Text!$K$71:$V$71,MATCH(BS53,NCC_Support_Text!$K$71:$V$71))","v":{"$error":"#N/A"}},{"$f":"INDEX(NCC_Support_Text!$K$71:$V$71,MATCH(BT53,NCC_Support_Text!$K$71:$V$71))","v":{"$error":"#N/A"}},{"$f":"INDEX(NCC_Support_Text!$K$71:$V$71,MATCH(BU53,NCC_Support_Text!$K$71:$V$71))","v":{"$error":"#N/A"}},{"$f":"INDEX(NCC_Support_Text!$K$71:$V$71,MATCH(BV53,NCC_Support_Text!$K$71:$V$71))","v":{"$error":"#N/A"}},{"$f":"INDEX(NCC_Support_Text!$K$71:$V$71,MATCH(BW53,NCC_Support_Text!$K$71:$V$71))","v":{"$error":"#N/A"}},{"$f":"INDEX(NCC_Support_Text!$K$71:$V$71,MATCH(BX53,NCC_Support_Text!$K$71:$V$71))","v":{"$error":"#N/A"}}]
[null,"Multiplier",{"$f":"IF(C57=FALSE,1,VLOOKUP(C58,$J$17:$T$34,10,FALSE))","v":1},1,1,1,1,1,1,1,1,1,1,1,1,1,1,1,null,null,null,null,null,null,null,null,null,null,null,null,null,null,null,null,null,null,null,null,null,null,null,"G/H1",{"$f":"INDEX(NCC_Support_Text!$K$62:$K$68,MATCH(AQ55,NCC_Support_Text!$K$62:$K$68))","v":{"$error":"#N/A"}},{"$f":"INDEX(NCC_Support_Text!$K$62:$K$68,MATCH(AR55,NCC_Support_Text!$K$62:$K$68))","v":{"$error":"#N/A"}},{"$f":"INDEX(NCC_Support_Text!$K$62:$K$68,MATCH(AS55,NCC_Support_Text!$K$62:$K$68))","v":{"$error":"#N/A"}},{"$f":"INDEX(NCC_Support_Text!$K$62:$K$68,MATCH(AT55,NCC_Support_Text!$K$62:$K$68))","v":{"$error":"#N/A"}},{"$f":"INDEX(NCC_Support_Text!$K$62:$K$68,MATCH(AU55,NCC_Support_Text!$K$62:$K$68))","v":{"$error":"#N/A"}},{"$f":"INDEX(NCC_Support_Text!$K$62:$K$68,MATCH(AV55,NCC_Support_Text!$K$62:$K$68))","v":{"$error":"#N/A"}},{"$f":"INDEX(NCC_Support_Text!$K$62:$K$68,MATCH(AW55,NCC_Support_Text!$K$62:$K$68))","v":{"$error":"#N/A"}},{"$f":"INDEX(NCC_Support_Text!$K$62:$K$68,MATCH(AX55,NCC_Support_Text!$K$62:$K$68))","v":{"$error":"#N/A"}},{"$f":"INDEX(NCC_Support_Text!$K$62:$K$68,MATCH(AY55,NCC_Support_Text!$K$62:$K$68))","v":{"$error":"#N/A"}},{"$f":"INDEX(NCC_Support_Text!$K$62:$K$68,MATCH(AZ55,NCC_Support_Text!$K$62:$K$68))","v":{"$error":"#N/A"}},{"$f":"INDEX(NCC_Support_Text!$K$62:$K$68,MATCH(BA55,NCC_Support_Text!$K$62:$K$68))","v":{"$error":"#N/A"}},{"$f":"INDEX(NCC_Support_Text!$K$62:$K$68,MATCH(BB55,NCC_Support_Text!$K$62:$K$68))","v":{"$error":"#N/A"}},{"$f":"INDEX(NCC_Support_Text!$K$62:$K$68,MATCH(BC55,NCC_Support_Text!$K$62:$K$68))","v":{"$error":"#N/A"}},{"$f":"INDEX(NCC_Support_Text!$K$62:$K$68,MATCH(BD55,NCC_Support_Text!$K$62:$K$68))","v":{"$error":"#N/A"}},{"$f":"INDEX(NCC_Support_Text!$K$62:$K$68,MATCH(BE55,NCC_Support_Text!$K$62:$K$68))","v":{"$error":"#N/A"}},{"$f":"INDEX(NCC_Support_Text!$K$62:$K$68,MATCH(BF55,NCC_Support_Text!$K$62:$K$68))","v":{"$error":"#N/A"}},null,"P/H2",{"$f":"IF(BI55=TRUE,\"\",INDEX(NCC_Support_Text!$K$71:$V$71,MATCH(BI53,NCC_Support_Text!$K$71:$V$71)+1))","v":{"$error":"#N/A"}},{"$f":"IF(BJ55=TRUE,\"\",INDEX(NCC_Support_Text!$K$71:$V$71,MATCH(BJ53,NCC_Support_Text!$K$71:$V$71)+1))","v":{"$error":"#N/A"}},{"$f":"IF(BK55=TRUE,\"\",INDEX(NCC_Support_Text!$K$71:$V$71,MATCH(BK53,NCC_Support_Text!$K$71:$V$71)+1))","v":{"$error":"#N/A"}},{"$f":"IF(BL55=TRUE,\"\",INDEX(NCC_Support_Text!$K$71:$V$71,MATCH(BL53,NCC_Support_Text!$K$71:$V$71)+1))","v":{"$error":"#N/A"}},{"$f":"IF(BM55=TRUE,\"\",INDEX(NCC_Support_Text!$K$71:$V$71,MATCH(BM53,NCC_Support_Text!$K$71:$V$71)+1))","v":{"$error":"#N/A"}},{"$f":"IF(BN55=TRUE,\"\",INDEX(NCC_Support_Text!$K$71:$V$71,MATCH(BN53,NCC_Support_Text!$K$71:$V$71)+1))","v":{"$error":"#N/A"}},{"$f":"IF(BO55=TRUE,\"\",INDEX(NCC_Support_Text!$K$71:$V$71,MATCH(BO53,NCC_Support_Text!$K$71:$V$71)+1))","v":{"$error":"#N/A"}},{"$f":"IF(BP55=TRUE,\"\",INDEX(NCC_Support_Text!$K$71:$V$71,MATCH(BP53,NCC_Support_Text!$K$71:$V$71)+1))","v":{"$error":"#N/A"}},{"$f":"IF(BQ55=TRUE,\"\",INDEX(NCC_Support_Text!$K$71:$V$71,MATCH(BQ53,NCC_Support_Text!$K$71:$V$71)+1))","v":{"$error":"#N/A"}},{"$f":"IF(BR55=TRUE,\"\",INDEX(NCC_Support_Text!$K$71:$V$71,MATCH(BR53,NCC_Support_Text!$K$71:$V$71)+1))","v":{"$error":"#N/A"}},{"$f":"IF(BS55=TRUE,\"\",INDEX(NCC_Support_Text!$K$71:$V$71,MATCH(BS53,NCC_Support_Text!$K$71:$V$71)+1))","v":{"$error":"#N/A"}},{"$f":"IF(BT55=TRUE,\"\",INDEX(NCC_Support_Text!$K$71:$V$71,MATCH(BT53,NCC_Support_Text!$K$71:$V$71)+1))","v":{"$error":"#N/A"}},{"$f":"IF(BU55=TRUE,\"\",INDEX(NCC_Support_Text!$K$71:$V$71,MATCH(BU53,NCC_Support_Text!$K$71:$V$71)+1))","v":{"$error":"#N/A"}},{"$f":"IF(BV55=TRUE,\"\",INDEX(NCC_Support_Text!$K$71:$V$71,MATCH(BV53,NCC_Support_Text!$K$71:$V$71)+1))","v":{"$error":"#N/A"}},{"$f":"IF(BW55=TRUE,\"\",INDEX(NCC_Support_Text!$K$71:$V$71,MATCH(BW53,NCC_Support_Text!$K$71:$V$71)+1))","v":{"$error":"#N/A"}},{"$f":"IF(BX55=TRUE,\"\",INDEX(NCC_Support_Text!$K$71:$V$71,MATCH(BX53,NCC_Support_Text!$K$71:$V$71)+1))","v":{"$error":"#N/A"}}]
[null,"ERROR No U-value",{"$f":"IF(AND(C51<>\"\",C49=\"\"),\"U-VALUE MISSING\",\"\")","v":""},"","","","","","","","","","","","","","","",{"$f":"IF(AND(S51<>\"\",S49=\"\"),\"U-VALUE MISSING\",\"\")","v":""},"","","","","","","",null,null,null,null,null,null,null,null,null,null,null,null,null,null,null,"G/H2",{"$f":"IF(AQ56=TRUE,\"\",INDEX(NCC_Support_Text!$K$62:$K$68,MATCH(AQ55,NCC_Support_Text!$K$62:$K$68)+1))","v":{"$error":"#N/A"}},{"$f":"IF(AR56=TRUE,\"\",INDEX(NCC_Support_Text!$K$62:$K$68,MATCH(AR55,NCC_Support_Text!$K$62:$K$68)+1))","v":{"$error":"#N/A"}},{"$f":"IF(AS56=TRUE,\"\",INDEX(NCC_Support_Text!$K$62:$K$68,MATCH(AS55,NCC_Support_Text!$K$62:$K$68)+1))","v":{"$error":"#N/A"}},{"$f":"IF(AT56=TRUE,\"\",INDEX(NCC_Support_Text!$K$62:$K$68,MATCH(AT55,NCC_Support_Text!$K$62:$K$68)+1))","v":{"$error":"#N/A"}},{"$f":"IF(AU56=TRUE,\"\",INDEX(NCC_Support_Text!$K$62:$K$68,MATCH(AU55,NCC_Support_Text!$K$62:$K$68)+1))","v":{"$error":"#N/A"}},{"$f":"IF(AV56=TRUE,\"\",INDEX(NCC_Support_Text!$K$62:$K$68,MATCH(AV55,NCC_Support_Text!$K$62:$K$68)+1))","v":{"$error":"#N/A"}},{"$f":"IF(AW56=TRUE,\"\",INDEX(NCC_Support_Text!$K$62:$K$68,MATCH(AW55,NCC_Support_Text!$K$62:$K$68)+1))","v":{"$error":"#N/A"}},{"$f":"IF(AX56=TRUE,\"\",INDEX(NCC_Support_Text!$K$62:$K$68,MATCH(AX55,NCC_Support_Text!$K$62:$K$68)+1))","v":{"$error":"#N/A"}},{"$f":"IF(AY56=TRUE,\"\",INDEX(NCC_Support_Text!$K$62:$K$68,MATCH(AY55,NCC_Support_Text!$K$62:$K$68)+1))","v":{"$error":"#N/A"}},{"$f":"IF(AZ56=TRUE,\"\",INDEX(NCC_Support_Text!$K$62:$K$68,MATCH(AZ55,NCC_Support_Text!$K$62:$K$68)+1))","v":{"$error":"#N/A"}},{"$f":"IF(BA56=TRUE,\"\",INDEX(NCC_Support_Text!$K$62:$K$68,MATCH(BA55,NCC_Support_Text!$K$62:$K$68)+1))","v":{"$error":"#N/A"}},{"$f":"IF(BB56=TRUE,\"\",INDEX(NCC_Support_Text!$K$62:$K$68,MATCH(BB55,NCC_Support_Text!$K$62:$K$68)+1))","v":{"$error":"#N/A"}},{"$f":"IF(BC56=TRUE,\"\",INDEX(NCC_Support_Text!$K$62:$K$68,MATCH(BC55,NCC_Support_Text!$K$62:$K$68)+1))","v":{"$error":"#N/A"}},{"$f":"IF(BD56=TRUE,\"\",INDEX(NCC_Support_Text!$K$62:$K$68,MATCH(BD55,NCC_Support_Text!$K$62:$K$68)+1))","v":{"$error":"#N/A"}},{"$f":"IF(BE56=TRUE,\"\",INDEX(NCC_Support_Text!$K$62:$K$68,MATCH(BE55,NCC_Support_Text!$K$62:$K$68)+1))","v":{"$error":"#N/A"}},{"$f":"IF(BF56=TRUE,\"\",INDEX(NCC_Support_Text!$K$62:$K$68,MATCH(BF55,NCC_Support_Text!$K$62:$K$68)+1))","v":{"$error":"#N/A"}},null,"G/H1",{"$f":"INDEX(NCC_Support_Text!$K$71:$K$77,MATCH(BI56,NCC_Support_Text!$K$71:$K$77))","v":{"$error":"#N/A"}},{"$f":"INDEX(NCC_Support_Text!$K$71:$K$77,MATCH(BJ56,NCC_Support_Text!$K$71:$K$77))","v":{"$error":"#N/A"}},{"$f":"INDEX(NCC_Support_Text!$K$71:$K$77,MATCH(BK56,NCC_Support_Text!$K$71:$K$77))","v":{"$error":"#N/A"}},{"$f":"INDEX(NCC_Support_Text!$K$71:$K$77,MATCH(BL56,NCC_Support_Text!$K$71:$K$77))","v":{"$error":"#N/A"}},{"$f":"INDEX(NCC_Support_Text!$K$71:$K$77,MATCH(BM56,NCC_Support_Text!$K$71:$K$77))","v":{"$error":"#N/A"}},{"$f":"INDEX(NCC_Support_Text!$K$71:$K$77,MATCH(BN56,NCC_Support_Text!$K$71:$K$77))","v":{"$error":"#N/A"}},{"$f":"INDEX(NCC_Support_Text!$K$71:$K$77,MATCH(BO56,NCC_Support_Text!$K$71:$K$77))","v":{"$error":"#N/A"}},{"$f":"INDEX(NCC_Support_Text!$K$71:$K$77,MATCH(BP56,NCC_Support_Text!$K$71:$K$77))","v":{"$error":"#N/A"}},{"$f":"INDEX(NCC_Support_Text!$K$71:$K$77,MATCH(BQ56,NCC_Support_Text!$K$71:$K$77))","v":{"$error":"#N/A"}},{"$f":"INDEX(NCC_Support_Text!$K$71:$K$77,MATCH(BR56,NCC_Support_Text!$K$71:$K$77))","v":{"$error":"#N/A"}},{"$f":"INDEX(NCC_Support_Text!$K$71:$K$77,MATCH(BS56,NCC_Support_Text!$K$71:$K$77))","v":{"$error":"#N/A"}},{"$f":"INDEX(NCC_Support_Text!$K$71:$K$77,MATCH(BT56,NCC_Support_Text!$K$71:$K$77))","v":{"$error":"#N/A"}},{"$f":"INDEX(NCC_Support_Text!$K$71:$K$77,MATCH(BU56,NCC_Support_Text!$K$71:$K$77))","v":{"$error":"#N/A"}},{"$f":"INDEX(NCC_Support_Text!$K$71:$K$77,MATCH(BV56,NCC_Support_Text!$K$71:$K$77))","v":{"$error":"#N/A"}},{"$f":"INDEX(NCC_Support_Text!$K$71:$K$77,MATCH(BW56,NCC_Support_Text!$K$71:$K$77))","v":{"$error":"#N/A"}},{"$f":"INDEX(NCC_Support_Text!$K$71:$K$77,MATCH(BX56,NCC_Support_Text!$K$71:$K$77))","v":{"$error":"#N/A"}}]
[null,"ERROR No Area",{"$f":"IF(AND(C49<>\"\",C51=0),\"AREA MISSING\",\"\")","v":""},"","","","","","","","","","","","","","","",{"$f":"IF(AND(S49<>\"\",S51=0),\"AREA MISSING\",\"\")","v":""},"","","","","","","",null,null,null,null,null,null,null,null,"Total",null,null,null,null,null,null,"SM11",{"$f":"INDEX(NCC_Support_Text!$K$62:$V$68,MATCH(AQ59,NCC_Support_Text!$K$62:$K$68),MATCH(AQ57,NCC_Support_Text!$K$62:$V$62))","v":{"$error":"#N/A"}},{"$f":"INDEX(NCC_Support_Text!$K$62:$V$68,MATCH(AR59,NCC_Support_Text!$K$62:$K$68),MATCH(AR57,NCC_Support_Text!$K$62:$V$62))","v":{"$error":"#N/A"}},{"$f":"INDEX(NCC_Support_Text!$K$62:$V$68,MATCH(AS59,NCC_Support_Text!$K$62:$K$68),MATCH(AS57,NCC_Support_Text!$K$62:$V$62))","v":{"$error":"#N/A"}},{"$f":"INDEX(NCC_Support_Text!$K$62:$V$68,MATCH(AT59,NCC_Support_Text!$K$62:$K$68),MATCH(AT57,NCC_Support_Text!$K$62:$V$62))","v":{"$error":"#N/A"}},{"$f":"INDEX(NCC_Support_Text!$K$62:$V$68,MATCH(AU59,NCC_Support_Text!$K$62:$K$68),MATCH(AU57,NCC_Support_Text!$K$62:$V$62))","v":{"$error":"#N/A"}},{"$f":"INDEX(NCC_Support_Text!$K$62:$V$68,MATCH(AV59,NCC_Support_Text!$K$62:$K$68),MATCH(AV57,NCC_Support_Text!$K$62:$V$62))","v":{"$error":"#N/A"}},{"$f":"INDEX(NCC_Support_Text!$K$62:$V$68,MATCH(AW59,NCC_Support_Text!$K$62:$K$68),MATCH(AW57,NCC_Support_Text!$K$62:$V$62))","v":{"$error":"#N/A"}},{"$f":"INDEX(NCC_Support_Text!$K$62:$V$68,MATCH(AX59,NCC_Support_Text!$K$62:$K$68),MATCH(AX57,NCC_Support_Text!$K$62:$V$62))","v":{"$error":"#N/A"}},{"$f":"INDEX(NCC_Support_Text!$K$62:$V$68,MATCH(AY59,NCC_Support_Text!$K$62:$K$68),MATCH(AY57,NCC_Support_Text!$K$62:$V$62))","v":{"$error":"#N/A"}},{"$f":"INDEX(NCC_Support_Text!$K$62:$V$68,MATCH(AZ59,NCC_Support_Text!$K$62:$K$68),MATCH(AZ57,NCC_Support_Text!$K$62:$V$62))","v":{"$error":"#N/A"}},{"$f":"INDEX(NCC_Support_Text!$K$62:$V$68,MATCH(BA59,NCC_Support_Text!$K$62:$K$68),MATCH(BA57,NCC_Support_Text!$K$62:$V$62))","v":{"$error":"#N/A"}},{"$f":"INDEX(NCC_Support_Text!$K$62:$V$68,MATCH(BB59,NCC_Support_Text!$K$62:$K$68),MATCH(BB57,NCC_Support_Text!$K$62:$V$62))","v":{"$error":"#N/A"}},{"$f":"INDEX(NCC_Support_Text!$K$62:$V$68,MATCH(BC59,NCC_Support_Text!$K$62:$K$68),MATCH(BC57,NCC_Support_Text!$K$62:$V$62))","v":{"$error":"#N/A"}},{"$f":"INDEX(NCC_Support_Text!$K$62:$V$68,MATCH(BD59,NCC_Support_Text!$K$62:$K$68),MATCH(BD57,NCC_Support_Text!$K$62:$V$62))","v":{"$error":"#N/A"}},{"$f":"INDEX(NCC_Support_Text!$K$62:$V$68,MATCH(BE59,NCC_Support_Text!$K$62:$K$68),MATCH(BE57,NCC_Support_Text!$K$62:$V$62))","v":{"$error":"#N/A"}},{"$f":"INDEX(NCC_Support_Text!$K$62:$V$68,MATCH(BF59,NCC_Support_Text!$K$62:$K$68),MATCH(BF57,NCC_Support_Text!$K$62:$V$62))","v":{"$error":"#N/A"}},null,"G/H2",{"$f":"IF(BI57=TRUE,\"\",INDEX(NCC_Support_Text!$K$71:$K$77,MATCH(BI56,NCC_Support_Text!$K$71:$K$77)+1))","v":{"$error":"#N/A"}},{"$f":"IF(BJ57=TRUE,\"\",INDEX(NCC_Support_Text!$K$71:$K$77,MATCH(BJ56,NCC_Support_Text!$K$71:$K$77)+1))","v":{"$error":"#N/A"}},{"$f":"IF(BK57=TRUE,\"\",INDEX(NCC_Support_Text!$K$71:$K$77,MATCH(BK56,NCC_Support_Text!$K$71:$K$77)+1))","v":{"$error":"#N/A"}},{"$f":"IF(BL57=TRUE,\"\",INDEX(NCC_Support_Text!$K$71:$K$77,MATCH(BL56,NCC_Support_Text!$K$71:$K$77)+1))","v":{"$error":"#N/A"}},{"$f":"IF(BM57=TRUE,\"\",INDEX(NCC_Support_Text!$K$71:$K$77,MATCH(BM56,NCC_Support_Text!$K$71:$K$77)+1))","v":{"$error":"#N/A"}},{"$f":"IF(BN57=TRUE,\"\",INDEX(NCC_Support_Text!$K$71:$K$77,MATCH(BN56,NCC_Support_Text!$K$71:$K$77)+1))","v":{"$error":"#N/A"}},{"$f":"IF(BO57=TRUE,\"\",INDEX(NCC_Support_Text!$K$71:$K$77,MATCH(BO56,NCC_Support_Text!$K$71:$K$77)+1))","v":{"$error":"#N/A"}},{"$f":"IF(BP57=TRUE,\"\",INDEX(NCC_Support_Text!$K$71:$K$77,MATCH(BP56,NCC_Support_Text!$K$71:$K$77)+1))","v":{"$error":"#N/A"}},{"$f":"IF(BQ57=TRUE,\"\",INDEX(NCC_Support_Text!$K$71:$K$77,MATCH(BQ56,NCC_Support_Text!$K$71:$K$77)+1))","v":{"$error":"#N/A"}},{"$f":"IF(BR57=TRUE,\"\",INDEX(NCC_Support_Text!$K$71:$K$77,MATCH(BR56,NCC_Support_Text!$K$71:$K$77)+1))","v":{"$error":"#N/A"}},{"$f":"IF(BS57=TRUE,\"\",INDEX(NCC_Support_Text!$K$71:$K$77,MATCH(BS56,NCC_Support_Text!$K$71:$K$77)+1))","v":{"$error":"#N/A"}},{"$f":"IF(BT57=TRUE,\"\",INDEX(NCC_Support_Text!$K$71:$K$77,MATCH(BT56,NCC_Support_Text!$K$71:$K$77)+1))","v":{"$error":"#N/A"}},{"$f":"IF(BU57=TRUE,\"\",INDEX(NCC_Support_Text!$K$71:$K$77,MATCH(BU56,NCC_Support_Text!$K$71:$K$77)+1))","v":{"$error":"#N/A"}},{"$f":"IF(BV57=TRUE,\"\",INDEX(NCC_Support_Text!$K$71:$K$77,MATCH(BV56,NCC_Support_Text!$K$71:$K$77)+1))","v":{"$error":"#N/A"}},{"$f":"IF(BW57=TRUE,\"\",INDEX(NCC_Support_Text!$K$71:$K$77,MATCH(BW56,NCC_Support_Text!$K$71:$K$77)+1))","v":{"$error":"#N/A"}},{"$f":"IF(BX57=TRUE,\"\",INDEX(NCC_Support_Text!$K$71:$K$77,MATCH(BX56,NCC_Support_Text!$K$71:$K$77)+1))","v":{"$error":"#N/A"}}]
[null,"UA",{"$f":"IFERROR(C51*C49,\"\")","v":""},"","","","","","","","","","","","","","","","",{"$f":"IFERROR(T51*T49,\"\")","v":""},"","","","","","","","","","","","","","",{"$f":"SUM(C62:AH62)","v":0},null,null,null,null,null,null,"SM12",{"$f":"IF(AQ56=TRUE,\"\",INDEX(NCC_Support_Text!$K$62:$V$68,MATCH(AQ60,NCC_Support_Text!$K$62:$K$68),MATCH(AQ57,NCC_Support_Text!$K$62:$V$62)))","v":{"$error":"#N/A"}},{"$f":"IF(AR56=TRUE,\"\",INDEX(NCC_Support_Text!$K$62:$V$68,MATCH(AR60,NCC_Support_Text!$K$62:$K$68),MATCH(AR57,NCC_Support_Text!$K$62:$V$62)))","v":{"$error":"#N/A"}},{"$f":"IF(AS56=TRUE,\"\",INDEX(NCC_Support_Text!$K$62:$V$68,MATCH(AS60,NCC_Support_Text!$K$62:$K$68),MATCH(AS57,NCC_Support_Text!$K$62:$V$62)))","v":{"$error":"#N/A"}},{"$f":"IF(AT56=TRUE,\"\",INDEX(NCC_Support_Text!$K$62:$V$68,MATCH(AT60,NCC_Support_Text!$K$62:$K$68),MATCH(AT57,NCC_Support_Text!$K$62:$V$62)))","v":{"$error":"#N/A"}},{"$f":"IF(AU56=TRUE,\"\",INDEX(NCC_Support_Text!$K$62:$V$68,MATCH(AU60,NCC_Support_Text!$K$62:$K$68),MATCH(AU57,NCC_Support_Text!$K$62:$V$62)))","v":{"$error":"#N/A"}},{"$f":"IF(AV56=TRUE,\"\",INDEX(NCC_Support_Text!$K$62:$V$68,MATCH(AV60,NCC_Support_Text!$K$62:$K$68),MATCH(AV57,NCC_Support_Text!$K$62:$V$62)))","v":{"$error":"#N/A"}},{"$f":"IF(AW56=TRUE,\"\",INDEX(NCC_Support_Text!$K$62:$V$68,MATCH(AW60,NCC_Support_Text!$K$62:$K$68),MATCH(AW57,NCC_Support_Text!$K$62:$V$62)))","v":{"$error":"#N/A"}},{"$f":"IF(AX56=TRUE,\"\",INDEX(NCC_Support_Text!$K$62:$V$68,MATCH(AX60,NCC_Support_Text!$K$62:$K$68),MATCH(AX57,NCC_Support_Text!$K$62:$V$62)))","v":{"$error":"#N/A"}},{"$f":"IF(AY56=TRUE,\"\",INDEX(NCC_Support_Text!$K$62:$V$68,MATCH(AY60,NCC_Support_Text!$K$62:$K$68),MATCH(AY57,NCC_Support_Text!$K$62:$V$62)))","v":{"$error":"#N/A"}},{"$f":"IF(AZ56=TRUE,\"\",INDEX(NCC_Support_Text!$K$62:$V$68,MATCH(AZ60,NCC_Support_Text!$K$62:$K$68),MATCH(AZ57,NCC_Support_Text!$K$62:$V$62)))","v":{"$error":"#N/A"}},{"$f":"IF(BA56=TRUE,\"\",INDEX(NCC_Support_Text!$K$62:$V$68,MATCH(BA60,NCC_Support_Text!$K$62:$K$68),MATCH(BA57,NCC_Support_Text!$K$62:$V$62)))","v":{"$error":"#N/A"}},{"$f":"IF(BB56=TRUE,\"\",INDEX(NCC_Support_Text!$K$62:$V$68,MATCH(BB60,NCC_Support_Text!$K$62:$K$68),MATCH(BB57,NCC_Support_Text!$K$62:$V$62)))","v":{"$error":"#N/A"}},{"$f":"IF(BC56=TRUE,\"\",INDEX(NCC_Support_Text!$K$62:$V$68,MATCH(BC60,NCC_Support_Text!$K$62:$K$68),MATCH(BC57,NCC_Support_Text!$K$62:$V$62)))","v":{"$error":"#N/A"}},{"$f":"IF(BD56=TRUE,\"\",INDEX(NCC_Support_Text!$K$62:$V$68,MATCH(BD60,NCC_Support_Text!$K$62:$K$68),MATCH(BD57,NCC_Support_Text!$K$62:$V$62)))","v":{"$error":"#N/A"}},{"$f":"IF(BE56=TRUE,\"\",INDEX(NCC_Support_Text!$K$62:$V$68,MATCH(BE60,NCC_Support_Text!$K$62:$K$68),MATCH(BE57,NCC_Support_Text!$K$62:$V$62)))","v":{"$error":"#N/A"}},{"$f":"IF(BF56=TRUE,\"\",INDEX(NCC_Support_Text!$K$62:$V$68,MATCH(BF60,NCC_Support_Text!$K$62:$K$68),MATCH(BF57,NCC_Support_Text!$K$62:$V$62)))","v":{"$error":"#N/A"}},null,"SM11",{"$f":"INDEX(NCC_Support_Text!$K$71:$V$77,MATCH(BI60,NCC_Support_Text!$K$71:$K$77),MATCH(BI58,NCC_Support_Text!$K$71:$V$71))","v":{"$error":"#N/A"}},{"$f":"INDEX(NCC_Support_Text!$K$71:$V$77,MATCH(BJ60,NCC_Support_Text!$K$71:$K$77),MATCH(BJ58,NCC_Support_Text!$K$71:$V$71))","v":{"$error":"#N/A"}},{"$f":"INDEX(NCC_Support_Text!$K$71:$V$77,MATCH(BK60,NCC_Support_Text!$K$71:$K$77),MATCH(BK58,NCC_Support_Text!$K$71:$V$71))","v":{"$error":"#N/A"}},{"$f":"INDEX(NCC_Support_Text!$K$71:$V$77,MATCH(BL60,NCC_Support_Text!$K$71:$K$77),MATCH(BL58,NCC_Support_Text!$K$71:$V$71))","v":{"$error":"#N/A"}},{"$f":"INDEX(NCC_Support_Text!$K$71:$V$77,MATCH(BM60,NCC_Support_Text!$K$71:$K$77),MATCH(BM58,NCC_Support_Text!$K$71:$V$71))","v":{"$error":"#N/A"}},{"$f":"INDEX(NCC_Support_Text!$K$71:$V$77,MATCH(BN60,NCC_Support_Text!$K$71:$K$77),MATCH(BN58,NCC_Support_Text!$K$71:$V$71))","v":{"$error":"#N/A"}},{"$f":"INDEX(NCC_Support_Text!$K$71:$V$77,MATCH(BO60,NCC_Support_Text!$K$71:$K$77),MATCH(BO58,NCC_Support_Text!$K$71:$V$71))","v":{"$error":"#N/A"}},{"$f":"INDEX(NCC_Support_Text!$K$71:$V$77,MATCH(BP60,NCC_Support_Text!$K$71:$K$77),MATCH(BP58,NCC_Support_Text!$K$71:$V$71))","v":{"$error":"#N/A"}},{"$f":"INDEX(NCC_Support_Text!$K$71:$V$77,MATCH(BQ60,NCC_Support_Text!$K$71:$K$77),MATCH(BQ58,NCC_Support_Text!$K$71:$V$71))","v":{"$error":"#N/A"}},{"$f":"INDEX(NCC_Support_Text!$K$71:$V$77,MATCH(BR60,NCC_Support_Text!$K$71:$K$77),MATCH(BR58,NCC_Support_Text!$K$71:$V$71))","v":{"$error":"#N/A"}},{"$f":"INDEX(NCC_Support_Text!$K$71:$V$77,MATCH(BS60,NCC_Support_Text!$K$71:$K$77),MATCH(BS58,NCC_Support_Text!$K$71:$V$71))","v":{"$error":"#N/A"}},{"$f":"INDEX(NCC_Support_Text!$K$71:$V$77,MATCH(BT60,NCC_Support_Text!$K$71:$K$77),MATCH(BT58,NCC_Support_Text!$K$71:$V$71))","v":{"$error":"#N/A"}},{"$f":"INDEX(NCC_Support_Text!$K$71:$V$77,MATCH(BU60,NCC_Support_Text!$K$71:$K$77),MATCH(BU58,NCC_Support_Text!$K$71:$V$71))","v":{"$error":"#N/A"}},{"$f":"INDEX(NCC_Support_Text!$K$71:$V$77,MATCH(BV60,NCC_Support_Text!$K$71:$K$77),MATCH(BV58,NCC_Support_Text!$K$71:$V$71))","v":{"$error":"#N/A"}},{"$f":"INDEX(NCC_Support_Text!$K$71:$V$77,MATCH(BW60,NCC_Support_Text!$K$71:$K$77),MATCH(BW58,NCC_Support_Text!$K$71:$V$71))","v":{"$error":"#N/A"}},{"$f":"INDEX(NCC_Support_Text!$K$71:$V$77,MATCH(BX60,NCC_Support_Text!$K$71:$K$77),MATCH(BX58,NCC_Support_Text!$K$71:$V$71))","v":{"$error":"#N/A"}}]
[null,"SA",{"$f":"IF(C47=TRUE,C51*C59*C50,\"\")","v":""},{"$f":"IF(D47=TRUE,D51*D59*D50,\"\")","v":""},"","","","","","","","","","","","","","",null,null,null,null,null,null,null,null,null,null,null,null,null,null,null,null,{"$f":"SUM(C63:R63)","v":0},null,null,null,null,null,null,"SM21",{"$f":"IF(AQ54=TRUE,\"\",INDEX(NCC_Support_Text!$K$62:$V$68,MATCH(AQ59,NCC_Support_Text!$K$62:$K$68),MATCH(AQ58,NCC_Support_Text!$K$62:$V$62)))","v":{"$error":"#N/A"}},{"$f":"IF(AR54=TRUE,\"\",INDEX(NCC_Support_Text!$K$62:$V$68,MATCH(AR59,NCC_Support_Text!$K$62:$K$68),MATCH(AR58,NCC_Support_Text!$K$62:$V$62)))","v":{"$error":"#N/A"}},{"$f":"IF(AS54=TRUE,\"\",INDEX(NCC_Support_Text!$K$62:$V$68,MATCH(AS59,NCC_Support_Text!$K$62:$K$68),MATCH(AS58,NCC_Support_Text!$K$62:$V$62)))","v":{"$error":"#N/A"}},{"$f":"IF(AT54=TRUE,\"\",INDEX(NCC_Support_Text!$K$62:$V$68,MATCH(AT59,NCC_Support_Text!$K$62:$K$68),MATCH(AT58,NCC_Support_Text!$K$62:$V$62)))","v":{"$error":"#N/A"}},{"$f":"IF(AU54=TRUE,\"\",INDEX(NCC_Support_Text!$K$62:$V$68,MATCH(AU59,NCC_Support_Text!$K$62:$K$68),MATCH(AU58,NCC_Support_Text!$K$62:$V$62)))","v":{"$error":"#N/A"}},{"$f":"IF(AV54=TRUE,\"\",INDEX(NCC_Support_Text!$K$62:$V$68,MATCH(AV59,NCC_Support_Text!$K$62:$K$68),MATCH(AV58,NCC_Support_Text!$K$62:$V$62)))","v":{"$error":"#N/A"}},{"$f":"IF(AW54=TRUE,\"\",INDEX(NCC_Support_Text!$K$62:$V$68,MATCH(AW59,NCC_Support_Text!$K$62:$K$68),MATCH(AW58,NCC_Support_Text!$K$62:$V$62)))","v":{"$error":"#N/A"}},{"$f":"IF(AX54=TRUE,\"\",INDEX(NCC_Support_Text!$K$62:$V$68,MATCH(AX59,NCC_Support_Text!$K$62:$K$68),MATCH(AX58,NCC_Support_Text!$K$62:$V$62)))","v":{"$error":"#N/A"}},{"$f":"IF(AY54=TRUE,\"\",INDEX(NCC_Support_Text!$K$62:$V$68,MATCH(AY59,NCC_Support_Text!$K$62:$K$68),MATCH(AY58,NCC_Support_Text!$K$62:$V$62)))","v":{"$error":"#N/A"}},{"$f":"IF(AZ54=TRUE,\"\",INDEX(NCC_Support_Text!$K$62:$V$68,MATCH(AZ59,NCC_Support_Text!$K$62:$K$68),MATCH(AZ58,NCC_Support_Text!$K$62:$V$62)))","v":{"$error":"#N/A"}},{"$f":"IF(BA54=TRUE,\"\",INDEX(NCC_Support_Text!$K$62:$V$68,MATCH(BA59,NCC_Support_Text!$K$62:$K$68),MATCH(BA58,NCC_Support_Text!$K$62:$V$62)))","v":{"$error":"#N/A"}},{"$f":"IF(BB54=TRUE,\"\",INDEX(NCC_Support_Text!$K$62:$V$68,MATCH(BB59,NCC_Support_Text!$K$62:$K$68),MATCH(BB58,NCC_Support_Text!$K$62:$V$62)))","v":{"$error":"#N/A"}},{"$f":"IF(BC54=TRUE,\"\",INDEX(NCC_Support_Text!$K$62:$V$68,MATCH(BC59,NCC_Support_Text!$K$62:$K$68),MATCH(BC58,NCC_Support_Text!$K$62:$V$62)))","v":{"$error":"#N/A"}},{"$f":"IF(BD54=TRUE,\"\",INDEX(NCC_Support_Text!$K$62:$V$68,MATCH(BD59,NCC_Support_Text!$K$62:$K$68),MATCH(BD58,NCC_Support_Text!$K$62:$V$62)))","v":{"$error":"#N/A"}},{"$f":"IF(BE54=TRUE,\"\",INDEX(NCC_Support_Text!$K$62:$V$68,MATCH(BE59,NCC_Support_Text!$K$62:$K$68),MATCH(BE58,NCC_Support_Text!$K$62:$V$62)))","v":{"$error":"#N/A"}},{"$f":"IF(BF54=TRUE,\"\",INDEX(NCC_Support_Text!$K$62:$V$68,MATCH(BF59,NCC_Support_Text!$K$62:$K$68),MATCH(BF58,NCC_Support_Text!$K$62:$V$62)))","v":{"$error":"#N/A"}},null,"SM12",{"$f":"IF(BI57=TRUE,\"\",INDEX(NCC_Support_Text!$K$71:$V$77,MATCH(BI61,NCC_Support_Text!$K$71:$K$77),MATCH(BI58,NCC_Support_Text!$K$71:$V$71)))","v":{"$error":"#N/A"}},{"$f":"IF(BJ57=TRUE,\"\",INDEX(NCC_Support_Text!$K$71:$V$77,MATCH(BJ61,NCC_Support_Text!$K$71:$K$77),MATCH(BJ58,NCC_Support_Text!$K$71:$V$71)))","v":{"$error":"#N/A"}},{"$f":"IF(BK57=TRUE,\"\",INDEX(NCC_Support_Text!$K$71:$V$77,MATCH(BK61,NCC_Support_Text!$K$71:$K$77),MATCH(BK58,NCC_Support_Text!$K$71:$V$71)))","v":{"$error":"#N/A"}},{"$f":"IF(BL57=TRUE,\"\",INDEX(NCC_Support_Text!$K$71:$V$77,MATCH(BL61,NCC_Support_Text!$K$71:$K$77),MATCH(BL58,NCC_Support_Text!$K$71:$V$71)))","v":{"$error":"#N/A"}},{"$f":"IF(BM57=TRUE,\"\",INDEX(NCC_Support_Text!$K$71:$V$77,MATCH(BM61,NCC_Support_Text!$K$71:$K$77),MATCH(BM58,NCC_Support_Text!$K$71:$V$71)))","v":{"$error":"#N/A"}},{"$f":"IF(BN57=TRUE,\"\",INDEX(NCC_Support_Text!$K$71:$V$77,MATCH(BN61,NCC_Support_Text!$K$71:$K$77),MATCH(BN58,NCC_Support_Text!$K$71:$V$71)))","v":{"$error":"#N/A"}},{"$f":"IF(BO57=TRUE,\"\",INDEX(NCC_Support_Text!$K$71:$V$77,MATCH(BO61,NCC_Support_Text!$K$71:$K$77),MATCH(BO58,NCC_Support_Text!$K$71:$V$71)))","v":{"$error":"#N/A"}},{"$f":"IF(BP57=TRUE,\"\",INDEX(NCC_Support_Text!$K$71:$V$77,MATCH(BP61,NCC_Support_Text!$K$71:$K$77),MATCH(BP58,NCC_Support_Text!$K$71:$V$71)))","v":{"$error":"#N/A"}},{"$f":"IF(BQ57=TRUE,\"\",INDEX(NCC_Support_Text!$K$71:$V$77,MATCH(BQ61,NCC_Support_Text!$K$71:$K$77),MATCH(BQ58,NCC_Support_Text!$K$71:$V$71)))","v":{"$error":"#N/A"}},{"$f":"IF(BR57=TRUE,\"\",INDEX(NCC_Support_Text!$K$71:$V$77,MATCH(BR61,NCC_Support_Text!$K$71:$K$77),MATCH(BR58,NCC_Support_Text!$K$71:$V$71)))","v":{"$error":"#N/A"}},{"$f":"IF(BS57=TRUE,\"\",INDEX(NCC_Support_Text!$K$71:$V$77,MATCH(BS61,NCC_Support_Text!$K$71:$K$77),MATCH(BS58,NCC_Support_Text!$K$71:$V$71)))","v":{"$error":"#N/A"}},{"$f":"IF(BT57=TRUE,\"\",INDEX(NCC_Support_Text!$K$71:$V$77,MATCH(BT61,NCC_Support_Text!$K$71:$K$77),MATCH(BT58,NCC_Support_Text!$K$71:$V$71)))","v":{"$error":"#N/A"}},{"$f":"IF(BU57=TRUE,\"\",INDEX(NCC_Support_Text!$K$71:$V$77,MATCH(BU61,NCC_Support_Text!$K$71:$K$77),MATCH(BU58,NCC_Support_Text!$K$71:$V$71)))","v":{"$error":"#N/A"}},{"$f":"IF(BV57=TRUE,\"\",INDEX(NCC_Support_Text!$K$71:$V$77,MATCH(BV61,NCC_Support_Text!$K$71:$K$77),MATCH(BV58,NCC_Support_Text!$K$71:$V$71)))","v":{"$error":"#N/A"}},{"$f":"IF(BW57=TRUE,\"\",INDEX(NCC_Support_Text!$K$71:$V$77,MATCH(BW61,NCC_Support_Text!$K$71:$K$77),MATCH(BW58,NCC_Support_Text!$K$71:$V$71)))","v":{"$error":"#N/A"}},{"$f":"IF(BX57=TRUE,\"\",INDEX(NCC_Support_Text!$K$71:$V$77,MATCH(BX61,NCC_Support_Text!$K$71:$K$77),MATCH(BX58,NCC_Support_Text!$K$71:$V$71)))","v":{"$error":"#N/A"}}]
[null,"MultiplierA",{"$f":"IFERROR((C59*C53),\"\")","v":""},"","","","","","","","","","","","","","","",null,null,null,null,null,null,null,null,null,null,null,null,null,null,null,null,null,null,null,null,null,null,null,"SM22",{"$f":"IF(AQ54=TRUE,\"\",IF(AQ56=TRUE,\"\",INDEX(NCC_Support_Text!$K$62:$V$68,MATCH(AQ60,NCC_Support_Text!$K$62:$K$68),MATCH(AQ58,NCC_Support_Text!$K$62:$V$62))))","v":{"$error":"#N/A"}},{"$f":"IF(AR54=TRUE,\"\",IF(AR56=TRUE,\"\",INDEX(NCC_Support_Text!$K$62:$V$68,MATCH(AR60,NCC_Support_Text!$K$62:$K$68),MATCH(AR58,NCC_Support_Text!$K$62:$V$62))))","v":{"$error":"#N/A"}},{"$f":"IF(AS54=TRUE,\"\",IF(AS56=TRUE,\"\",INDEX(NCC_Support_Text!$K$62:$V$68,MATCH(AS60,NCC_Support_Text!$K$62:$K$68),MATCH(AS58,NCC_Support_Text!$K$62:$V$62))))","v":{"$error":"#N/A"}},{"$f":"IF(AT54=TRUE,\"\",IF(AT56=TRUE,\"\",INDEX(NCC_Support_Text!$K$62:$V$68,MATCH(AT60,NCC_Support_Text!$K$62:$K$68),MATCH(AT58,NCC_Support_Text!$K$62:$V$62))))","v":{"$error":"#N/A"}},{"$f":"IF(AU54=TRUE,\"\",IF(AU56=TRUE,\"\",INDEX(NCC_Support_Text!$K$62:$V$68,MATCH(AU60,NCC_Support_Text!$K$62:$K$68),MATCH(AU58,NCC_Support_Text!$K$62:$V$62))))","v":{"$error":"#N/A"}},{"$f":"IF(AV54=TRUE,\"\",IF(AV56=TRUE,\"\",INDEX(NCC_Support_Text!$K$62:$V$68,MATCH(AV60,NCC_Support_Text!$K$62:$K$68),MATCH(AV58,NCC_Support_Text!$K$62:$V$62))))","v":{"$error":"#N/A"}},{"$f":"IF(AW54=TRUE,\"\",IF(AW56=TRUE,\"\",INDEX(NCC_Support_Text!$K$62:$V$68,MATCH(AW60,NCC_Support_Text!$K$62:$K$68),MATCH(AW58,NCC_Support_Text!$K$62:$V$62))))","v":{"$error":"#N/A"}},{"$f":"IF(AX54=TRUE,\"\",IF(AX56=TRUE,\"\",INDEX(NCC_Support_Text!$K$62:$V$68,MATCH(AX60,NCC_Support_Text!$K$62:$K$68),MATCH(AX58,NCC_Support_Text!$K$62:$V$62))))","v":{"$error":"#N/A"}},{"$f":"IF(AY54=TRUE,\"\",IF(AY56=TRUE,\"\",INDEX(NCC_Support_Text!$K$62:$V$68,MATCH(AY60,NCC_Support_Text!$K$62:$K$68),MATCH(AY58,NCC_Support_Text!$K$62:$V$62))))","v":{"$error":"#N/A"}},{"$f":"IF(AZ54=TRUE,\"\",IF(AZ56=TRUE,\"\",INDEX(NCC_Support_Text!$K$62:$V$68,MATCH(AZ60,NCC_Support_Text!$K$62:$K$68),MATCH(AZ58,NCC_Support_Text!$K$62:$V$62))))","v":{"$error":"#N/A"}},{"$f":"IF(BA54=TRUE,\"\",IF(BA56=TRUE,\"\",INDEX(NCC_Support_Text!$K$62:$V$68,MATCH(BA60,NCC_Support_Text!$K$62:$K$68),MATCH(BA58,NCC_Support_Text!$K$62:$V$62))))","v":{"$error":"#N/A"}},{"$f":"IF(BB54=TRUE,\"\",IF(BB56=TRUE,\"\",INDEX(NCC_Support_Text!$K$62:$V$68,MATCH(BB60,NCC_Support_Text!$K$62:$K$68),MATCH(BB58,NCC_Support_Text!$K$62:$V$62))))","v":{"$error":"#N/A"}},{"$f":"IF(BC54=TRUE,\"\",IF(BC56=TRUE,\"\",INDEX(NCC_Support_Text!$K$62:$V$68,MATCH(BC60,NCC_Support_Text!$K$62:$K$68),MATCH(BC58,NCC_Support_Text!$K$62:$V$62))))","v":{"$error":"#N/A"}},{"$f":"IF(BD54=TRUE,\"\",IF(BD56=TRUE,\"\",INDEX(NCC_Support_Text!$K$62:$V$68,MATCH(BD60,NCC_Support_Text!$K$62:$K$68),MATCH(BD58,NCC_Support_Text!$K$62:$V$62))))","v":{"$error":"#N/A"}},{"$f":"IF(BE54=TRUE,\"\",IF(BE56=TRUE,\"\",INDEX(NCC_Support_Text!$K$62:$V$68,MATCH(BE60,NCC_Support_Text!$K$62:$K$68),MATCH(BE58,NCC_Support_Text!$K$62:$V$62))))","v":{"$error":"#N/A"}},{"$f":"IF(BF54=TRUE,\"\",IF(BF56=TRUE,\"\",INDEX(NCC_Support_Text!$K$62:$V$68,MATCH(BF60,NCC_Support_Text!$K$62:$K$68),MATCH(BF58,NCC_Support_Text!$K$62:$V$62))))","v":{"$error":"#N/A"}},null,"SM21",{"$f":"IF(BI55=TRUE,\"\",INDEX(NCC_Support_Text!$K$71:$V$77,MATCH(BI60,NCC_Support_Text!$K$71:$K$77),MATCH(BI59,NCC_Support_Text!$K$71:$V$71)))","v":{"$error":"#N/A"}},{"$f":"IF(BJ55=TRUE,\"\",INDEX(NCC_Support_Text!$K$71:$V$77,MATCH(BJ60,NCC_Support_Text!$K$71:$K$77),MATCH(BJ59,NCC_Support_Text!$K$71:$V$71)))","v":{"$error":"#N/A"}},{"$f":"IF(BK55=TRUE,\"\",INDEX(NCC_Support_Text!$K$71:$V$77,MATCH(BK60,NCC_Support_Text!$K$71:$K$77),MATCH(BK59,NCC_Support_Text!$K$71:$V$71)))","v":{"$error":"#N/A"}},{"$f":"IF(BL55=TRUE,\"\",INDEX(NCC_Support_Text!$K$71:$V$77,MATCH(BL60,NCC_Support_Text!$K$71:$K$77),MATCH(BL59,NCC_Support_Text!$K$71:$V$71)))","v":{"$error":"#N/A"}},{"$f":"IF(BM55=TRUE,\"\",INDEX(NCC_Support_Text!$K$71:$V$77,MATCH(BM60,NCC_Support_Text!$K$71:$K$77),MATCH(BM59,NCC_Support_Text!$K$71:$V$71)))","v":{"$error":"#N/A"}},{"$f":"IF(BN55=TRUE,\"\",INDEX(NCC_Support_Text!$K$71:$V$77,MATCH(BN60,NCC_Support_Text!$K$71:$K$77),MATCH(BN59,NCC_Support_Text!$K$71:$V$71)))","v":{"$error":"#N/A"}},{"$f":"IF(BO55=TRUE,\"\",INDEX(NCC_Support_Text!$K$71:$V$77,MATCH(BO60,NCC_Support_Text!$K$71:$K$77),MATCH(BO59,NCC_Support_Text!$K$71:$V$71)))","v":{"$error":"#N/A"}},{"$f":"IF(BP55=TRUE,\"\",INDEX(NCC_Support_Text!$K$71:$V$77,MATCH(BP60,NCC_Support_Text!$K$71:$K$77),MATCH(BP59,NCC_Support_Text!$K$71:$V$71)))","v":{"$error":"#N/A"}},{"$f":"IF(BQ55=TRUE,\"\",INDEX(NCC_Support_Text!$K$71:$V$77,MATCH(BQ60,NCC_Support_Text!$K$71:$K$77),MATCH(BQ59,NCC_Support_Text!$K$71:$V$71)))","v":{"$error":"#N/A"}},{"$f":"IF(BR55=TRUE,\"\",INDEX(NCC_Support_Text!$K$71:$V$77,MATCH(BR60,NCC_Support_Text!$K$71:$K$77),MATCH(BR59,NCC_Support_Text!$K$71:$V$71)))","v":{"$error":"#N/A"}},{"$f":"IF(BS55=TRUE,\"\",INDEX(NCC_Support_Text!$K$71:$V$77,MATCH(BS60,NCC_Support_Text!$K$71:$K$77),MATCH(BS59,NCC_Support_Text!$K$71:$V$71)))","v":{"$error":"#N/A"}},{"$f":"IF(BT55=TRUE,\"\",INDEX(NCC_Support_Text!$K$71:$V$77,MATCH(BT60,NCC_Support_Text!$K$71:$K$77),MATCH(BT59,NCC_Support_Text!$K$71:$V$71)))","v":{"$error":"#N/A"}},{"$f":"IF(BU55=TRUE,\"\",INDEX(NCC_Support_Text!$K$71:$V$77,MATCH(BU60,NCC_Support_Text!$K$71:$K$77),MATCH(BU59,NCC_Support_Text!$K$71:$V$71)))","v":{"$error":"#N/A"}},{"$f":"IF(BV55=TRUE,\"\",INDEX(NCC_Support_Text!$K$71:$V$77,MATCH(BV60,NCC_Support_Text!$K$71:$K$77),MATCH(BV59,NCC_Support_Text!$K$71:$V$71)))","v":{"$error":"#N/A"}},{"$f":"IF(BW55=TRUE,\"\",INDEX(NCC_Support_Text!$K$71:$V$77,MATCH(BW60,NCC_Support_Text!$K$71:$K$77),MATCH(BW59,NCC_Support_Text!$K$71:$V$71)))","v":{"$error":"#N/A"}},{"$f":"IF(BX55=TRUE,\"\",INDEX(NCC_Support_Text!$K$71:$V$77,MATCH(BX60,NCC_Support_Text!$K$71:$K$77),MATCH(BX59,NCC_Support_Text!$K$71:$V$71)))","v":{"$error":"#N/A"}}]
[null,"SHGCA",{"$f":"IFERROR((C50*C53),\"\")","v":""},"","","","","","","","","","","","","","","",null,null,null,null,"Reference Building",null,"Changing Parameter",null,null,null,null,null,null,null,null,null,null,null,null,null,null,null,null,null,null,null,null,null,null,null,null,null,null,null,null,null,null,null,null,null,null,"SM22",{"$f":"IF(BI55=TRUE,\"\",IF(BI57=TRUE,\"\",INDEX(NCC_Support_Text!$K$71:$V$77,MATCH(BI61,NCC_Support_Text!$K$71:$K$77),MATCH(BI59,NCC_Support_Text!$K$71:$V$71))))","v":{"$error":"#N/A"}},{"$f":"IF(BJ55=TRUE,\"\",IF(BJ57=TRUE,\"\",INDEX(NCC_Support_Text!$K$71:$V$77,MATCH(BJ61,NCC_Support_Text!$K$71:$K$77),MATCH(BJ59,NCC_Support_Text!$K$71:$V$71))))","v":{"$error":"#N/A"}},{"$f":"IF(BK55=TRUE,\"\",IF(BK57=TRUE,\"\",INDEX(NCC_Support_Text!$K$71:$V$77,MATCH(BK61,NCC_Support_Text!$K$71:$K$77),MATCH(BK59,NCC_Support_Text!$K$71:$V$71))))","v":{"$error":"#N/A"}},{"$f":"IF(BL55=TRUE,\"\",IF(BL57=TRUE,\"\",INDEX(NCC_Support_Text!$K$71:$V$77,MATCH(BL61,NCC_Support_Text!$K$71:$K$77),MATCH(BL59,NCC_Support_Text!$K$71:$V$71))))","v":{"$error":"#N/A"}},{"$f":"IF(BM55=TRUE,\"\",IF(BM57=TRUE,\"\",INDEX(NCC_Support_Text!$K$71:$V$77,MATCH(BM61,NCC_Support_Text!$K$71:$K$77),MATCH(BM59,NCC_Support_Text!$K$71:$V$71))))","v":{"$error":"#N/A"}},{"$f":"IF(BN55=TRUE,\"\",IF(BN57=TRUE,\"\",INDEX(NCC_Support_Text!$K$71:$V$77,MATCH(BN61,NCC_Support_Text!$K$71:$K$77),MATCH(BN59,NCC_Support_Text!$K$71:$V$71))))","v":{"$error":"#N/A"}},{"$f":"IF(BO55=TRUE,\"\",IF(BO57=TRUE,\"\",INDEX(NCC_Support_Text!$K$71:$V$77,MATCH(BO61,NCC_Support_Text!$K$71:$K$77),MATCH(BO59,NCC_Support_Text!$K$71:$V$71))))","v":{"$error":"#N/A"}},{"$f":"IF(BP55=TRUE,\"\",IF(BP57=TRUE,\"\",INDEX(NCC_Support_Text!$K$71:$V$77,MATCH(BP61,NCC_Support_Text!$K$71:$K$77),MATCH(BP59,NCC_Support_Text!$K$71:$V$71))))","v":{"$error":"#N/A"}},{"$f":"IF(BQ55=TRUE,\"\",IF(BQ57=TRUE,\"\",INDEX(NCC_Support_Text!$K$71:$V$77,MATCH(BQ61,NCC_Support_Text!$K$71:$K$77),MATCH(BQ59,NCC_Support_Text!$K$71:$V$71))))","v":{"$error":"#N/A"}},{"$f":"IF(BR55=TRUE,\"\",IF(BR57=TRUE,\"\",INDEX(NCC_Support_Text!$K$71:$V$77,MATCH(BR61,NCC_Support_Text!$K$71:$K$77),MATCH(BR59,NCC_Support_Text!$K$71:$V$71))))","v":{"$error":"#N/A"}},{"$f":"IF(BS55=TRUE,\"\",IF(BS57=TRUE,\"\",INDEX(NCC_Support_Text!$K$71:$V$77,MATCH(BS61,NCC_Support_Text!$K$71:$K$77),MATCH(BS59,NCC_Support_Text!$K$71:$V$71))))","v":{"$error":"#N/A"}},{"$f":"IF(BT55=TRUE,\"\",IF(BT57=TRUE,\"\",INDEX(NCC_Support_Text!$K$71:$V$77,MATCH(BT61,NCC_Support_Text!$K$71:$K$77),MATCH(BT59,NCC_Support_Text!$K$71:$V$71))))","v":{"$error":"#N/A"}},{"$f":"IF(BU55=TRUE,\"\",IF(BU57=TRUE,\"\",INDEX(NCC_Support_Text!$K$71:$V$77,MATCH(BU61,NCC_Support_Text!$K$71:$K$77),MATCH(BU59,NCC_Support_Text!$K$71:$V$71))))","v":{"$error":"#N/A"}},{"$f":"IF(BV55=TRUE,\"\",IF(BV57=TRUE,\"\",INDEX(NCC_Support_Text!$K$71:$V$77,MATCH(BV61,NCC_Support_Text!$K$71:$K$77),MATCH(BV59,NCC_Support_Text!$K$71:$V$71))))","v":{"$error":"#N/A"}},{"$f":"IF(BW55=TRUE,\"\",IF(BW57=TRUE,\"\",INDEX(NCC_Support_Text!$K$71:$V$77,MATCH(BW61,NCC_Support_Text!$K$71:$K$77),MATCH(BW59,NCC_Support_Text!$K$71:$V$71))))","v":{"$error":"#N/A"}},{"$f":"IF(BX55=TRUE,\"\",IF(BX57=TRUE,\"\",INDEX(NCC_Support_Text!$K$71:$V$77,MATCH(BX61,NCC_Support_Text!$K$71:$K$77),MATCH(BX59,NCC_Support_Text!$K$71:$V$71))))","v":{"$error":"#N/A"}}]
[null,null,null,null,null,null,null,null,null,null,null,null,null,null,null,null,null,null,null,null,null,null,null,null,"Glazing","Wall","WWR",null,null,null,null,null,null,null,null,null,null,null,null,null,null,"SM, single",{"$f":"IF(AQ54=TRUE,AQ61+((AQ55-AQ59)*(AQ62-AQ61)/(AQ60-AQ59)),IF(AQ56=TRUE,AQ61+((AQ52-AQ57)*(AQ63-AQ61)/(AQ58-AQ57)),FALSE))","v":false},{"$f":"IF(AR54=TRUE,AR61+((AR55-AR59)*(AR62-AR61)/(AR60-AR59)),IF(AR56=TRUE,AR61+((AR52-AR57)*(AR63-AR61)/(AR58-AR57)),FALSE))","v":false},{"$f":"IF(AS54=TRUE,AS61+((AS55-AS59)*(AS62-AS61)/(AS60-AS59)),IF(AS56=TRUE,AS61+((AS52-AS57)*(AS63-AS61)/(AS58-AS57)),FALSE))","v":false},{"$f":"IF(AT54=TRUE,AT61+((AT55-AT59)*(AT62-AT61)/(AT60-AT59)),IF(AT56=TRUE,AT61+((AT52-AT57)*(AT63-AT61)/(AT58-AT57)),FALSE))","v":false},{"$f":"IF(AU54=TRUE,AU61+((AU55-AU59)*(AU62-AU61)/(AU60-AU59)),IF(AU56=TRUE,AU61+((AU52-AU57)*(AU63-AU61)/(AU58-AU57)),FALSE))","v":false},false,{"$f":"IF(AW54=TRUE,AW61+((AW55-AW59)*(AW62-AW61)/(AW60-AW59)),IF(AW56=TRUE,AW61+((AW52-AW57)*(AW63-AW61)/(AW58-AW57)),FALSE))","v":false},{"$f":"IF(AX54=TRUE,AX61+((AX55-AX59)*(AX62-AX61)/(AX60-AX59)),IF(AX56=TRUE,AX61+((AX52-AX57)*(AX63-AX61)/(AX58-AX57)),FALSE))","v":false},{"$f":"IF(AY54=TRUE,AY61+((AY55-AY59)*(AY62-AY61)/(AY60-AY59)),IF(AY56=TRUE,AY61+((AY52-AY57)*(AY63-AY61)/(AY58-AY57)),FALSE))","v":false},false,false,false,false,false,false,false]
["Area weighted average glazing U-value / W/m2K",null,{"$f":"IFERROR(SUM(C62:R62)/AI53,\"\")","v":""},null,null,null,null,null,null,null,null,null,null,null,null,null,null,null,null,null,null,null,"U-value glazing",null,{"$f":"IFERROR(($B$11*AI51-(Y68*(AI51-AI53)))/AI53,0)","v":0},{"$f":"C67","v":""},{"$f":"C67","v":""},null,null,null,null,null,null,null,null,null,null,null,null,null,null,null,null,null,null,null,null,null,null,null,null,null,null,null,null,null,null,null,null,"SM, single",{"$f":"IF(BI55=TRUE,BI62+((BI56-BI60)*(BI63-BI62)/(BI61-BI60)),IF(BI57=TRUE,BI62+((BI53-BI58)*(BI64-BI62)/(BI59-BI58)),FALSE))","v":false},false,false,false,false,false,{"$f":"IF(BO55=TRUE,BO62+((BO56-BO60)*(BO63-BO62)/(BO61-BO60)),IF(BO57=TRUE,BO62+((BO53-BO58)*(BO64-BO62)/(BO59-BO58)),FALSE))","v":false},false,false,false,false,false,false,false,false,{"$f":"IF(BX55=TRUE,BX62+((BX56-BX60)*(BX63-BX62)/(BX61-BX60)),IF(BX57=TRUE,BX62+((BX53-BX58)*(BX64-BX62)/(BX59-BX58)),FALSE))","v":false}]
["Area weighted average wall U-value / W/m2K",null,{"$f":"IF(SUM(S62:AH62)/(AI51-AI53)=0,\"WALL R-VALUE ERROR\",SUM(S62:AH62)/(AI51-AI53))","v":{"$error":"#DIV/0!"}},null,null,null,null,null,null,null,null,null,null,null,null,null,null,null,null,null,null,null,"U-value wall",null,{"$f":"IFERROR(IF(AND($Y69<=0.2,$C68>$F$11),$F$11,IF(AND($Y69>0.2,$C68>$D$11),$D$11,$C68)),0)","v":0},{"$f":"($B$11*AI51-SUM(C62:R62))/(AI51-AI53)","v":{"$error":"#N/A"}},{"$f":"IF(AND($Y69<=0.2,$C68>$F$11),$F$11,IF(AND($Y69>0.2,$C68>$D$11),$D$11,$C68))","v":{"$error":"#DIV/0!"}},"note, wall value may not meet backsto",null,null,null,null,null,null,null,null,null,null,null,null,null,"Q11",{"$f":"((AQ58-AQ52)*(AQ60-AQ55))/((AQ58-AQ57)*(AQ60-AQ59))*AQ61","v":{"$error":"#N/A"}},{"$f":"((AR58-AR52)*(AR60-AR55))/((AR58-AR57)*(AR60-AR59))*AR61","v":{"$error":"#N/A"}},{"$f":"((AS58-AS52)*(AS60-AS55))/((AS58-AS57)*(AS60-AS59))*AS61","v":{"$error":"#N/A"}},{"$f":"((AT58-AT52)*(AT60-AT55))/((AT58-AT57)*(AT60-AT59))*AT61","v":{"$error":"#N/A"}},{"$f":"((AU58-AU52)*(AU60-AU55))/((AU58-AU57)*(AU60-AU59))*AU61","v":{"$error":"#N/A"}},{"$error":"#N/A"},{"$error":"#N/A"},{"$error":"#N/A"},{"$error":"#N/A"},{"$error":"#N/A"},{"$error":"#N/A"},{"$error":"#N/A"},{"$error":"#N/A"},{"$error":"#N/A"},{"$error":"#N/A"},{"$f":"((BF58-BF52)*(BF60-BF55))/((BF58-BF57)*(BF60-BF59))*BF61","v":{"$error":"#N/A"}}]
["Meets compliance?",null,{"$f":"IF(C68=0,\"WALL R-VALUE ERROR\",IF(AND(AI55>0.2,C68<D$11),TRUE,IF(AND(AI55<=0.2,C68<F$11),TRUE,FALSE)))","v":{"$error":"#DIV/0!"}},null,null,null,null,null,null,null,null,null,null,null,null,null,null,null,null,null,null,null,"WWR",null,{"$f":"AI55","v":{"$error":"#DIV/0!"}},{"$f":"AI55","v":{"$error":"#DIV/0!"}},{"$f":"(($B$11*AI51-AA68*AI51)/(AA67-AA68))/AI51","v":{"$error":"#N/A"}},null,null,null,null,null,null,null,null,null,null,null,null,null,null,"Q12",{"$f":"((AQ52-AQ57)*(AQ60-AQ55))/((AQ58-AQ57)*(AQ60-AQ59))*AQ63","v":{"$error":"#VALUE!"}},{"$error":"#VALUE!"},{"$error":"#VALUE!"},{"$error":"#VALUE!"},{"$error":"#VALUE!"},{"$error":"#VALUE!"},{"$f":"((AW52-AW57)*(AW60-AW55))/((AW58-AW57)*(AW60-AW59))*AW63","v":{"$error":"#VALUE!"}},{"$error":"#VALUE!"},{"$error":"#VALUE!"},{"$error":"#VALUE!"},{"$error":"#VALUE!"},{"$error":"#VALUE!"},{"$error":"#VALUE!"},{"$error":"#VALUE!"},{"$error":"#VALUE!"},{"$f":"((BF52-BF57)*(BF60-BF55))/((BF58-BF57)*(BF60-BF59))*BF63","v":{"$error":"#VALUE!"}},null,"Q11",{"$f":"((BI59-BI53)*(BI61-BI56))/((BI59-BI58)*(BI61-BI60))*BI62","v":{"$error":"#N/A"}},{"$error":"#N/A"},{"$error":"#N/A"},{"$error":"#N/A"},{"$error":"#N/A"},{"$error":"#N/A"},{"$f":"((BO59-BO53)*(BO61-BO56))/((BO59-BO58)*(BO61-BO60))*BO62","v":{"$error":"#N/A"}},{"$error":"#N/A"},{"$error":"#N/A"},{"$error":"#N/A"},{"$error":"#N/A"},{"$error":"#N/A"},{"$error":"#N/A"},{"$error":"#N/A"},{"$error":"#N/A"},{"$f":"((BX59-BX53)*(BX61-BX56))/((BX59-BX58)*(BX61-BX60))*BX62","v":{"$error":"#N/A"}}]
["Area weighted average SHGC",null,{"$f":"IFERROR(SUM(C65:R65)/AI53,0)","v":0},null,null,null,null,null,null,null,null,null,null,null,null,null,null,null,null,null,null,null,null,null,"Glazing","Shading","WWR",null,null,null,null,null,null,null,null,null,null,null,null,null,null,"Q21",{"$f":"((AQ58-AQ52)*(AQ55-AQ59))/((AQ58-AQ57)*(AQ60-AQ59))*AQ62","v":{"$error":"#N/A"}},{"$error":"#N/A"},{"$error":"#N/A"},{"$error":"#N/A"},{"$error":"#N/A"},{"$error":"#N/A"},{"$f":"((AW58-AW52)*(AW55-AW59))/((AW58-AW57)*(AW60-AW59))*AW62","v":{"$error":"#N/A"}},{"$error":"#N/A"},{"$error":"#N/A"},{"$error":"#N/A"},{"$error":"#N/A"},{"$error":"#N/A"},{"$error":"#N/A"},{"$error":"#N/A"},{"$error":"#N/A"},{"$f":"((BF58-BF52)*(BF55-BF59))/((BF58-BF57)*(BF60-BF59))*BF62","v":{"$error":"#N/A"}},null,"Q12",{"$f":"((BI53-BI58)*(BI61-BI56))/((BI59-BI58)*(BI61-BI60))*BI64","v":{"$error":"#VALUE!"}},{"$error":"#VALUE!"},{"$error":"#VALUE!"},{"$error":"#VALUE!"},{"$error":"#VALUE!"},{"$error":"#VALUE!"},{"$f":"((BO53-BO58)*(BO61-BO56))/((BO59-BO58)*(BO61-BO60))*BO64","v":{"$error":"#VALUE!"}},{"$error":"#VALUE!"},{"$error":"#VALUE!"},{"$error":"#VALUE!"},{"$error":"#VALUE!"},{"$error":"#VALUE!"},{"$error":"#VALUE!"},{"$error":"#VALUE!"},{"$error":"#VALUE!"},{"$f":"((BX53-BX58)*(BX61-BX56))/((BX59-BX58)*(BX61-BX60))*BX64","v":{"$error":"#VALUE!"}}]
["Area weighted average shading multiplier",null,{"$f":"IFERROR(SUM(C64:R64)/AI53,0)","v":0},null,null,null,null,null,null,null,null,null,null,null,null,null,null,null,null,null,null,null,"SHGC",null,{"$f":"$G$11/(Y72*Y73)","v":{"$error":"#N/A"}},{"$f":"C70","v":0},{"$f":"C70","v":0},null,null,null,null,null,null,null,null,null,null,null,null,null,null,"Q22",{"$f":"((AQ52-AQ57)*(AQ55-AQ59))/((AQ58-AQ57)*(AQ60-AQ59))*AQ64","v":{"$error":"#VALUE!"}},{"$error":"#VALUE!"},{"$error":"#VALUE!"},{"$error":"#VALUE!"},{"$error":"#VALUE!"},{"$error":"#VALUE!"},{"$f":"((AW52-AW57)*(AW55-AW59))/((AW58-AW57)*(AW60-AW59))*AW64","v":{"$error":"#VALUE!"}},{"$error":"#VALUE!"},{"$error":"#VALUE!"},{"$error":"#VALUE!"},{"$error":"#VALUE!"},{"$error":"#VALUE!"},{"$error":"#VALUE!"},{"$error":"#VALUE!"},{"$error":"#VALUE!"},{"$f":"((BF52-BF57)*(BF55-BF59))/((BF58-BF57)*(BF60-BF59))*BF64","v":{"$error":"#VALUE!"}},null,"Q21",{"$f":"((BI59-BI53)*(BI56-BI60))/((BI59-BI58)*(BI61-BI60))*BI63","v":{"$error":"#N/A"}},{"$error":"#N/A"},{"$error":"#N/A"},{"$error":"#N/A"},{"$error":"#N/A"},{"$error":"#N/A"},{"$f":"((BO59-BO53)*(BO56-BO60))/((BO59-BO58)*(BO61-BO60))*BO63","v":{"$error":"#N/A"}},{"$error":"#N/A"},{"$error":"#N/A"},{"$error":"#N/A"},{"$error":"#N/A"},{"$error":"#N/A"},{"$error":"#N/A"},{"$error":"#N/A"},{"$error":"#N/A"},{"$f":"((BX59-BX53)*(BX56-BX60))/((BX59-BX58)*(BX61-BX60))*BX63","v":{"$error":"#N/A"}}]
["Solar admittance coefficient",null,{"$f":"IF(AI53=0,0,IF(AI55<0.2,0,$K$11))","v":0},null,null,null,null,null,null,null,null,null,null,null,null,null,null,null,null,null,null,null,"Shading",null,{"$f":"IF(C$200=FALSE,1,C71)","v":0},{"$f":"IF(G$11/(Z71*Z73)>1,1,G$11/(Z71*Z73))","v":{"$error":"#N/A"}},1,null,null,null,null,null,null,null,null,null,null,null,null,null,null,"SM, double",{"$f":"SUM(AQ68:AQ71)","v":{"$error":"#N/A"}},{"$error":"#N/A"},{"$error":"#N/A"},{"$error":"#N/A"},{"$error":"#N/A"},{"$error":"#N/A"},{"$f":"SUM(AW68:AW71)","v":{"$error":"#N/A"}},{"$error":"#N/A"},{"$error":"#N/A"},{"$error":"#N/A"},{"$error":"#N/A"},{"$error":"#N/A"},{"$error":"#N/A"},{"$error":"#N/A"},{"$error":"#N/A"},{"$f":"SUM(BF68:BF71)","v":{"$error":"#N/A"}},null,"Q22",{"$f":"((BI53-BI58)*(BI56-BI60))/((BI59-BI58)*(BI61-BI60))*BI65","v":{"$error":"#VALUE!"}},{"$error":"#VALUE!"},{"$error":"#VALUE!"},{"$error":"#VALUE!"},{"$error":"#VALUE!"},{"$error":"#VALUE!"},{"$f":"((BO53-BO58)*(BO56-BO60))/((BO59-BO58)*(BO61-BO60))*BO65","v":{"$error":"#VALUE!"}},{"$error":"#VALUE!"},{"$error":"#VALUE!"},{"$error":"#VALUE!"},{"$error":"#VALUE!"},{"$error":"#VALUE!"},{"$error":"#VALUE!"},{"$error":"#VALUE!"},{"$error":"#VALUE!"},{"$f":"((BX53-BX58)*(BX56-BX60))/((BX59-BX58)*(BX61-BX60))*BX65","v":{"$error":"#VALUE!"}}]
["Wall-glazing U-value, North",null,{"$f":"IF(AI51=0,\"\",SUM(C62:AH62)/SUM(C51:AH51))","v":""},null,null,null,null,null,null,null,null,null,null,null,null,null,null,null,null,null,null,null,"WWR",null,{"$f":"AI55","v":{"$error":"#DIV/0!"}},{"$f":"AI55","v":{"$error":"#DIV/0!"}},{"$f":"G$11/(AA71*AA72)","v":{"$error":"#N/A"}},null,null,null,null,null,null,null,null,null,null,null,null,null,null,null,null,null,null,null,null,null,null,null,null,null,null,null,null,null,null,null,null,"SM, double",{"$f":"SUM(BI69:BI72)","v":{"$error":"#N/A"}},{"$error":"#N/A"},{"$error":"#N/A"},{"$error":"#N/A"},{"$error":"#N/A"},{"$error":"#N/A"},{"$f":"SUM(BO69:BO72)","v":{"$error":"#N/A"}},{"$error":"#N/A"},{"$error":"#N/A"},{"$error":"#N/A"},{"$error":"#N/A"},{"$error":"#N/A"},{"$error":"#N/A"},{"$error":"#N/A"},{"$error":"#N/A"},{"$f":"SUM(BX69:BX72)","v":{"$error":"#N/A"}}]
["Solar admittance, North",null,{"$f":"IF(AI53=0,0,AI63/AI51)","v":0}]
[]
[]
[]
[]
["East",null,"Vision",null,null,null,null,null,null,null,null,null,null,null,null,null,null,null,"Wall"]
[null,"Façade Reference",{"$f":"IF(Wall_Glazing_Areas!C$69<>0,Wall_Glazing_Areas!C$69,\"\")","v":""},{"$f":"IF(Wall_Glazing_Areas!C$71<>0,Wall_Glazing_Areas!C$71,\"\")","v":""},{"$f":"IF(Wall_Glazing_Areas!C$73<>0,Wall_Glazing_Areas!C$73,\"\")","v":""},{"$f":"IF(Wall_Glazing_Areas!C$75<>0,Wall_Glazing_Areas!C$75,\"\")","v":""},{"$f":"IF(Wall_Glazing_Areas!C$77<>0,Wall_Glazing_Areas!C$77,\"\")","v":""},{"$f":"IF(Wall_Glazing_Areas!C$79<>0,Wall_Glazing_Areas!C$79,\"\")","v":""},{"$f":"IF(Wall_Glazing_Areas!C$81<>0,Wall_Glazing_Areas!C$81,\"\")","v":""},{"$f":"IF(Wall_Glazing_Areas!$C$83<>0,Wall_Glazing_Areas!$C$83,\"\")","v":""},{"$f":"IF(Wall_Glazing_Areas!$C$85<>0,Wall_Glazing_Areas!$C$85,\"\")","v":""},{"$f":"IF(Wall_Glazing_Areas!$C$87<>0,Wall_Glazing_Areas!$C$87,\"\")","v":""},{"$f":"IF(Wall_Glazing_Areas!$C$89<>0,Wall_Glazing_Areas!$C$89,\"\")","v":""},{"$f":"IF(Wall_Glazing_Areas!$C$91<>0,Wall_Glazing_Areas!$C$91,\"\")","v":""},{"$f":"IF(Wall_Glazing_Areas!$C$93<>0,Wall_Glazing_Areas!$C$93,\"\")","v":""},{"$f":"IF(Wall_Glazing_Areas!$C$95<>0,Wall_Glazing_Areas!$C$95,\"\")","v":""},{"$f":"IF(Wall_Glazing_Areas!$C$97<>0,Wall_Glazing_Areas!$C$97,\"\")","v":""},{"$f":"IF(Wall_Glazing_Areas!$C$99<>0,Wall_Glazing_Areas!$C$99,\"\")","v":""},{"$f":"IF(Wall_Glazing_Areas!I$69<>0,Wall_Glazing_Areas!I$69,\"\")","v":""},{"$f":"IF(Wall_Glazing_Areas!I$71<>0,Wall_Glazing_Areas!I$71,\"\")","v":""},{"$f":"IF(Wall_Glazing_Areas!I$73<>0,Wall_Glazing_Areas!I$73,\"\")","v":""},{"$f":"IF(Wall_Glazing_Areas!I$75<>0,Wall_Glazing_Areas!I$75,\"\")","v":""},{"$f":"IF(Wall_Glazing_Areas!I$77<>0,Wall_Glazing_Areas!I$77,\"\")","v":""},{"$f":"IF(Wall_Glazing_Areas!I$79<>0,Wall_Glazing_Areas!I$79,\"\")","v":""},{"$f":"IF(Wall_Glazing_Areas!I$81<>0,Wall_Glazing_Areas!I$81,\"\")","v":""},{"$f":"IF(Wall_Glazing_Areas!$I$83<>0,Wall_Glazing_Areas!$I$83,\"\")","v":""},{"$f":"IF(Wall_Glazing_Areas!$I$85<>0,Wall_Glazing_Areas!$I$85,\"\")","v":""},{"$f":"IF(Wall_Glazing_Areas!$I$87<>0,Wall_Glazing_Areas!$I$87,\"\")","v":""},{"$f":"IF(Wall_Glazing_Areas!$I$89<>0,Wall_Glazing_Areas!$I$89,\"\")","v":""},{"$f":"IF(Wall_Glazing_Areas!$I$91<>0,Wall_Glazing_Areas!$I$91,\"\")","v":""},{"$f":"IF(Wall_Glazing_Areas!$I$93<>0,Wall_Glazing_Areas!$I$93,\"\")","v":""},{"$f":"IF(Wall_Glazing_Areas!$I$95<>0,Wall_Glazing_Areas!$I$95,\"\")","v":""},{"$f":"IF(Wall_Glazing_Areas!$I$97<>0,Wall_Glazing_Areas!$I$97,\"\")","v":""},{"$f":"IF(Wall_Glazing_Areas!$I$99<>0,Wall_Glazing_Areas!$I$99,\"\")","v":""}]
[null,"Internal",{"$f":"IF(Wall_Glazing_Areas!P69,TRUE,FALSE)","v":false},{"$f":"IF(Wall_Glazing_Areas!P71,TRUE,FALSE)","v":false},{"$f":"IF(Wall_Glazing_Areas!P73,TRUE,FALSE)","v":false},{"$f":"IF(Wall_Glazing_Areas!P75,TRUE,FALSE)","v":false},{"$f":"IF(Wall_Glazing_Areas!P77,TRUE,FALSE)","v":false},{"$f":"IF(Wall_Glazing_Areas!P79,TRUE,FALSE)","v":false},{"$f":"IF(Wall_Glazing_Areas!P81,TRUE,FALSE)","v":false},{"$f":"IF(Wall_Glazing_Areas!P83,TRUE,FALSE)","v":false},{"$f":"IF(Wall_Glazing_Areas!P85,TRUE,FALSE)","v":false},{"$f":"IF(Wall_Glazing_Areas!P87,TRUE,FALSE)","v":false},{"$f":"IF(Wall_Glazing_Areas!P89,TRUE,FALSE)","v":false},{"$f":"IF(Wall_Glazing_Areas!P91,TRUE,FALSE)","v":false},{"$f":"IF(Wall_Glazing_Areas!P93,TRUE,FALSE)","v":false},{"$f":"IF(Wall_Glazing_Areas!P95,TRUE,FALSE)","v":false},{"$f":"IF(Wall_Glazing_Areas!P97,TRUE,FALSE)","v":false},{"$f":"IF(Wall_Glazing_Areas!P99,TRUE,FALSE)","v":false}]
[null,"System Type",{"$f":"IFERROR(INDEX(Glazing_Systems!$D$12:$D$42,MATCH('J1.5A_Calcs'!C80,Glazing_Systems!$C$12:$C$42,0)),\"\")","v":""},{"$f":"IFERROR(INDEX(Glazing_Systems!$D$12:$D$42,MATCH('J1.5A_Calcs'!D80,Glazing_Systems!$C$12:$C$42,0)),\"\")","v":""},{"$f":"IFERROR(INDEX(Glazing_Systems!$D$12:$D$42,MATCH('J1.5A_Calcs'!E80,Glazing_Systems!$C$12:$C$42,0)),\"\")","v":""},{"$f":"IFERROR(INDEX(Glazing_Systems!$D$12:$D$42,MATCH('J1.5A_Calcs'!F80,Glazing_Systems!$C$12:$C$42,0)),\"\")","v":""},{"$f":"IFERROR(INDEX(Glazing_Systems!$D$12:$D$42,MATCH('J1.5A_Calcs'!G80,Glazing_Systems!$C$12:$C$42,0)),\"\")","v":""},{"$f":"IFERROR(INDEX(Glazing_Systems!$D$12:$D$42,MATCH('J1.5A_Calcs'!H80,Glazing_Systems!$C$12:$C$42,0)),\"\")","v":""},{"$f":"IFERROR(INDEX(Glazing_Systems!$D$12:$D$42,MATCH('J1.5A_Calcs'!I80,Glazing_Systems!$C$12:$C$42,0)),\"\")","v":""},{"$f":"IFERROR(INDEX(Glazing_Systems!$D$12:$D$42,MATCH('J1.5A_Calcs'!J80,Glazing_Systems!$C$12:$C$42,0)),\"\")","v":""},{"$f":"IFERROR(INDEX(Glazing_Systems!$D$12:$D$42,MATCH('J1.5A_Calcs'!K80,Glazing_Systems!$C$12:$C$42,0)),\"\")","v":""},{"$f":"IFERROR(INDEX(Glazing_Systems!$D$12:$D$42,MATCH('J1.5A_Calcs'!L80,Glazing_Systems!$C$12:$C$42,0)),\"\")","v":""},{"$f":"IFERROR(INDEX(Glazing_Systems!$D$12:$D$42,MATCH('J1.5A_Calcs'!M80,Glazing_Systems!$C$12:$C$42,0)),\"\")","v":""},{"$f":"IFERROR(INDEX(Glazing_Systems!$D$12:$D$42,MATCH('J1.5A_Calcs'!N80,Glazing_Systems!$C$12:$C$42,0)),\"\")","v":""},{"$f":"IFERROR(INDEX(Glazing_Systems!$D$12:$D$42,MATCH('J1.5A_Calcs'!O80,Glazing_Systems!$C$12:$C$42,0)),\"\")","v":""},{"$f":"IFERROR(INDEX(Glazing_Systems!$D$12:$D$42,MATCH('J1.5A_Calcs'!P80,Glazing_Systems!$C$12:$C$42,0)),\"\")","v":""},{"$f":"IFERROR(INDEX(Glazing_Systems!$D$12:$D$42,MATCH('J1.5A_Calcs'!Q80,Glazing_Systems!$C$12:$C$42,0)),\"\")","v":""},{"$f":"IFERROR(INDEX(Glazing_Systems!$D$12:$D$42,MATCH('J1.5A_Calcs'!R80,Glazing_Systems!$C$12:$C$42,0)),\"\")","v":""},{"$f":"IFERROR(INDEX(Wall_Systems!$D$12:$D$42,MATCH('J1.5A_Calcs'!S80,Wall_Systems!$C$12:$C$42,0)),\"\")","v":""},{"$f":"IFERROR(INDEX(Wall_Systems!$D$12:$D$42,MATCH('J1.5A_Calcs'!T80,Wall_Systems!$C$12:$C$42,0)),\"\")","v":""},{"$f":"IFERROR(INDEX(Wall_Systems!$D$12:$D$42,MATCH('J1.5A_Calcs'!U80,Wall_Systems!$C$12:$C$42,0)),\"\")","v":""},{"$f":"IFERROR(INDEX(Wall_Systems!$D$12:$D$42,MATCH('J1.5A_Calcs'!V80,Wall_Systems!$C$12:$C$42,0)),\"\")","v":""},{"$f":"IFERROR(INDEX(Wall_Systems!$D$12:$D$42,MATCH('J1.5A_Calcs'!W80,Wall_Systems!$C$12:$C$42,0)),\"\")","v":""},{"$f":"IFERROR(INDEX(Wall_Systems!$D$12:$D$42,MATCH('J1.5A_Calcs'!X80,Wall_Systems!$C$12:$C$42,0)),\"\")","v":""},{"$f":"IFERROR(INDEX(Wall_Systems!$D$12:$D$42,MATCH('J1.5A_Calcs'!Y80,Wall_Systems!$C$12:$C$42,0)),\"\")","v":""},{"$f":"IFERROR(INDEX(Wall_Systems!$D$12:$D$42,MATCH('J1.5A_Calcs'!Z80,Wall_Systems!$C$12:$C$42,0)),\"\")","v":""},{"$f":"IFERROR(INDEX(Wall_Systems!$D$12:$D$42,MATCH('J1.5A_Calcs'!AA80,Wall_Systems!$C$12:$C$42,0)),\"\")","v":""},{"$f":"IFERROR(INDEX(Wall_Systems!$D$12:$D$42,MATCH('J1.5A_Calcs'!AB80,Wall_Systems!$C$12:$C$42,0)),\"\")","v":""},{"$f":"IFERROR(INDEX(Wall_Systems!$D$12:$D$42,MATCH('J1.5A_Calcs'!AC80,Wall_Systems!$C$12:$C$42,0)),\"\")","v":""},{"$f":"IFERROR(INDEX(Wall_Systems!$D$12:$D$42,MATCH('J1.5A_Calcs'!AD80,Wall_Systems!$C$12:$C$42,0)),\"\")","v":""},{"$f":"IFERROR(INDEX(Wall_Systems!$D$12:$D$42,MATCH('J1.5A_Calcs'!AE80,Wall_Systems!$C$12:$C$42,0)),\"\")","v":""},{"$f":"IFERROR(INDEX(Wall_Systems!$D$12:$D$42,MATCH('J1.5A_Calcs'!AF80,Wall_Systems!$C$12:$C$42,0)),\"\")","v":""},{"$f":"IFERROR(INDEX(Wall_Systems!$D$12:$D$42,MATCH('J1.5A_Calcs'!AG80,Wall_Systems!$C$12:$C$42,0)),\"\")","v":""},{"$f":"IFERROR(INDEX(Wall_Systems!$D$12:$D$42,MATCH('J1.5A_Calcs'!AH80,Wall_Systems!$C$12:$C$42,0)),\"\")","v":""}]
[null,"Glazing Type / Wall Construction",{"$f":"IFERROR(INDEX(Glazing_Systems!$E$12:$E$42,MATCH('J1.5A_Calcs'!C80,Glazing_Systems!$C$12:$C$42,0)),\"\")","v":""},{"$f":"IFERROR(INDEX(Glazing_Systems!$E$12:$E$42,MATCH('J1.5A_Calcs'!D80,Glazing_Systems!$C$12:$C$42,0)),\"\")","v":""},{"$f":"IFERROR(INDEX(Glazing_Systems!$E$12:$E$42,MATCH('J1.5A_Calcs'!E80,Glazing_Systems!$C$12:$C$42,0)),\"\")","v":""},{"$f":"IFERROR(INDEX(Glazing_Systems!$E$12:$E$42,MATCH('J1.5A_Calcs'!F80,Glazing_Systems!$C$12:$C$42,0)),\"\")","v":""},{"$f":"IFERROR(INDEX(Glazing_Systems!$E$12:$E$42,MATCH('J1.5A_Calcs'!G80,Glazing_Systems!$C$12:$C$42,0)),\"\")","v":""},{"$f":"IFERROR(INDEX(Glazing_Systems!$E$12:$E$42,MATCH('J1.5A_Calcs'!H80,Glazing_Systems!$C$12:$C$42,0)),\"\")","v":""},{"$f":"IFERROR(INDEX(Glazing_Systems!$E$12:$E$42,MATCH('J1.5A_Calcs'!I80,Glazing_Systems!$C$12:$C$42,0)),\"\")","v":""},{"$f":"IFERROR(INDEX(Glazing_Systems!$E$12:$E$42,MATCH('J1.5A_Calcs'!J80,Glazing_Systems!$C$12:$C$42,0)),\"\")","v":""},{"$f":"IFERROR(INDEX(Glazing_Systems!$E$12:$E$42,MATCH('J1.5A_Calcs'!K80,Glazing_Systems!$C$12:$C$42,0)),\"\")","v":""},{"$f":"IFERROR(INDEX(Glazing_Systems!$E$12:$E$42,MATCH('J1.5A_Calcs'!L80,Glazing_Systems!$C$12:$C$42,0)),\"\")","v":""},{"$f":"IFERROR(INDEX(Glazing_Systems!$E$12:$E$42,MATCH('J1.5A_Calcs'!M80,Glazing_Systems!$C$12:$C$42,0)),\"\")","v":""},{"$f":"IFERROR(INDEX(Glazing_Systems!$E$12:$E$42,MATCH('J1.5A_Calcs'!N80,Glazing_Systems!$C$12:$C$42,0)),\"\")","v":""},{"$f":"IFERROR(INDEX(Glazing_Systems!$E$12:$E$42,MATCH('J1.5A_Calcs'!O80,Glazing_Systems!$C$12:$C$42,0)),\"\")","v":""},{"$f":"IFERROR(INDEX(Glazing_Systems!$E$12:$E$42,MATCH('J1.5A_Calcs'!P80,Glazing_Systems!$C$12:$C$42,0)),\"\")","v":""},{"$f":"IFERROR(INDEX(Glazing_Systems!$E$12:$E$42,MATCH('J1.5A_Calcs'!Q80,Glazing_Systems!$C$12:$C$42,0)),\"\")","v":""},{"$f":"IFERROR(INDEX(Glazing_Systems!$E$12:$E$42,MATCH('J1.5A_Calcs'!R80,Glazing_Systems!$C$12:$C$42,0)),\"\")","v":""},{"$f":"IFERROR(INDEX(Wall_Systems!$F$12:$F$42,MATCH('J1.5A_Calcs'!S80,Wall_Systems!$C$12:$C$42,0)),\"\")","v":""},{"$f":"IFERROR(INDEX(Wall_Systems!$F$12:$F$42,MATCH('J1.5A_Calcs'!T80,Wall_Systems!$C$12:$C$42,0)),\"\")","v":""},{"$f":"IFERROR(INDEX(Wall_Systems!$F$12:$F$42,MATCH('J1.5A_Calcs'!U80,Wall_Systems!$C$12:$C$42,0)),\"\")","v":""},{"$f":"IFERROR(INDEX(Wall_Systems!$F$12:$F$42,MATCH('J1.5A_Calcs'!V80,Wall_Systems!$C$12:$C$42,0)),\"\")","v":""},{"$f":"IFERROR(INDEX(Wall_Systems!$F$12:$F$42,MATCH('J1.5A_Calcs'!W80,Wall_Systems!$C$12:$C$42,0)),\"\")","v":""},{"$f":"IFERROR(INDEX(Wall_Systems!$F$12:$F$42,MATCH('J1.5A_Calcs'!X80,Wall_Systems!$C$12:$C$42,0)),\"\")","v":""},{"$f":"IFERROR(INDEX(Wall_Systems!$F$12:$F$42,MATCH('J1.5A_Calcs'!Y80,Wall_Systems!$C$12:$C$42,0)),\"\")","v":""},{"$f":"IFERROR(INDEX(Wall_Systems!$F$12:$F$42,MATCH('J1.5A_Calcs'!Z80,Wall_Systems!$C$12:$C$42,0)),\"\")","v":""},{"$f":"IFERROR(INDEX(Wall_Systems!$F$12:$F$42,MATCH('J1.5A_Calcs'!AA80,Wall_Systems!$C$12:$C$42,0)),\"\")","v":""},{"$f":"IFERROR(INDEX(Wall_Systems!$F$12:$F$42,MATCH('J1.5A_Calcs'!AB80,Wall_Systems!$C$12:$C$42,0)),\"\")","v":""},{"$f":"IFERROR(INDEX(Wall_Systems!$F$12:$F$42,MATCH('J1.5A_Calcs'!AC80,Wall_Systems!$C$12:$C$42,0)),\"\")","v":""},{"$f":"IFERROR(INDEX(Wall_Systems!$F$12:$F$42,MATCH('J1.5A_Calcs'!AD80,Wall_Systems!$C$12:$C$42,0)),\"\")","v":""},{"$f":"IFERROR(INDEX(Wall_Systems!$F$12:$F$42,MATCH('J1.5A_Calcs'!AE80,Wall_Systems!$C$12:$C$42,0)),\"\")","v":""},{"$f":"IFERROR(INDEX(Wall_Systems!$F$12:$F$42,MATCH('J1.5A_Calcs'!AF80,Wall_Systems!$C$12:$C$42,0)),\"\")","v":""},{"$f":"IFERROR(INDEX(Wall_Systems!$F$12:$F$42,MATCH('J1.5A_Calcs'!AG80,Wall_Systems!$C$12:$C$42,0)),\"\")","v":""},{"$f":"IFERROR(INDEX(Wall_Systems!$F$12:$F$42,MATCH('J1.5A_Calcs'!AH80,Wall_Systems!$C$12:$C$42,0)),\"\")","v":""}]
[null,"Framing Type / Wall Thickness",{"$f":"IFERROR(INDEX(Glazing_Systems!$F$12:$F$42,MATCH('J1.5A_Calcs'!C80,Glazing_Systems!$C$12:$C$42,0)),\"\")","v":""},{"$f":"IFERROR(INDEX(Glazing_Systems!$F$12:$F$42,MATCH('J1.5A_Calcs'!D80,Glazing_Systems!$C$12:$C$42,0)),\"\")","v":""},{"$f":"IFERROR(INDEX(Glazing_Systems!$F$12:$F$42,MATCH('J1.5A_Calcs'!E80,Glazing_Systems!$C$12:$C$42,0)),\"\")","v":""},{"$f":"IFERROR(INDEX(Glazing_Systems!$F$12:$F$42,MATCH('J1.5A_Calcs'!F80,Glazing_Systems!$C$12:$C$42,0)),\"\")","v":""},{"$f":"IFERROR(INDEX(Glazing_Systems!$F$12:$F$42,MATCH('J1.5A_Calcs'!G80,Glazing_Systems!$C$12:$C$42,0)),\"\")","v":""},{"$f":"IFERROR(INDEX(Glazing_Systems!$F$12:$F$42,MATCH('J1.5A_Calcs'!H80,Glazing_Systems!$C$12:$C$42,0)),\"\")","v":""},{"$f":"IFERROR(INDEX(Glazing_Systems!$F$12:$F$42,MATCH('J1.5A_Calcs'!I80,Glazing_Systems!$C$12:$C$42,0)),\"\")","v":""},{"$f":"IFERROR(INDEX(Glazing_Systems!$F$12:$F$42,MATCH('J1.5A_Calcs'!J80,Glazing_Systems!$C$12:$C$42,0)),\"\")","v":""},{"$f":"IFERROR(INDEX(Glazing_Systems!$F$12:$F$42,MATCH('J1.5A_Calcs'!K80,Glazing_Systems!$C$12:$C$42,0)),\"\")","v":""},{"$f":"IFERROR(INDEX(Glazing_Systems!$F$12:$F$42,MATCH('J1.5A_Calcs'!L80,Glazing_Systems!$C$12:$C$42,0)),\"\")","v":""},{"$f":"IFERROR(INDEX(Glazing_Systems!$F$12:$F$42,MATCH('J1.5A_Calcs'!M80,Glazing_Systems!$C$12:$C$42,0)),\"\")","v":""},{"$f":"IFERROR(INDEX(Glazing_Systems!$F$12:$F$42,MATCH('J1.5A_Calcs'!N80,Glazing_Systems!$C$12:$C$42,0)),\"\")","v":""},{"$f":"IFERROR(INDEX(Glazing_Systems!$F$12:$F$42,MATCH('J1.5A_Calcs'!O80,Glazing_Systems!$C$12:$C$42,0)),\"\")","v":""},{"$f":"IFERROR(INDEX(Glazing_Systems!$F$12:$F$42,MATCH('J1.5A_Calcs'!P80,Glazing_Systems!$C$12:$C$42,0)),\"\")","v":""},{"$f":"IFERROR(INDEX(Glazing_Systems!$F$12:$F$42,MATCH('J1.5A_Calcs'!Q80,Glazing_Systems!$C$12:$C$42,0)),\"\")","v":""},{"$f":"IFERROR(INDEX(Glazing_Systems!$F$12:$F$42,MATCH('J1.5A_Calcs'!R80,Glazing_Systems!$C$12:$C$42,0)),\"\")","v":""},{"$f":"IFERROR(INDEX(Wall_Systems!$G$12:$G$42,MATCH('J1.5A_Calcs'!S80,Wall_Systems!$C$12:$C$42,0)),\"\")","v":""},{"$f":"IFERROR(INDEX(Wall_Systems!$G$12:$G$42,MATCH('J1.5A_Calcs'!T80,Wall_Systems!$C$12:$C$42,0)),\"\")","v":""},{"$f":"IFERROR(INDEX(Wall_Systems!$G$12:$G$42,MATCH('J1.5A_Calcs'!U80,Wall_Systems!$C$12:$C$42,0)),\"\")","v":""},{"$f":"IFERROR(INDEX(Wall_Systems!$G$12:$G$42,MATCH('J1.5A_Calcs'!V80,Wall_Systems!$C$12:$C$42,0)),\"\")","v":""},{"$f":"IFERROR(INDEX(Wall_Systems!$G$12:$G$42,MATCH('J1.5A_Calcs'!W80,Wall_Systems!$C$12:$C$42,0)),\"\")","v":""},{"$f":"IFERROR(INDEX(Wall_Systems!$G$12:$G$42,MATCH('J1.5A_Calcs'!X80,Wall_Systems!$C$12:$C$42,0)),\"\")","v":""},{"$f":"IFERROR(INDEX(Wall_Systems!$G$12:$G$42,MATCH('J1.5A_Calcs'!Y80,Wall_Systems!$C$12:$C$42,0)),\"\")","v":""},{"$f":"IFERROR(INDEX(Wall_Systems!$G$12:$G$42,MATCH('J1.5A_Calcs'!Z80,Wall_Systems!$C$12:$C$42,0)),\"\")","v":""},{"$f":"IFERROR(INDEX(Wall_Systems!$G$12:$G$42,MATCH('J1.5A_Calcs'!AA80,Wall_Systems!$C$12:$C$42,0)),\"\")","v":""},{"$f":"IFERROR(INDEX(Wall_Systems!$G$12:$G$42,MATCH('J1.5A_Calcs'!AB80,Wall_Systems!$C$12:$C$42,0)),\"\")","v":""},{"$f":"IFERROR(INDEX(Wall_Systems!$G$12:$G$42,MATCH('J1.5A_Calcs'!AC80,Wall_Systems!$C$12:$C$42,0)),\"\")","v":""},{"$f":"IFERROR(INDEX(Wall_Systems!$G$12:$G$42,MATCH('J1.5A_Calcs'!AD80,Wall_Systems!$C$12:$C$42,0)),\"\")","v":""},{"$f":"IFERROR(INDEX(Wall_Systems!$G$12:$G$42,MATCH('J1.5A_Calcs'!AE80,Wall_Systems!$C$12:$C$42,0)),\"\")","v":""},{"$f":"IFERROR(INDEX(Wall_Systems!$G$12:$G$42,MATCH('J1.5A_Calcs'!AF80,Wall_Systems!$C$12:$C$42,0)),\"\")","v":""},{"$f":"IFERROR(INDEX(Wall_Systems!$G$12:$G$42,MATCH('J1.5A_Calcs'!AG80,Wall_Systems!$C$12:$C$42,0)),\"\")","v":""},{"$f":"IFERROR(INDEX(Wall_Systems!$G$12:$G$42,MATCH('J1.5A_Calcs'!AH80,Wall_Systems!$C$12:$C$42,0)),\"\")","v":""}]
[null,"Vision?",{"$f":"IF(C80<>\"\",TRUE,\"\")","v":""},"","","","","","","",{"$f":"IF(K80<>\"\",TRUE,\"\")","v":""},"","","","","","","",{"$f":"IF(S80<>\"\",FALSE,\"\")","v":""},"","","","","",{"$f":"IF(Y80<>\"\",FALSE,\"\")","v":""},"","","","","","","","",""]
[null,"R-value / m2K/W",{"$f":"IF(C80<>\"\",IF(C85=TRUE,\"\",VLOOKUP(C80,$F$17:$H$35,2,FALSE)),\"\")","v":""},"","","","","","","",{"$f":"IF(K80<>\"\",IF(K85=TRUE,\"\",VLOOKUP(K80,$F$17:$H$35,2,FALSE)),\"\")","v":""},"","","","","","","",{"$f":"IF(S80<>\"\",IF(S85=TRUE,\"\",VLOOKUP(S80,$F$17:$H$35,2,FALSE)),\"\")","v":""},"","","","","",{"$f":"IF(Y80<>\"\",IF(Y85=TRUE,\"\",VLOOKUP(Y80,$F$17:$H$35,2,FALSE)),\"\")","v":""},"","","","","","","","",""]
[null,"U-value / W/m2K",{"$f":"IF(C80<>\"\",IF(C85=TRUE,VLOOKUP(C80,$B$17:$D$35,2,FALSE),VLOOKUP(C80,$F$17:$H$35,3,FALSE)),\"\")","v":""},{"$f":"IF(D80<>\"\",IF(D85=TRUE,VLOOKUP(D80,$B$17:$D$35,2,FALSE),VLOOKUP(D80,$F$17:$H$35,3,FALSE)),\"\")","v":""},"","","","","","",{"$f":"IF(K80<>\"\",IF(K85=TRUE,VLOOKUP(K80,$B$17:$D$35,2,FALSE),VLOOKUP(K80,$F$17:$H$35,3,FALSE)),\"\")","v":""},"","","","","","","",{"$f":"IF(S80<>\"\",IF(S85=TRUE,VLOOKUP(S80,$B$17:$D$35,2,FALSE),VLOOKUP(S80,$F$17:$H$35,3,FALSE)),\"\")","v":""},"","","","","","",{"$f":"IF(Z80<>\"\",IF(Z85=TRUE,VLOOKUP(Z80,$B$17:$D$35,2,FALSE),VLOOKUP(Z80,$F$17:$H$35,3,FALSE)),\"\")","v":""},"","","","","","","",""]
[null,"SHGC",{"$f":"IF(AND(C81=FALSE,C85=TRUE),VLOOKUP(C80,$B$17:$D$34,3,FALSE),\"0\")","v":"0"},{"$f":"IF(AND(D81=FALSE,D85=TRUE),VLOOKUP(D80,$B$17:$D$34,3,FALSE),\"0\")","v":"0"},{"$f":"IF(AND(E81=FALSE,E85=TRUE),VLOOKUP(E80,$B$17:$D$34,3,FALSE),\"0\")","v":"0"},"0","0","0","0","0","0","0","0","0","0","0","0","0",{"$f":"IF(S85=TRUE,VLOOKUP(S80,$B$17:$D$34,3,FALSE),\"\")","v":""},{"$f":"IF(T85=TRUE,VLOOKUP(T80,$B$17:$D$34,3,FALSE),\"\")","v":""},"","","","","","","","","","","","","","","Total"]
[null,"Area / m2",{"$f":"IF(C85=TRUE,VLOOKUP(C80,Wall_Glazing_Areas!$C$69:$F$99,4,FALSE),IF(C85=FALSE,VLOOKUP(C80,Wall_Glazing_Areas!$C$69:$F$99,2,FALSE),\"\"))","v":""},{"$f":"IF(D85=TRUE,VLOOKUP(D80,Wall_Glazing_Areas!$C$69:$F$99,4,FALSE),IF(D85=FALSE,VLOOKUP(D80,Wall_Glazing_Areas!$C$69:$F$99,2,FALSE),\"\"))","v":""},{"$f":"IF(E85=TRUE,VLOOKUP(E80,Wall_Glazing_Areas!$C$69:$F$99,4,FALSE),IF(E85=FALSE,VLOOKUP(E80,Wall_Glazing_Areas!$C$69:$F$99,2,FALSE),\"\"))","v":""},{"$f":"IF(F85=TRUE,VLOOKUP(F80,Wall_Glazing_Areas!$C$69:$F$99,4,FALSE),IF(F85=FALSE,VLOOKUP(F80,Wall_Glazing_Areas!$C$69:$F$99,2,FALSE),\"\"))","v":""},{"$f":"IF(G85=TRUE,VLOOKUP(G80,Wall_Glazing_Areas!$C$69:$F$99,4,FALSE),IF(G85=FALSE,VLOOKUP(G80,Wall_Glazing_Areas!$C$69:$F$99,2,FALSE),\"\"))","v":""},{"$f":"IF(H85=TRUE,VLOOKUP(H80,Wall_Glazing_Areas!$C$69:$F$99,4,FALSE),IF(H85=FALSE,VLOOKUP(H80,Wall_Glazing_Areas!$C$69:$F$99,2,FALSE),\"\"))","v":""},{"$f":"IF(I85=TRUE,VLOOKUP(I80,Wall_Glazing_Areas!$C$69:$F$99,4,FALSE),IF(I85=FALSE,VLOOKUP(I80,Wall_Glazing_Areas!$C$69:$F$99,2,FALSE),\"\"))","v":""},{"$f":"IF(J85=TRUE,VLOOKUP(J80,Wall_Glazing_Areas!$C$69:$F$99,4,FALSE),IF(J85=FALSE,VLOOKUP(J80,Wall_Glazing_Areas!$C$69:$F$99,2,FALSE),\"\"))","v":""},{"$f":"IF(K85=TRUE,VLOOKUP(K80,Wall_Glazing_Areas!$C$69:$F$99,4,FALSE),IF(K85=FALSE,VLOOKUP(K80,Wall_Glazing_Areas!$C$69:$F$99,2,FALSE),\"\"))","v":""},{"$f":"IF(L85=TRUE,VLOOKUP(L80,Wall_Glazing_Areas!$C$69:$F$99,4,FALSE),IF(L85=FALSE,VLOOKUP(L80,Wall_Glazing_Areas!$C$69:$F$99,2,FALSE),\"\"))","v":""},{"$f":"IF(M85=TRUE,VLOOKUP(M80,Wall_Glazing_Areas!$C$69:$F$99,4,FALSE),IF(M85=FALSE,VLOOKUP(M80,Wall_Glazing_Areas!$C$69:$F$99,2,FALSE),\"\"))","v":""},{"$f":"IF(N85=TRUE,VLOOKUP(N80,Wall_Glazing_Areas!$C$69:$F$99,4,FALSE),IF(N85=FALSE,VLOOKUP(N80,Wall_Glazing_Areas!$C$69:$F$99,2,FALSE),\"\"))","v":""},{"$f":"IF(O85=TRUE,VLOOKUP(O80,Wall_Glazing_Areas!$C$69:$F$99,4,FALSE),IF(O85=FALSE,VLOOKUP(O80,Wall_Glazing_Areas!$C$69:$F$99,2,FALSE),\"\"))","v":""},{"$f":"IF(P85=TRUE,VLOOKUP(P80,Wall_Glazing_Areas!$C$69:$F$99,4,FALSE),IF(P85=FALSE,VLOOKUP(P80,Wall_Glazing_Areas!$C$69:$F$99,2,FALSE),\"\"))","v":""},{"$f":"IF(Q85=TRUE,VLOOKUP(Q80,Wall_Glazing_Areas!$C$69:$F$99,4,FALSE),IF(Q85=FALSE,VLOOKUP(Q80,Wall_Glazing_Areas!$C$69:$F$99,2,FALSE),\"\"))","v":""},{"$f":"IF(R85=TRUE,VLOOKUP(R80,Wall_Glazing_Areas!$C$69:$F$99,4,FALSE),IF(R85=FALSE,VLOOKUP(R80,Wall_Glazing_Areas!$C$69:$F$99,2,FALSE),\"\"))","v":""},{"$f":"IF(S85=TRUE,VLOOKUP(S80,Wall_Glazing_Areas!$C$69:$F$99,4),IF(S85=FALSE,VLOOKUP(S80,Wall_Glazing_Areas!$I$69:$J$99,2,FALSE),\"\"))","v":""},{"$f":"IF(T85=TRUE,VLOOKUP(T80,Wall_Glazing_Areas!$C$69:$F$99,4),IF(T85=FALSE,VLOOKUP(T80,Wall_Glazing_Areas!$I$69:$J$99,2,FALSE),\"\"))","v":""},{"$f":"IF(U85=TRUE,VLOOKUP(U80,Wall_Glazing_Areas!$C$69:$F$99,4),IF(U85=FALSE,VLOOKUP(U80,Wall_Glazing_Areas!$I$69:$J$99,2,FALSE),\"\"))","v":""},{"$f":"IF(V85=TRUE,VLOOKUP(V80,Wall_Glazing_Areas!$C$69:$F$99,4),IF(V85=FALSE,VLOOKUP(V80,Wall_Glazing_Areas!$I$69:$J$99,2,FALSE),\"\"))","v":""},{"$f":"IF(W85=TRUE,VLOOKUP(W80,Wall_Glazing_Areas!$C$69:$F$99,4),IF(W85=FALSE,VLOOKUP(W80,Wall_Glazing_Areas!$I$69:$J$99,2,FALSE),\"\"))","v":""},{"$f":"IF(X85=TRUE,VLOOKUP(X80,Wall_Glazing_Areas!$C$69:$F$99,4),IF(X85=FALSE,VLOOKUP(X80,Wall_Glazing_Areas!$I$69:$J$99,2,FALSE),\"\"))","v":""},{"$f":"IF(Y85=TRUE,VLOOKUP(Y80,Wall_Glazing_Areas!$C$69:$F$99,4),IF(Y85=FALSE,VLOOKUP(Y80,Wall_Glazing_Areas!$I$69:$J$99,2,FALSE),\"\"))","v":""},{"$f":"IF(Z85=TRUE,VLOOKUP(Z80,Wall_Glazing_Areas!$C$69:$F$99,4),IF(Z85=FALSE,VLOOKUP(Z80,Wall_Glazing_Areas!$I$69:$J$99,2,FALSE),\"\"))","v":""},{"$f":"IF(AA85=TRUE,VLOOKUP(AA80,Wall_Glazing_Areas!$C$69:$F$99,4),IF(AA85=FALSE,VLOOKUP(AA80,Wall_Glazing_Areas!$I$69:$J$99,2,FALSE),\"\"))","v":""},{"$f":"IF(AB85=TRUE,VLOOKUP(AB80,Wall_Glazing_Areas!$C$69:$F$99,4),IF(AB85=FALSE,VLOOKUP(AB80,Wall_Glazing_Areas!$I$69:$J$99,2,FALSE),\"\"))","v":""},{"$f":"IF(AC85=TRUE,VLOOKUP(AC80,Wall_Glazing_Areas!$C$69:$F$99,4),IF(AC85=FALSE,VLOOKUP(AC80,Wall_Glazing_Areas!$I$69:$J$99,2,FALSE),\"\"))","v":""},{"$f":"IF(AD85=TRUE,VLOOKUP(AD80,Wall_Glazing_Areas!$C$69:$F$99,4),IF(AD85=FALSE,VLOOKUP(AD80,Wall_Glazing_Areas!$I$69:$J$99,2,FALSE),\"\"))","v":""},{"$f":"IF(AE85=TRUE,VLOOKUP(AE80,Wall_Glazing_Areas!$C$69:$F$99,4),IF(AE85=FALSE,VLOOKUP(AE80,Wall_Glazing_Areas!$I$69:$J$99,2,FALSE),\"\"))","v":""},{"$f":"IF(AF85=TRUE,VLOOKUP(AF80,Wall_Glazing_Areas!$C$69:$F$99,4),IF(AF85=FALSE,VLOOKUP(AF80,Wall_Glazing_Areas!$I$69:$J$99,2,FALSE),\"\"))","v":""},{"$f":"IF(AG85=TRUE,VLOOKUP(AG80,Wall_Glazing_Areas!$C$69:$F$99,4),IF(AG85=FALSE,VLOOKUP(AG80,Wall_Glazing_Areas!$I$69:$J$99,2,FALSE),\"\"))","v":""},{"$f":"IF(AH85=TRUE,VLOOKUP(AH80,Wall_Glazing_Areas!$C$69:$F$99,4),IF(AH85=FALSE,VLOOKUP(AH80,Wall_Glazing_Areas!$I$69:$J$99,2,FALSE),\"\"))","v":""},{"$f":"SUM(C89:AH89)","v":0},"m2"]
[null,"%",{"$f":"IFERROR(C89/SUM($C89:$Z89),\"\")","v":""},{"$f":"IFERROR(D89/SUM($C89:$Z89),\"\")","v":""},"","","","","","",{"$f":"IFERROR(K89/SUM($C89:$Z89),\"\")","v":""},"","","","","","","","","","","","","","",{"$f":"IFERROR(Z89/SUM($C89:$Z89),\"\")","v":""},"","","","","","","","",{"$f":"SUM(C90:AH90)","v":0},"=100?"]
[null,"Vision area / m2",{"$f":"IF(C85=TRUE,C89,\"\")","v":""},{"$f":"IF(D85=TRUE,D89,\"\")","v":""},"","","","","","",{"$f":"IF(K85=TRUE,K89,\"\")","v":""},"","","","","","","","","","","","","","",{"$f":"IF(Z85=TRUE,Z89,\"\")","v":""},"","","","","","","","",{"$f":"SUM(C91:AH91)","v":0},"m2"]
[null,"Wall area / m2",{"$f":"IF(C85=FALSE,C89,\"\")","v":""},{"$f":"IF(D85=FALSE,D89,\"\")","v":""},"","","","","","",{"$f":"IF(K85=FALSE,K89,\"\")","v":""},"","","","","","","","","","","","","","",{"$f":"IF(Z85=FALSE,Z89,\"\")","v":""},"","","","","","","","",{"$f":"SUM(C92:AH92)","v":0},"m2"]
[null,"Wall >= 80%?",{"$f":"IF(C85=FALSE,IF(C90>=0.8,TRUE,FALSE),\"\")","v":""},{"$f":"IF(D85=FALSE,IF(D90>=0.8,TRUE,FALSE),\"\")","v":""},"","","","","","",{"$f":"IF(K85=FALSE,IF(K90>=0.8,TRUE,FALSE),\"\")","v":""},"","","","","","","","","","","","","","",{"$f":"IF(Z85=FALSE,IF(Z90>=0.8,TRUE,FALSE),\"\")","v":""},"","","","","","","","",{"$f":"AI91/AI89","v":{"$error":"#DIV/0!"}},"WWR"]
[null,"Meets R-value?",{"$f":"IF(C85=FALSE,IF(C93=TRUE,IF(C86<$E$11,FALSE,TRUE),IF(C86<$C$11,FALSE,TRUE)),\"\")","v":""},"","","","","","","",{"$f":"IF(K85=FALSE,IF(K93=TRUE,IF(K86<$E$11,FALSE,TRUE),IF(K86<$C$11,FALSE,TRUE)),\"\")","v":""},"","","","","","","","","","","","","","",{"$f":"IF(Z85=FALSE,IF(Z93=TRUE,IF(Z86<$E$11,FALSE,TRUE),IF(Z86<$C$11,FALSE,TRUE)),\"\")","v":""},"","","","","","","",""]
["if vision, then ","Shading?",{"$f":"IF(Wall_Glazing_Areas!G$69<>\"\",TRUE,FALSE)","v":false},{"$f":"IF(Wall_Glazing_Areas!G$71<>\"\",TRUE,FALSE)","v":false},{"$f":"IF(Wall_Glazing_Areas!G$73<>\"\",TRUE,FALSE)","v":false},{"$f":"IF(Wall_Glazing_Areas!$G$75<>\"\",TRUE,FALSE)","v":false},{"$f":"IF(Wall_Glazing_Areas!$G$77<>\"\",TRUE,FALSE)","v":false},{"$f":"IF(Wall_Glazing_Areas!$G$79<>\"\",TRUE,FALSE)","v":false},{"$f":"IF(Wall_Glazing_Areas!$G$81<>\"\",TRUE,FALSE)","v":false},{"$f":"IF(Wall_Glazing_Areas!$G$83<>\"\",TRUE,FALSE)","v":false},{"$f":"IF(Wall_Glazing_Areas!$G$83<>\"\",TRUE,FALSE)","v":false},{"$f":"IF(Wall_Glazing_Areas!$G$83<>\"\",TRUE,FALSE)","v":false},{"$f":"IF(Wall_Glazing_Areas!$G$83<>\"\",TRUE,FALSE)","v":false},{"$f":"IF(Wall_Glazing_Areas!$G$83<>\"\",TRUE,FALSE)","v":false},{"$f":"IF(Wall_Glazing_Areas!$G$83<>\"\",TRUE,FALSE)","v":false},{"$f":"IF(Wall_Glazing_Areas!$G$83<>\"\",TRUE,FALSE)","v":false},{"$f":"IF(Wall_Glazing_Areas!$G$83<>\"\",TRUE,FALSE)","v":false},{"$f":"IF(Wall_Glazing_Areas!$G$83<>\"\",TRUE,FALSE)","v":false}]
[null,"Shading ref",{"$f":"IF(C95=TRUE,Wall_Glazing_Areas!$G$69,\"\")","v":""},{"$f":"IF(D95=TRUE,Wall_Glazing_Areas!$G$71,\"\")","v":""},{"$f":"IF(E95=TRUE,Wall_Glazing_Areas!$G$73,\"\")","v":""},{"$f":"IF(F95=TRUE,Wall_Glazing_Areas!$G$75,\"\")","v":""},{"$f":"IF(G95=TRUE,Wall_Glazing_Areas!$G$77,\"\")","v":""},{"$f":"IF(H95=TRUE,Wall_Glazing_Areas!$G$79,\"\")","v":""},{"$f":"IF(I95=TRUE,Wall_Glazing_Areas!$G$81,\"\")","v":""},{"$f":"IF(J95=TRUE,Wall_Glazing_Areas!$G$83,\"\")","v":""},{"$f":"IF(K95=TRUE,Wall_Glazing_Areas!$G$83,\"\")","v":""},{"$f":"IF(L95=TRUE,Wall_Glazing_Areas!$G$83,\"\")","v":""},{"$f":"IF(M95=TRUE,Wall_Glazing_Areas!$G$83,\"\")","v":""},{"$f":"IF(N95=TRUE,Wall_Glazing_Areas!$G$83,\"\")","v":""},{"$f":"IF(O95=TRUE,Wall_Glazing_Areas!$G$83,\"\")","v":""},{"$f":"IF(P95=TRUE,Wall_Glazing_Areas!$G$83,\"\")","v":""},{"$f":"IF(Q95=TRUE,Wall_Glazing_Areas!$G$83,\"\")","v":""},{"$f":"IF(R95=TRUE,Wall_Glazing_Areas!$G$83,\"\")","v":""}]
[null,"Multiplier",{"$f":"IF(C95=FALSE,1,VLOOKUP(C96,$J$17:$T$34,10,FALSE))","v":1},{"$f":"IF(D95=FALSE,1,VLOOKUP(D96,$J$17:$T$34,10,FALSE))","v":1},1,1,1,1,1,1,1,1,1,1,1,1,1,1]
[null,"ERROR No U-value",{"$f":"IF(AND(C89<>\"\",C87=\"\"),\"U-VALUE MISSING\",\"\")","v":""},"","","","","",{"$f":"IF(AND(I89<>\"\",I87=\"\"),\"U-VALUE MISSING\",\"\")","v":""},"","","","","","","","","","","","","","","","",""]
[null,"ERROR No Area",{"$f":"IF(AND(C87<>\"\",C89=0),\"AREA MISSING\",\"\")","v":""},{"$f":"IF(AND(D87<>\"\",D89=0),\"AREA MISSING\",\"\")","v":""},"","","","","","","","","","","","","","","","","","","","","","",null,null,null,null,null,null,null,null,"Total"]
[null,"UA",{"$f":"IFERROR(C89*C87,\"\")","v":""},"","","","","",{"$f":"IFERROR(I89*I87,\"\")","v":""},"",{"$f":"IFERROR(K89*K87,\"\")","v":""},"","","","","","","","","","","","","","","","","","","","","","","",{"$f":"SUM(C100:AH100)","v":0}]
[null,"SA",{"$f":"IF(C85=TRUE,C89*C97*C88,\"\")","v":""},{"$f":"IF(D85=TRUE,D89*D97*D88,\"\")","v":""},"","","","","","",{"$f":"IF(K85=TRUE,K89*K97*K88,\"\")","v":""},"","","","","","","",null,null,null,null,null,null,null,null,null,null,null,null,null,null,null,null,{"$f":"SUM(C101:R101)","v":0}]
[null,"MultiplierA",{"$f":"IFERROR((C97*C91),\"\")","v":""},{"$f":"IFERROR((D97*D91),\"\")","v":""},"","","","","","",{"$f":"IFERROR((K97*K91),\"\")","v":""},"","","","","","",""]
[null,"SHGCA",{"$f":"IFERROR((C88*C91),\"\")","v":""},{"$f":"IFERROR((D88*D91),\"\")","v":""},"","","","","","",{"$f":"IFERROR((K88*K91),\"\")","v":""},"","","","","","","",null,null,null,null,"Reference Building",null,"Changing Parameter"]
[null,null,null,null,null,null,null,null,null,null,null,null,null,null,null,null,null,null,null,null,null,null,null,null,"Glazing","Wall","WWR"]
["Area weighted average glazing U-value / W/m2K",null,{"$f":"SUM(C100:R100)/AI91","v":{"$error":"#DIV/0!"}},null,null,null,null,null,null,null,null,null,null,null,null,null,null,null,null,null,null,null,"U-value glazing",null,{"$f":"IFERROR(($B$11*AI89-(Y106*(AI89-AI91)))/AI91,0)","v":0},{"$f":"C105","v":{"$error":"#DIV/0!"}},{"$f":"C105","v":{"$error":"#DIV/0!"}}]
["Area weighted average wall U-value / W/m2K",null,{"$f":"IF(SUM(S100:AH100)/(AI89-AI91)=0,\"WALL R-VALUE ERROR\",SUM(S100:AH100)/(AI89-AI91))","v":{"$error":"#DIV/0!"}},null,null,null,null,null,null,null,null,null,null,null,null,null,null,null,null,null,null,null,"U-value wall",null,{"$f":"IFERROR(IF(AND($Y107<=0.2,$C106>$F$11),$F$11,IF(AND($Y107>0.2,$C106>$D$11),$D$11,$C106)),0)","v":0},{"$f":"($B$11*AI89-SUM(C100:R100))/(AI89-AI91)","v":{"$error":"#N/A"}},{"$f":"IF(AND($Y107<=0.2,$C106>$F$11),$F$11,IF(AND($Y107>0.2,$C106>$D$11),$D$11,$C106))","v":{"$error":"#DIV/0!"}},"note, wall value may not meet backsto"]
["Meets compliance?",null,{"$f":"IF(AND(AI93>0.2,C106<D$11),TRUE,IF(AND(AI93<=0.2,C106<F$11),TRUE,FALSE))","v":{"$error":"#DIV/0!"}},null,null,null,null,null,null,null,null,null,null,null,null,null,null,null,null,null,null,null,"WWR",null,{"$f":"AI93","v":{"$error":"#DIV/0!"}},{"$f":"AI93","v":{"$error":"#DIV/0!"}},{"$f":"(($B$11*AI89-AA106*AI89)/(AA105-AA106))/AI89","v":{"$error":"#N/A"}}]
["Area weighted average SHGC",null,{"$f":"IFERROR(SUM(C103:R103)/AI91,0)","v":0},null,null,null,null,null,null,null,null,null,null,null,null,null,null,null,null,null,null,null,null,null,"Glazing","Shading","WWR"]
["Area weighted average shading multiplier",null,{"$f":"IFERROR(SUM(C102:R102)/AI91,0)","v":0},null,null,null,null,null,null,null,null,null,null,null,null,null,null,null,null,null,null,null,"SHGC",null,{"$f":"$H$11/(Y110*Y111)","v":{"$error":"#N/A"}},{"$f":"C108","v":0},{"$f":"C108","v":0}]
["Solar admittance coefficient",null,{"$f":"IF(AI91=0,0,IF(AI93<0.2,0,$L$11))","v":0},null,null,null,null,null,null,null,null,null,null,null,null,null,null,null,null,null,null,null,"Shading",null,{"$f":"IF(C$200=FALSE,1,C109)","v":0},{"$f":"H$11/(Z109*Z111)","v":{"$error":"#N/A"}},1]
["Wall-glazing U-value, East",null,{"$f":"IF(AI89=0,\"\",SUM(C100:AH100)/SUM(C89:AH89))","v":""},null,null,null,null,null,null,null,null,null,null,null,null,null,null,null,null,null,null,null,"WWR",null,{"$f":"AI93","v":{"$error":"#DIV/0!"}},{"$f":"AI93","v":{"$error":"#DIV/0!"}},{"$f":"H$11/(AA109*AA110)","v":{"$error":"#N/A"}}]
["Solar admittance, East",null,{"$f":"IF(AI91=0,0,AI101/AI89)","v":0}]
[]
[]
[]
[]
["South",null,"Vision",null,null,null,null,null,null,null,null,null,null,null,null,null,null,null,"Wall"]
[null,"Façade Reference",{"$f":"IF(Wall_Glazing_Areas!$C$109<>0,Wall_Glazing_Areas!$C$109,\"\")","v":""},{"$f":"IF(Wall_Glazing_Areas!$C$111<>0,Wall_Glazing_Areas!$C$111,\"\")","v":""},{"$f":"IF(Wall_Glazing_Areas!$C$113<>0,Wall_Glazing_Areas!$C$113,\"\")","v":""},{"$f":"IF(Wall_Glazing_Areas!$C$115<>0,Wall_Glazing_Areas!$C$115,\"\")","v":""},{"$f":"IF(Wall_Glazing_Areas!$C$117<>0,Wall_Glazing_Areas!$C$117,\"\")","v":""},{"$f":"IF(Wall_Glazing_Areas!$C$119<>0,Wall_Glazing_Areas!$C$119,\"\")","v":""},{"$f":"IF(Wall_Glazing_Areas!$C$121<>0,Wall_Glazing_Areas!$C$121,\"\")","v":""},{"$f":"IF(Wall_Glazing_Areas!$C$123<>0,Wall_Glazing_Areas!$C$123,\"\")","v":""},{"$f":"IF(Wall_Glazing_Areas!$C$125<>0,Wall_Glazing_Areas!$C$125,\"\")","v":""},{"$f":"IF(Wall_Glazing_Areas!$C$127<>0,Wall_Glazing_Areas!$C$127,\"\")","v":""},{"$f":"IF(Wall_Glazing_Areas!$C$129<>0,Wall_Glazing_Areas!$C$129,\"\")","v":""},{"$f":"IF(Wall_Glazing_Areas!$C$131<>0,Wall_Glazing_Areas!$C$131,\"\")","v":""},{"$f":"IF(Wall_Glazing_Areas!$C$133<>0,Wall_Glazing_Areas!$C$133,\"\")","v":""},{"$f":"IF(Wall_Glazing_Areas!$C$135<>0,Wall_Glazing_Areas!$C$135,\"\")","v":""},{"$f":"IF(Wall_Glazing_Areas!$C$137<>0,Wall_Glazing_Areas!$C$137,\"\")","v":""},{"$f":"IF(Wall_Glazing_Areas!$C$139<>0,Wall_Glazing_Areas!$C$139,\"\")","v":""},{"$f":"IF(Wall_Glazing_Areas!$I$109<>0,Wall_Glazing_Areas!$I$109,\"\")","v":""},{"$f":"IF(Wall_Glazing_Areas!$I$111<>0,Wall_Glazing_Areas!$I$111,\"\")","v":""},{"$f":"IF(Wall_Glazing_Areas!$I$113<>0,Wall_Glazing_Areas!$I$113,\"\")","v":""},{"$f":"IF(Wall_Glazing_Areas!$I$115<>0,Wall_Glazing_Areas!$I$115,\"\")","v":""},{"$f":"IF(Wall_Glazing_Areas!$I$117<>0,Wall_Glazing_Areas!$I$117,\"\")","v":""},{"$f":"IF(Wall_Glazing_Areas!$I$119<>0,Wall_Glazing_Areas!$I$119,\"\")","v":""},{"$f":"IF(Wall_Glazing_Areas!$I$121<>0,Wall_Glazing_Areas!$I$121,\"\")","v":""},{"$f":"IF(Wall_Glazing_Areas!$I$123<>0,Wall_Glazing_Areas!$I$123,\"\")","v":""},{"$f":"IF(Wall_Glazing_Areas!$I$125<>0,Wall_Glazing_Areas!$I$125,\"\")","v":""},{"$f":"IF(Wall_Glazing_Areas!$I$127<>0,Wall_Glazing_Areas!$I$127,\"\")","v":""},{"$f":"IF(Wall_Glazing_Areas!$I$129<>0,Wall_Glazing_Areas!$I$129,\"\")","v":""},{"$f":"IF(Wall_Glazing_Areas!$I$131<>0,Wall_Glazing_Areas!$I$131,\"\")","v":""},{"$f":"IF(Wall_Glazing_Areas!$I$133<>0,Wall_Glazing_Areas!$I$133,\"\")","v":""},{"$f":"IF(Wall_Glazing_Areas!$I$135<>0,Wall_Glazing_Areas!$I$135,\"\")","v":""},{"$f":"IF(Wall_Glazing_Areas!$I$137<>0,Wall_Glazing_Areas!$I$137,\"\")","v":""},{"$f":"IF(Wall_Glazing_Areas!$I$139<>0,Wall_Glazing_Areas!$I$139,\"\")","v":""}]
[null,"Internal",{"$f":"IF(Wall_Glazing_Areas!P109,TRUE,FALSE)","v":false},{"$f":"IF(Wall_Glazing_Areas!P111,TRUE,FALSE)","v":false},{"$f":"IF(Wall_Glazing_Areas!P113,TRUE,FALSE)","v":false},{"$f":"IF(Wall_Glazing_Areas!P115,TRUE,FALSE)","v":false},{"$f":"IF(Wall_Glazing_Areas!P117,TRUE,FALSE)","v":false},{"$f":"IF(Wall_Glazing_Areas!P119,TRUE,FALSE)","v":false},{"$f":"IF(Wall_Glazing_Areas!P121,TRUE,FALSE)","v":false},{"$f":"IF(Wall_Glazing_Areas!P123,TRUE,FALSE)","v":false},{"$f":"IF(Wall_Glazing_Areas!P125,TRUE,FALSE)","v":false},{"$f":"IF(Wall_Glazing_Areas!P127,TRUE,FALSE)","v":false},{"$f":"IF(Wall_Glazing_Areas!P129,TRUE,FALSE)","v":false},{"$f":"IF(Wall_Glazing_Areas!P131,TRUE,FALSE)","v":false},{"$f":"IF(Wall_Glazing_Areas!P133,TRUE,FALSE)","v":false},{"$f":"IF(Wall_Glazing_Areas!P135,TRUE,FALSE)","v":false},{"$f":"IF(Wall_Glazing_Areas!P137,TRUE,FALSE)","v":false},{"$f":"IF(Wall_Glazing_Areas!P139,TRUE,FALSE)","v":false}]
[null,"System Type",{"$f":"IFERROR(INDEX(Glazing_Systems!$D$12:$D$42,MATCH('J1.5A_Calcs'!C118,Glazing_Systems!$C$12:$C$42,0)),\"\")","v":""},{"$f":"IFERROR(INDEX(Glazing_Systems!$D$12:$D$42,MATCH('J1.5A_Calcs'!D118,Glazing_Systems!$C$12:$C$42,0)),\"\")","v":""},{"$f":"IFERROR(INDEX(Glazing_Systems!$D$12:$D$42,MATCH('J1.5A_Calcs'!E118,Glazing_Systems!$C$12:$C$42,0)),\"\")","v":""},{"$f":"IFERROR(INDEX(Glazing_Systems!$D$12:$D$42,MATCH('J1.5A_Calcs'!F118,Glazing_Systems!$C$12:$C$42,0)),\"\")","v":""},{"$f":"IFERROR(INDEX(Glazing_Systems!$D$12:$D$42,MATCH('J1.5A_Calcs'!G118,Glazing_Systems!$C$12:$C$42,0)),\"\")","v":""},{"$f":"IFERROR(INDEX(Glazing_Systems!$D$12:$D$42,MATCH('J1.5A_Calcs'!H118,Glazing_Systems!$C$12:$C$42,0)),\"\")","v":""},{"$f":"IFERROR(INDEX(Glazing_Systems!$D$12:$D$42,MATCH('J1.5A_Calcs'!I118,Glazing_Systems!$C$12:$C$42,0)),\"\")","v":""},{"$f":"IFERROR(INDEX(Glazing_Systems!$D$12:$D$42,MATCH('J1.5A_Calcs'!J118,Glazing_Systems!$C$12:$C$42,0)),\"\")","v":""},{"$f":"IFERROR(INDEX(Glazing_Systems!$D$12:$D$42,MATCH('J1.5A_Calcs'!K118,Glazing_Systems!$C$12:$C$42,0)),\"\")","v":""},{"$f":"IFERROR(INDEX(Glazing_Systems!$D$12:$D$42,MATCH('J1.5A_Calcs'!L118,Glazing_Systems!$C$12:$C$42,0)),\"\")","v":""},{"$f":"IFERROR(INDEX(Glazing_Systems!$D$12:$D$42,MATCH('J1.5A_Calcs'!M118,Glazing_Systems!$C$12:$C$42,0)),\"\")","v":""},{"$f":"IFERROR(INDEX(Glazing_Systems!$D$12:$D$42,MATCH('J1.5A_Calcs'!N118,Glazing_Systems!$C$12:$C$42,0)),\"\")","v":""},{"$f":"IFERROR(INDEX(Glazing_Systems!$D$12:$D$42,MATCH('J1.5A_Calcs'!O118,Glazing_Systems!$C$12:$C$42,0)),\"\")","v":""},{"$f":"IFERROR(INDEX(Glazing_Systems!$D$12:$D$42,MATCH('J1.5A_Calcs'!P118,Glazing_Systems!$C$12:$C$42,0)),\"\")","v":""},{"$f":"IFERROR(INDEX(Glazing_Systems!$D$12:$D$42,MATCH('J1.5A_Calcs'!Q118,Glazing_Systems!$C$12:$C$42,0)),\"\")","v":""},{"$f":"IFERROR(INDEX(Glazing_Systems!$D$12:$D$42,MATCH('J1.5A_Calcs'!R118,Glazing_Systems!$C$12:$C$42,0)),\"\")","v":""},{"$f":"IFERROR(INDEX(Wall_Systems!$D$12:$D$42,MATCH('J1.5A_Calcs'!S118,Wall_Systems!$C$12:$C$42,0)),\"\")","v":""},{"$f":"IFERROR(INDEX(Wall_Systems!$D$12:$D$42,MATCH('J1.5A_Calcs'!T118,Wall_Systems!$C$12:$C$42,0)),\"\")","v":""},{"$f":"IFERROR(INDEX(Wall_Systems!$D$12:$D$42,MATCH('J1.5A_Calcs'!U118,Wall_Systems!$C$12:$C$42,0)),\"\")","v":""},{"$f":"IFERROR(INDEX(Wall_Systems!$D$12:$D$42,MATCH('J1.5A_Calcs'!V118,Wall_Systems!$C$12:$C$42,0)),\"\")","v":""},{"$f":"IFERROR(INDEX(Wall_Systems!$D$12:$D$42,MATCH('J1.5A_Calcs'!W118,Wall_Systems!$C$12:$C$42,0)),\"\")","v":""},{"$f":"IFERROR(INDEX(Wall_Systems!$D$12:$D$42,MATCH('J1.5A_Calcs'!X118,Wall_Systems!$C$12:$C$42,0)),\"\")","v":""},{"$f":"IFERROR(INDEX(Wall_Systems!$D$12:$D$42,MATCH('J1.5A_Calcs'!Y118,Wall_Systems!$C$12:$C$42,0)),\"\")","v":""},{"$f":"IFERROR(INDEX(Wall_Systems!$D$12:$D$42,MATCH('J1.5A_Calcs'!Z118,Wall_Systems!$C$12:$C$42,0)),\"\")","v":""},{"$f":"IFERROR(INDEX(Wall_Systems!$D$12:$D$42,MATCH('J1.5A_Calcs'!AA118,Wall_Systems!$C$12:$C$42,0)),\"\")","v":""},{"$f":"IFERROR(INDEX(Wall_Systems!$D$12:$D$42,MATCH('J1.5A_Calcs'!AB118,Wall_Systems!$C$12:$C$42,0)),\"\")","v":""},{"$f":"IFERROR(INDEX(Wall_Systems!$D$12:$D$42,MATCH('J1.5A_Calcs'!AC118,Wall_Systems!$C$12:$C$42,0)),\"\")","v":""},{"$f":"IFERROR(INDEX(Wall_Systems!$D$12:$D$42,MATCH('J1.5A_Calcs'!AD118,Wall_Systems!$C$12:$C$42,0)),\"\")","v":""},{"$f":"IFERROR(INDEX(Wall_Systems!$D$12:$D$42,MATCH('J1.5A_Calcs'!AE118,Wall_Systems!$C$12:$C$42,0)),\"\")","v":""},{"$f":"IFERROR(INDEX(Wall_Systems!$D$12:$D$42,MATCH('J1.5A_Calcs'!AF118,Wall_Systems!$C$12:$C$42,0)),\"\")","v":""},{"$f":"IFERROR(INDEX(Wall_Systems!$D$12:$D$42,MATCH('J1.5A_Calcs'!AG118,Wall_Systems!$C$12:$C$42,0)),\"\")","v":""},{"$f":"IFERROR(INDEX(Wall_Systems!$D$12:$D$42,MATCH('J1.5A_Calcs'!AH118,Wall_Systems!$C$12:$C$42,0)),\"\")","v":""}]
[null,"Glazing Type / Wall Construction",{"$f":"IFERROR(INDEX(Glazing_Systems!$E$12:$E$42,MATCH('J1.5A_Calcs'!C118,Glazing_Systems!$C$12:$C$42,0)),\"\")","v":""},{"$f":"IFERROR(INDEX(Glazing_Systems!$E$12:$E$42,MATCH('J1.5A_Calcs'!D118,Glazing_Systems!$C$12:$C$42,0)),\"\")","v":""},{"$f":"IFERROR(INDEX(Glazing_Systems!$E$12:$E$42,MATCH('J1.5A_Calcs'!E118,Glazing_Systems!$C$12:$C$42,0)),\"\")","v":""},{"$f":"IFERROR(INDEX(Glazing_Systems!$E$12:$E$42,MATCH('J1.5A_Calcs'!F118,Glazing_Systems!$C$12:$C$42,0)),\"\")","v":""},{"$f":"IFERROR(INDEX(Glazing_Systems!$E$12:$E$42,MATCH('J1.5A_Calcs'!G118,Glazing_Systems!$C$12:$C$42,0)),\"\")","v":""},{"$f":"IFERROR(INDEX(Glazing_Systems!$E$12:$E$42,MATCH('J1.5A_Calcs'!H118,Glazing_Systems!$C$12:$C$42,0)),\"\")","v":""},{"$f":"IFERROR(INDEX(Glazing_Systems!$E$12:$E$42,MATCH('J1.5A_Calcs'!I118,Glazing_Systems!$C$12:$C$42,0)),\"\")","v":""},{"$f":"IFERROR(INDEX(Glazing_Systems!$E$12:$E$42,MATCH('J1.5A_Calcs'!J118,Glazing_Systems!$C$12:$C$42,0)),\"\")","v":""},{"$f":"IFERROR(INDEX(Glazing_Systems!$E$12:$E$42,MATCH('J1.5A_Calcs'!K118,Glazing_Systems!$C$12:$C$42,0)),\"\")","v":""},{"$f":"IFERROR(INDEX(Glazing_Systems!$E$12:$E$42,MATCH('J1.5A_Calcs'!L118,Glazing_Systems!$C$12:$C$42,0)),\"\")","v":""},{"$f":"IFERROR(INDEX(Glazing_Systems!$E$12:$E$42,MATCH('J1.5A_Calcs'!M118,Glazing_Systems!$C$12:$C$42,0)),\"\")","v":""},{"$f":"IFERROR(INDEX(Glazing_Systems!$E$12:$E$42,MATCH('J1.5A_Calcs'!N118,Glazing_Systems!$C$12:$C$42,0)),\"\")","v":""},{"$f":"IFERROR(INDEX(Glazing_Systems!$E$12:$E$42,MATCH('J1.5A_Calcs'!O118,Glazing_Systems!$C$12:$C$42,0)),\"\")","v":""},{"$f":"IFERROR(INDEX(Glazing_Systems!$E$12:$E$42,MATCH('J1.5A_Calcs'!P118,Glazing_Systems!$C$12:$C$42,0)),\"\")","v":""},{"$f":"IFERROR(INDEX(Glazing_Systems!$E$12:$E$42,MATCH('J1.5A_Calcs'!Q118,Glazing_Systems!$C$12:$C$42,0)),\"\")","v":""},{"$f":"IFERROR(INDEX(Glazing_Systems!$E$12:$E$42,MATCH('J1.5A_Calcs'!R118,Glazing_Systems!$C$12:$C$42,0)),\"\")","v":""},{"$f":"IFERROR(INDEX(Wall_Systems!$F$12:$F$42,MATCH('J1.5A_Calcs'!S118,Wall_Systems!$C$12:$C$42,0)),\"\")","v":""},{"$f":"IFERROR(INDEX(Wall_Systems!$F$12:$F$42,MATCH('J1.5A_Calcs'!T118,Wall_Systems!$C$12:$C$42,0)),\"\")","v":""},{"$f":"IFERROR(INDEX(Wall_Systems!$F$12:$F$42,MATCH('J1.5A_Calcs'!U118,Wall_Systems!$C$12:$C$42,0)),\"\")","v":""},{"$f":"IFERROR(INDEX(Wall_Systems!$F$12:$F$42,MATCH('J1.5A_Calcs'!V118,Wall_Systems!$C$12:$C$42,0)),\"\")","v":""},{"$f":"IFERROR(INDEX(Wall_Systems!$F$12:$F$42,MATCH('J1.5A_Calcs'!W118,Wall_Systems!$C$12:$C$42,0)),\"\")","v":""},{"$f":"IFERROR(INDEX(Wall_Systems!$F$12:$F$42,MATCH('J1.5A_Calcs'!X118,Wall_Systems!$C$12:$C$42,0)),\"\")","v":""},{"$f":"IFERROR(INDEX(Wall_Systems!$F$12:$F$42,MATCH('J1.5A_Calcs'!Y118,Wall_Systems!$C$12:$C$42,0)),\"\")","v":""},{"$f":"IFERROR(INDEX(Wall_Systems!$F$12:$F$42,MATCH('J1.5A_Calcs'!Z118,Wall_Systems!$C$12:$C$42,0)),\"\")","v":""},{"$f":"IFERROR(INDEX(Wall_Systems!$F$12:$F$42,MATCH('J1.5A_Calcs'!AA118,Wall_Systems!$C$12:$C$42,0)),\"\")","v":""},{"$f":"IFERROR(INDEX(Wall_Systems!$F$12:$F$42,MATCH('J1.5A_Calcs'!AB118,Wall_Systems!$C$12:$C$42,0)),\"\")","v":""},{"$f":"IFERROR(INDEX(Wall_Systems!$F$12:$F$42,MATCH('J1.5A_Calcs'!AC118,Wall_Systems!$C$12:$C$42,0)),\"\")","v":""},{"$f":"IFERROR(INDEX(Wall_Systems!$F$12:$F$42,MATCH('J1.5A_Calcs'!AD118,Wall_Systems!$C$12:$C$42,0)),\"\")","v":""},{"$f":"IFERROR(INDEX(Wall_Systems!$F$12:$F$42,MATCH('J1.5A_Calcs'!AE118,Wall_Systems!$C$12:$C$42,0)),\"\")","v":""},{"$f":"IFERROR(INDEX(Wall_Systems!$F$12:$F$42,MATCH('J1.5A_Calcs'!AF118,Wall_Systems!$C$12:$C$42,0)),\"\")","v":""},{"$f":"IFERROR(INDEX(Wall_Systems!$F$12:$F$42,MATCH('J1.5A_Calcs'!AG118,Wall_Systems!$C$12:$C$42,0)),\"\")","v":""},{"$f":"IFERROR(INDEX(Wall_Systems!$F$12:$F$42,MATCH('J1.5A_Calcs'!AH118,Wall_Systems!$C$12:$C$42,0)),\"\")","v":""}]
[null,"Framing Type / Wall Thickness",{"$f":"IFERROR(INDEX(Glazing_Systems!$F$12:$F$42,MATCH('J1.5A_Calcs'!C118,Glazing_Systems!$C$12:$C$42,0)),\"\")","v":""},{"$f":"IFERROR(INDEX(Glazing_Systems!$F$12:$F$42,MATCH('J1.5A_Calcs'!D118,Glazing_Systems!$C$12:$C$42,0)),\"\")","v":""},{"$f":"IFERROR(INDEX(Glazing_Systems!$F$12:$F$42,MATCH('J1.5A_Calcs'!E118,Glazing_Systems!$C$12:$C$42,0)),\"\")","v":""},{"$f":"IFERROR(INDEX(Glazing_Systems!$F$12:$F$42,MATCH('J1.5A_Calcs'!F118,Glazing_Systems!$C$12:$C$42,0)),\"\")","v":""},{"$f":"IFERROR(INDEX(Glazing_Systems!$F$12:$F$42,MATCH('J1.5A_Calcs'!G118,Glazing_Systems!$C$12:$C$42,0)),\"\")","v":""},{"$f":"IFERROR(INDEX(Glazing_Systems!$F$12:$F$42,MATCH('J1.5A_Calcs'!H118,Glazing_Systems!$C$12:$C$42,0)),\"\")","v":""},{"$f":"IFERROR(INDEX(Glazing_Systems!$F$12:$F$42,MATCH('J1.5A_Calcs'!I118,Glazing_Systems!$C$12:$C$42,0)),\"\")","v":""},{"$f":"IFERROR(INDEX(Glazing_Systems!$F$12:$F$42,MATCH('J1.5A_Calcs'!J118,Glazing_Systems!$C$12:$C$42,0)),\"\")","v":""},{"$f":"IFERROR(INDEX(Glazing_Systems!$F$12:$F$42,MATCH('J1.5A_Calcs'!K118,Glazing_Systems!$C$12:$C$42,0)),\"\")","v":""},{"$f":"IFERROR(INDEX(Glazing_Systems!$F$12:$F$42,MATCH('J1.5A_Calcs'!L118,Glazing_Systems!$C$12:$C$42,0)),\"\")","v":""},{"$f":"IFERROR(INDEX(Glazing_Systems!$F$12:$F$42,MATCH('J1.5A_Calcs'!M118,Glazing_Systems!$C$12:$C$42,0)),\"\")","v":""},{"$f":"IFERROR(INDEX(Glazing_Systems!$F$12:$F$42,MATCH('J1.5A_Calcs'!N118,Glazing_Systems!$C$12:$C$42,0)),\"\")","v":""},{"$f":"IFERROR(INDEX(Glazing_Systems!$F$12:$F$42,MATCH('J1.5A_Calcs'!O118,Glazing_Systems!$C$12:$C$42,0)),\"\")","v":""},{"$f":"IFERROR(INDEX(Glazing_Systems!$F$12:$F$42,MATCH('J1.5A_Calcs'!P118,Glazing_Systems!$C$12:$C$42,0)),\"\")","v":""},{"$f":"IFERROR(INDEX(Glazing_Systems!$F$12:$F$42,MATCH('J1.5A_Calcs'!Q118,Glazing_Systems!$C$12:$C$42,0)),\"\")","v":""},{"$f":"IFERROR(INDEX(Glazing_Systems!$F$12:$F$42,MATCH('J1.5A_Calcs'!R118,Glazing_Systems!$C$12:$C$42,0)),\"\")","v":""},{"$f":"IFERROR(INDEX(Wall_Systems!$G$12:$G$42,MATCH('J1.5A_Calcs'!S118,Wall_Systems!$C$12:$C$42,0)),\"\")","v":""},{"$f":"IFERROR(INDEX(Wall_Systems!$G$12:$G$42,MATCH('J1.5A_Calcs'!T118,Wall_Systems!$C$12:$C$42,0)),\"\")","v":""},{"$f":"IFERROR(INDEX(Wall_Systems!$G$12:$G$42,MATCH('J1.5A_Calcs'!U118,Wall_Systems!$C$12:$C$42,0)),\"\")","v":""},{"$f":"IFERROR(INDEX(Wall_Systems!$G$12:$G$42,MATCH('J1.5A_Calcs'!V118,Wall_Systems!$C$12:$C$42,0)),\"\")","v":""},{"$f":"IFERROR(INDEX(Wall_Systems!$G$12:$G$42,MATCH('J1.5A_Calcs'!W118,Wall_Systems!$C$12:$C$42,0)),\"\")","v":""},{"$f":"IFERROR(INDEX(Wall_Systems!$G$12:$G$42,MATCH('J1.5A_Calcs'!X118,Wall_Systems!$C$12:$C$42,0)),\"\")","v":""},{"$f":"IFERROR(INDEX(Wall_Systems!$G$12:$G$42,MATCH('J1.5A_Calcs'!Y118,Wall_Systems!$C$12:$C$42,0)),\"\")","v":""},{"$f":"IFERROR(INDEX(Wall_Systems!$G$12:$G$42,MATCH('J1.5A_Calcs'!Z118,Wall_Systems!$C$12:$C$42,0)),\"\")","v":""},{"$f":"IFERROR(INDEX(Wall_Systems!$G$12:$G$42,MATCH('J1.5A_Calcs'!AA118,Wall_Systems!$C$12:$C$42,0)),\"\")","v":""},{"$f":"IFERROR(INDEX(Wall_Systems!$G$12:$G$42,MATCH('J1.5A_Calcs'!AB118,Wall_Systems!$C$12:$C$42,0)),\"\")","v":""},{"$f":"IFERROR(INDEX(Wall_Systems!$G$12:$G$42,MATCH('J1.5A_Calcs'!AC118,Wall_Systems!$C$12:$C$42,0)),\"\")","v":""},{"$f":"IFERROR(INDEX(Wall_Systems!$G$12:$G$42,MATCH('J1.5A_Calcs'!AD118,Wall_Systems!$C$12:$C$42,0)),\"\")","v":""},{"$f":"IFERROR(INDEX(Wall_Systems!$G$12:$G$42,MATCH('J1.5A_Calcs'!AE118,Wall_Systems!$C$12:$C$42,0)),\"\")","v":""},{"$f":"IFERROR(INDEX(Wall_Systems!$G$12:$G$42,MATCH('J1.5A_Calcs'!AF118,Wall_Systems!$C$12:$C$42,0)),\"\")","v":""},{"$f":"IFERROR(INDEX(Wall_Systems!$G$12:$G$42,MATCH('J1.5A_Calcs'!AG118,Wall_Systems!$C$12:$C$42,0)),\"\")","v":""},{"$f":"IFERROR(INDEX(Wall_Systems!$G$12:$G$42,MATCH('J1.5A_Calcs'!AH118,Wall_Systems!$C$12:$C$42,0)),\"\")","v":""}]
[null,"Vision?",{"$f":"IF(C118<>\"\",TRUE,\"\")","v":""},"","","","","","","","","","","","","","","",{"$f":"IF(S118<>\"\",FALSE,\"\")","v":""},"","","","","","","","","","","","","","",""]
[null,"R-value / m2K/W",{"$f":"IF(C118<>\"\",IF(C123=TRUE,\"\",VLOOKUP(C118,$F$17:$H$35,2,FALSE)),\"\")","v":""},"","","","","","","","","","","","","","","","","","","","","","","","","","","","","","",""]
[null,"U-value / W/m2K",{"$f":"IF(C118<>\"\",IF(C123=TRUE,VLOOKUP(C118,$B$17:$D$35,2,FALSE),VLOOKUP(C118,$F$17:$H$35,3,FALSE)),\"\")","v":""},"","","","","","","","","","","","","","","","","","","","","","","","","","","","","","","","Total"]
[null,"SHGC",{"$f":"IF(AND(C119=FALSE,C123=TRUE),VLOOKUP(C118,$B$17:$D$34,3,FALSE),\"0\")","v":"0"},{"$f":"IF(AND(D119=FALSE,D123=TRUE),VLOOKUP(D118,$B$17:$D$34,3,FALSE),\"0\")","v":"0"},"0","0","0","0","0","0","0","0","0","0","0","0","0","0",{"$f":"IF(S123=TRUE,VLOOKUP(S118,$B$17:$D$34,3,FALSE),\"\")","v":""},"","","","","","","","","","","","","","",""]
[null,"Area / m2",{"$f":"IF(C123=TRUE,VLOOKUP(C118,Wall_Glazing_Areas!$C$109:$F$139,4,FALSE),IF(C123=FALSE,VLOOKUP(C118,Wall_Glazing_Areas!$C$109:$F$139,2,FALSE),\"\"))","v":""},{"$f":"IF(D123=TRUE,VLOOKUP(D118,Wall_Glazing_Areas!$C$109:$F$139,4,FALSE),IF(D123=FALSE,VLOOKUP(D118,Wall_Glazing_Areas!$C$109:$F$139,2,FALSE),\"\"))","v":""},{"$f":"IF(E123=TRUE,VLOOKUP(E118,Wall_Glazing_Areas!$C$109:$F$139,4,FALSE),IF(E123=FALSE,VLOOKUP(E118,Wall_Glazing_Areas!$C$109:$F$139,2,FALSE),\"\"))","v":""},{"$f":"IF(F123=TRUE,VLOOKUP(F118,Wall_Glazing_Areas!$C$109:$F$139,4,FALSE),IF(F123=FALSE,VLOOKUP(F118,Wall_Glazing_Areas!$C$109:$F$139,2,FALSE),\"\"))","v":""},{"$f":"IF(G123=TRUE,VLOOKUP(G118,Wall_Glazing_Areas!$C$109:$F$139,4,FALSE),IF(G123=FALSE,VLOOKUP(G118,Wall_Glazing_Areas!$C$109:$F$139,2,FALSE),\"\"))","v":""},{"$f":"IF(H123=TRUE,VLOOKUP(H118,Wall_Glazing_Areas!$C$109:$F$139,4,FALSE),IF(H123=FALSE,VLOOKUP(H118,Wall_Glazing_Areas!$C$109:$F$139,2,FALSE),\"\"))","v":""},{"$f":"IF(I123=TRUE,VLOOKUP(I118,Wall_Glazing_Areas!$C$109:$F$139,4,FALSE),IF(I123=FALSE,VLOOKUP(I118,Wall_Glazing_Areas!$C$109:$F$139,2,FALSE),\"\"))","v":""},{"$f":"IF(J123=TRUE,VLOOKUP(J118,Wall_Glazing_Areas!$C$109:$F$139,4,FALSE),IF(J123=FALSE,VLOOKUP(J118,Wall_Glazing_Areas!$C$109:$F$139,2,FALSE),\"\"))","v":""},{"$f":"IF(K123=TRUE,VLOOKUP(K118,Wall_Glazing_Areas!$C$109:$F$139,4,FALSE),IF(K123=FALSE,VLOOKUP(K118,Wall_Glazing_Areas!$C$109:$F$139,2,FALSE),\"\"))","v":""},{"$f":"IF(L123=TRUE,VLOOKUP(L118,Wall_Glazing_Areas!$C$109:$F$139,4,FALSE),IF(L123=FALSE,VLOOKUP(L118,Wall_Glazing_Areas!$C$109:$F$139,2,FALSE),\"\"))","v":""},{"$f":"IF(M123=TRUE,VLOOKUP(M118,Wall_Glazing_Areas!$C$109:$F$139,4,FALSE),IF(M123=FALSE,VLOOKUP(M118,Wall_Glazing_Areas!$C$109:$F$139,2,FALSE),\"\"))","v":""},{"$f":"IF(N123=TRUE,VLOOKUP(N118,Wall_Glazing_Areas!$C$109:$F$139,4,FALSE),IF(N123=FALSE,VLOOKUP(N118,Wall_Glazing_Areas!$C$109:$F$139,2,FALSE),\"\"))","v":""},{"$f":"IF(O123=TRUE,VLOOKUP(O118,Wall_Glazing_Areas!$C$109:$F$139,4,FALSE),IF(O123=FALSE,VLOOKUP(O118,Wall_Glazing_Areas!$C$109:$F$139,2,FALSE),\"\"))","v":""},{"$f":"IF(P123=TRUE,VLOOKUP(P118,Wall_Glazing_Areas!$C$109:$F$139,4,FALSE),IF(P123=FALSE,VLOOKUP(P118,Wall_Glazing_Areas!$C$109:$F$139,2,FALSE),\"\"))","v":""},{"$f":"IF(Q123=TRUE,VLOOKUP(Q118,Wall_Glazing_Areas!$C$109:$F$139,4,FALSE),IF(Q123=FALSE,VLOOKUP(Q118,Wall_Glazing_Areas!$C$109:$F$139,2,FALSE),\"\"))","v":""},{"$f":"IF(R123=TRUE,VLOOKUP(R118,Wall_Glazing_Areas!$C$109:$F$139,4,FALSE),IF(R123=FALSE,VLOOKUP(R118,Wall_Glazing_Areas!$C$109:$F$139,2,FALSE),\"\"))","v":""},{"$f":"IF(S123=TRUE,VLOOKUP(S118,Wall_Glazing_Areas!$C$109:$F$139,4),IF(S123=FALSE,VLOOKUP(S118,Wall_Glazing_Areas!$I$109:$J$139,2,FALSE),\"\"))","v":""},{"$f":"IF(T123=TRUE,VLOOKUP(T118,Wall_Glazing_Areas!$C$109:$F$139,4),IF(T123=FALSE,VLOOKUP(T118,Wall_Glazing_Areas!$I$109:$J$139,2,FALSE),\"\"))","v":""},{"$f":"IF(U123=TRUE,VLOOKUP(U118,Wall_Glazing_Areas!$C$109:$F$139,4),IF(U123=FALSE,VLOOKUP(U118,Wall_Glazing_Areas!$I$109:$J$139,2,FALSE),\"\"))","v":""},{"$f":"IF(V123=TRUE,VLOOKUP(V118,Wall_Glazing_Areas!$C$109:$F$139,4),IF(V123=FALSE,VLOOKUP(V118,Wall_Glazing_Areas!$I$109:$J$139,2,FALSE),\"\"))","v":""},{"$f":"IF(W123=TRUE,VLOOKUP(W118,Wall_Glazing_Areas!$C$109:$F$139,4),IF(W123=FALSE,VLOOKUP(W118,Wall_Glazing_Areas!$I$109:$J$139,2,FALSE),\"\"))","v":""},{"$f":"IF(X123=TRUE,VLOOKUP(X118,Wall_Glazing_Areas!$C$109:$F$139,4),IF(X123=FALSE,VLOOKUP(X118,Wall_Glazing_Areas!$I$109:$J$139,2,FALSE),\"\"))","v":""},{"$f":"IF(Y123=TRUE,VLOOKUP(Y118,Wall_Glazing_Areas!$C$109:$F$139,4),IF(Y123=FALSE,VLOOKUP(Y118,Wall_Glazing_Areas!$I$109:$J$139,2,FALSE),\"\"))","v":""},{"$f":"IF(Z123=TRUE,VLOOKUP(Z118,Wall_Glazing_Areas!$C$109:$F$139,4),IF(Z123=FALSE,VLOOKUP(Z118,Wall_Glazing_Areas!$I$109:$J$139,2,FALSE),\"\"))","v":""},{"$f":"IF(AA123=TRUE,VLOOKUP(AA118,Wall_Glazing_Areas!$C$109:$F$139,4),IF(AA123=FALSE,VLOOKUP(AA118,Wall_Glazing_Areas!$I$109:$J$139,2,FALSE),\"\"))","v":""},{"$f":"IF(AB123=TRUE,VLOOKUP(AB118,Wall_Glazing_Areas!$C$109:$F$139,4),IF(AB123=FALSE,VLOOKUP(AB118,Wall_Glazing_Areas!$I$109:$J$139,2,FALSE),\"\"))","v":""},{"$f":"IF(AC123=TRUE,VLOOKUP(AC118,Wall_Glazing_Areas!$C$109:$F$139,4),IF(AC123=FALSE,VLOOKUP(AC118,Wall_Glazing_Areas!$I$109:$J$139,2,FALSE),\"\"))","v":""},{"$f":"IF(AD123=TRUE,VLOOKUP(AD118,Wall_Glazing_Areas!$C$109:$F$139,4),IF(AD123=FALSE,VLOOKUP(AD118,Wall_Glazing_Areas!$I$109:$J$139,2,FALSE),\"\"))","v":""},{"$f":"IF(AE123=TRUE,VLOOKUP(AE118,Wall_Glazing_Areas!$C$109:$F$139,4),IF(AE123=FALSE,VLOOKUP(AE118,Wall_Glazing_Areas!$I$109:$J$139,2,FALSE),\"\"))","v":""},{"$f":"IF(AF123=TRUE,VLOOKUP(AF118,Wall_Glazing_Areas!$C$109:$F$139,4),IF(AF123=FALSE,VLOOKUP(AF118,Wall_Glazing_Areas!$I$109:$J$139,2,FALSE),\"\"))","v":""},{"$f":"IF(AG123=TRUE,VLOOKUP(AG118,Wall_Glazing_Areas!$C$109:$F$139,4),IF(AG123=FALSE,VLOOKUP(AG118,Wall_Glazing_Areas!$I$109:$J$139,2,FALSE),\"\"))","v":""},{"$f":"IF(AH123=TRUE,VLOOKUP(AH118,Wall_Glazing_Areas!$C$109:$F$139,4),IF(AH123=FALSE,VLOOKUP(AH118,Wall_Glazing_Areas!$I$109:$J$139,2,FALSE),\"\"))","v":""},{"$f":"SUM(C127:AH127)","v":0},"m2"]
[null,"%",{"$f":"IFERROR(C127/SUM($C127:$Z127),\"\")","v":""},{"$f":"IFERROR(D127/SUM($C127:$Z127),\"\")","v":""},"","","","","","",{"$f":"IFERROR(K127/SUM($C127:$Z127),\"\")","v":""},"","","","","","","","","","","","","","","",{"$f":"IFERROR(AA127/SUM($C127:$Z127),\"\")","v":""},"","","","","","","",{"$f":"SUM(C128:AH128)","v":0},"=100?"]
[null,"Vision area / m2",{"$f":"IF(C123=TRUE,C127,\"\")","v":""},"","","","","","","",{"$f":"IF(K123=TRUE,K127,\"\")","v":""},"","","","","","","","","","","","","","","",{"$f":"IF(AA123=TRUE,AA127,\"\")","v":""},"","","","","","","",{"$f":"SUM(C129:AH129)","v":0},"m2"]
[null,"Wall area / m2",{"$f":"IF(C123=FALSE,C127,\"\")","v":""},{"$f":"IF(D123=FALSE,D127,\"\")","v":""},"","","","","","",{"$f":"IF(K123=FALSE,K127,\"\")","v":""},"","","","","","","","","","","","","","","",{"$f":"IF(AA123=FALSE,AA127,\"\")","v":""},"","","","","","","",{"$f":"SUM(C130:AH130)","v":0},"m2"]
[null,"Wall >= 80%?",{"$f":"IF(C123=FALSE,IF(C128>=0.8,TRUE,FALSE),\"\")","v":""},"","","","","","","",{"$f":"IF(K123=FALSE,IF(K128>=0.8,TRUE,FALSE),\"\")","v":""},"","","","","","","","","","","","","","","",{"$f":"IF(AA123=FALSE,IF(AA128>=0.8,TRUE,FALSE),\"\")","v":""},"","","","","","","",{"$f":"AI129/AI127","v":{"$error":"#DIV/0!"}},"WWR"]
[null,"Meets R-value?",{"$f":"IF(C123=FALSE,IF(C131=TRUE,IF(C124<$E$11,FALSE,TRUE),IF(C124<$C$11,FALSE,TRUE)),\"\")","v":""},"","","","","","","",{"$f":"IF(K123=FALSE,IF(K131=TRUE,IF(K124<$E$11,FALSE,TRUE),IF(K124<$C$11,FALSE,TRUE)),\"\")","v":""},"","","","","","","","","","","","","","","",{"$f":"IF(AA123=FALSE,IF(AA131=TRUE,IF(AA124<$E$11,FALSE,TRUE),IF(AA124<$C$11,FALSE,TRUE)),\"\")","v":""},"","","","","","",""]
["if vision, then ","Shading?",{"$f":"IF(Wall_Glazing_Areas!$G$109<>\"\",TRUE,FALSE)","v":false},{"$f":"IF(Wall_Glazing_Areas!$G$111<>\"\",TRUE,FALSE)","v":false},{"$f":"IF(Wall_Glazing_Areas!$G$113<>\"\",TRUE,FALSE)","v":false},{"$f":"IF(Wall_Glazing_Areas!$G$115<>\"\",TRUE,FALSE)","v":false},{"$f":"IF(Wall_Glazing_Areas!$G$117<>\"\",TRUE,FALSE)","v":false},{"$f":"IF(Wall_Glazing_Areas!$G$119<>\"\",TRUE,FALSE)","v":false},{"$f":"IF(Wall_Glazing_Areas!$G$121<>\"\",TRUE,FALSE)","v":false},{"$f":"IF(Wall_Glazing_Areas!$G$123<>\"\",TRUE,FALSE)","v":false},{"$f":"IF(Wall_Glazing_Areas!$G$123<>\"\",TRUE,FALSE)","v":false},{"$f":"IF(Wall_Glazing_Areas!$G$123<>\"\",TRUE,FALSE)","v":false},{"$f":"IF(Wall_Glazing_Areas!$G$123<>\"\",TRUE,FALSE)","v":false},{"$f":"IF(Wall_Glazing_Areas!$G$123<>\"\",TRUE,FALSE)","v":false},{"$f":"IF(Wall_Glazing_Areas!$G$123<>\"\",TRUE,FALSE)","v":false},{"$f":"IF(Wall_Glazing_Areas!$G$123<>\"\",TRUE,FALSE)","v":false},{"$f":"IF(Wall_Glazing_Areas!$G$123<>\"\",TRUE,FALSE)","v":false},{"$f":"IF(Wall_Glazing_Areas!$G$123<>\"\",TRUE,FALSE)","v":false}]
[null,"Shading ref",{"$f":"IF(C133=TRUE,Wall_Glazing_Areas!$G$109,\"\")","v":""},{"$f":"IF(D133=TRUE,Wall_Glazing_Areas!$G$111,\"\")","v":""},{"$f":"IF(E133=TRUE,Wall_Glazing_Areas!$G$113,\"\")","v":""},{"$f":"IF(F133=TRUE,Wall_Glazing_Areas!$G$115,\"\")","v":""},{"$f":"IF(G133=TRUE,Wall_Glazing_Areas!$G$117,\"\")","v":""},{"$f":"IF(H133=TRUE,Wall_Glazing_Areas!$G$119,\"\")","v":""},{"$f":"IF(I133=TRUE,Wall_Glazing_Areas!$G$121,\"\")","v":""},{"$f":"IF(J133=TRUE,Wall_Glazing_Areas!$G$123,\"\")","v":""},{"$f":"IF(K133=TRUE,Wall_Glazing_Areas!$G$123,\"\")","v":""},{"$f":"IF(L133=TRUE,Wall_Glazing_Areas!$G$123,\"\")","v":""},{"$f":"IF(M133=TRUE,Wall_Glazing_Areas!$G$123,\"\")","v":""},{"$f":"IF(N133=TRUE,Wall_Glazing_Areas!$G$123,\"\")","v":""},{"$f":"IF(O133=TRUE,Wall_Glazing_Areas!$G$123,\"\")","v":""},{"$f":"IF(P133=TRUE,Wall_Glazing_Areas!$G$123,\"\")","v":""},{"$f":"IF(Q133=TRUE,Wall_Glazing_Areas!$G$123,\"\")","v":""},{"$f":"IF(R133=TRUE,Wall_Glazing_Areas!$G$123,\"\")","v":""}]
[null,"Multiplier",{"$f":"IF(C133=FALSE,1,VLOOKUP(C134,$J$17:$T$34,11,FALSE))","v":1},{"$f":"IF(D133=FALSE,1,VLOOKUP(D134,$J$17:$T$34,11,FALSE))","v":1},1,1,1,1,1,1,1,1,1,1,1,1,1,1]
[null,"ERROR No U-value",{"$f":"IF(AND(C127<>\"\",C125=\"\"),\"U-VALUE MISSING\",\"\")","v":""},{"$f":"IF(AND(D127<>\"\",D125=\"\"),\"U-VALUE MISSING\",\"\")","v":""},"","","","","","","","","","","","","","","","","","","","","",""]
[null,"ERROR No Area",{"$f":"IF(AND(C125<>\"\",C127=0),\"AREA MISSING\",\"\")","v":""},{"$f":"IF(AND(D125<>\"\",D127=0),\"AREA MISSING\",\"\")","v":""},"","","","","","","","","","","","","","","","","","","","","","",null,null,null,null,null,null,null,null,"Total"]
[null,"UA",{"$f":"IFERROR(C127*C125,\"\")","v":""},{"$f":"IFERROR(D127*D125,\"\")","v":""},"","","","","","","","","","","","","","","","","","","","","","","","","","","","","","",{"$f":"SUM(C138:AH138)","v":0}]
[null,"SA",{"$f":"IF(C123=TRUE,C127*C135*C126,\"\")","v":""},{"$f":"IF(D123=TRUE,D127*D135*D126,\"\")","v":""},"","","","","","","","","","","","","","",null,null,null,null,null,null,null,null,null,null,null,null,null,null,null,null,{"$f":"SUM(C139:R139)","v":0}]
[null,"MultiplierA",{"$f":"IFERROR((C135*C129),\"\")","v":""},{"$f":"IFERROR((D135*D129),\"\")","v":""},"","","","","","","","","","","","","",""]
[null,"SHGCA",{"$f":"IFERROR((C126*C129),\"\")","v":""},{"$f":"IFERROR((D126*D129),\"\")","v":""},"","","","","","","","","","","","","","",null,null,null,null,"Reference Building",null,"Changing Parameter"]
[null,null,null,null,null,null,null,null,null,null,null,null,null,null,null,null,null,null,null,null,null,null,null,null,"Glazing","Wall","WWR"]
["Area weighted average glazing U-value / W/m2K",null,{"$f":"SUM(C138:R138)/AI129","v":{"$error":"#DIV/0!"}},null,null,null,null,null,null,null,null,null,null,null,null,null,null,null,null,null,null,null,"U-value glazing",null,{"$f":"IFERROR(($B$11*AI127-(Y144*(AI127-AI129)))/AI129,0)","v":0},{"$f":"C143","v":{"$error":"#DIV/0!"}},{"$f":"C143","v":{"$error":"#DIV/0!"}}]
["Area weighted average wall U-value / W/m2K",null,{"$f":"IF(SUM(S138:AH138)/(AI127-AI129)=0,\"WALL R-VALUE ERROR\",SUM(S138:AH138)/(AI127-AI129))","v":{"$error":"#DIV/0!"}},null,null,null,null,null,null,null,null,null,null,null,null,null,null,null,null,null,null,null,"U-value wall",null,{"$f":"IFERROR(IF(AND($Y145<=0.2,$C144>$F$11),$F$11,IF(AND($Y145>0.2,$C144>$D$11),$D$11,$C144)),0)","v":0},{"$f":"($B$11*AI127-SUM(C138:R138))/(AI127-AI129)","v":{"$error":"#N/A"}},{"$f":"IF(AND($Y145<=0.2,$C144>$F$11),$F$11,IF(AND($Y145>0.2,$C144>$D$11),$D$11,$C144))","v":{"$error":"#DIV/0!"}},"note, wall value may not meet backsto"]
["Meets compliance?",null,{"$f":"IF(AND(AI131>0.2,C144<D$11),TRUE,IF(AND(AI131<=0.2,C144<F$11),TRUE,FALSE))","v":{"$error":"#DIV/0!"}},null,null,null,null,null,null,null,null,null,null,null,null,null,null,null,null,null,null,null,"WWR",null,{"$f":"AI131","v":{"$error":"#DIV/0!"}},{"$f":"AI131","v":{"$error":"#DIV/0!"}},{"$f":"(($B$11*AI127-AA144*AI127)/(AA143-AA144))/AI127","v":{"$error":"#N/A"}}]
["Area weighted average SHGC",null,{"$f":"IFERROR(SUM(C141:R141)/AI129,0)","v":0},null,null,null,null,null,null,null,null,null,null,null,null,null,null,null,null,null,null,null,null,null,"Glazing","Shading","WWR"]
["Area weighted average shading multiplier",null,{"$f":"IFERROR(SUM(C140:R140)/AI129,0)","v":0},null,null,null,null,null,null,null,null,null,null,null,null,null,null,null,null,null,null,null,"SHGC",null,{"$f":"I$11/(Y148*Y149)","v":{"$error":"#N/A"}},{"$f":"C146","v":0},{"$f":"C146","v":0}]
["Solar admittance coefficient",null,{"$f":"IF(AI129=0,0,IF(AI131<0.2,0,$M$11))","v":0},null,null,null,null,null,null,null,null,null,null,null,null,null,null,null,null,null,null,null,"Shading",null,{"$f":"IF(C$200=FALSE,1,C147)","v":0},{"$f":"I$11/(Z147*Z149)","v":{"$error":"#N/A"}},1]
["Wall-glazing U-value, South",null,{"$f":"IF(AI127=0,\"\",SUM(C138:AH138)/SUM(C127:AH127))","v":""},null,null,null,null,null,null,null,null,null,null,null,null,null,null,null,null,null,null,null,"WWR",null,{"$f":"AI131","v":{"$error":"#DIV/0!"}},{"$f":"AI131","v":{"$error":"#DIV/0!"}},{"$f":"I$11/(AA147*AA148)","v":{"$error":"#N/A"}}]
["Solar admittance, South",null,{"$f":"IF(AI129=0,0,AI139/AI127)","v":0}]
[]
[]
[]
[]
["West",null,"Vision",null,null,null,null,null,null,null,null,null,null,null,null,null,null,null,"Wall"]
[null,"Façade Reference",{"$f":"IF(Wall_Glazing_Areas!$C$149<>0,Wall_Glazing_Areas!$C$149,\"\")","v":""},{"$f":"IF(Wall_Glazing_Areas!$C$151<>0,Wall_Glazing_Areas!$C$151,\"\")","v":""},{"$f":"IF(Wall_Glazing_Areas!$C$153<>0,Wall_Glazing_Areas!$C$153,\"\")","v":""},{"$f":"IF(Wall_Glazing_Areas!$C$155<>0,Wall_Glazing_Areas!$C$155,\"\")","v":""},{"$f":"IF(Wall_Glazing_Areas!$C$157<>0,Wall_Glazing_Areas!$C$157,\"\")","v":""},{"$f":"IF(Wall_Glazing_Areas!$C$159<>0,Wall_Glazing_Areas!$C$159,\"\")","v":""},{"$f":"IF(Wall_Glazing_Areas!$C$161<>0,Wall_Glazing_Areas!$C$161,\"\")","v":""},{"$f":"IF(Wall_Glazing_Areas!$C$163<>0,Wall_Glazing_Areas!$C$163,\"\")","v":""},{"$f":"IF(Wall_Glazing_Areas!$C$165<>0,Wall_Glazing_Areas!$C$165,\"\")","v":""},{"$f":"IF(Wall_Glazing_Areas!$C$167<>0,Wall_Glazing_Areas!$C$167,\"\")","v":""},{"$f":"IF(Wall_Glazing_Areas!$C$169<>0,Wall_Glazing_Areas!$C$169,\"\")","v":""},{"$f":"IF(Wall_Glazing_Areas!$C$171<>0,Wall_Glazing_Areas!$C$171,\"\")","v":""},{"$f":"IF(Wall_Glazing_Areas!$C$173<>0,Wall_Glazing_Areas!$C$173,\"\")","v":""},{"$f":"IF(Wall_Glazing_Areas!$C$175<>0,Wall_Glazing_Areas!$C$175,\"\")","v":""},{"$f":"IF(Wall_Glazing_Areas!$C$177<>0,Wall_Glazing_Areas!$C$177,\"\")","v":""},{"$f":"IF(Wall_Glazing_Areas!$C$179<>0,Wall_Glazing_Areas!$C$179,\"\")","v":""},{"$f":"IF(Wall_Glazing_Areas!$I$149<>0,Wall_Glazing_Areas!$I$149,\"\")","v":""},{"$f":"IF(Wall_Glazing_Areas!$I$151<>0,Wall_Glazing_Areas!$I$151,\"\")","v":""},{"$f":"IF(Wall_Glazing_Areas!$I$153<>0,Wall_Glazing_Areas!$I$153,\"\")","v":""},{"$f":"IF(Wall_Glazing_Areas!$I$155<>0,Wall_Glazing_Areas!$I$155,\"\")","v":""},{"$f":"IF(Wall_Glazing_Areas!$I$157<>0,Wall_Glazing_Areas!$I$157,\"\")","v":""},{"$f":"IF(Wall_Glazing_Areas!$I$159<>0,Wall_Glazing_Areas!$I$159,\"\")","v":""},{"$f":"IF(Wall_Glazing_Areas!$I$161<>0,Wall_Glazing_Areas!$I$161,\"\")","v":""},{"$f":"IF(Wall_Glazing_Areas!$I$163<>0,Wall_Glazing_Areas!$I$163,\"\")","v":""},{"$f":"IF(Wall_Glazing_Areas!$I$165<>0,Wall_Glazing_Areas!$I$165,\"\")","v":""},{"$f":"IF(Wall_Glazing_Areas!$I$167<>0,Wall_Glazing_Areas!$I$167,\"\")","v":""},{"$f":"IF(Wall_Glazing_Areas!$I$169<>0,Wall_Glazing_Areas!$I$169,\"\")","v":""},{"$f":"IF(Wall_Glazing_Areas!$I$171<>0,Wall_Glazing_Areas!$I$171,\"\")","v":""},{"$f":"IF(Wall_Glazing_Areas!$I$173<>0,Wall_Glazing_Areas!$I$173,\"\")","v":""},{"$f":"IF(Wall_Glazing_Areas!$I$175<>0,Wall_Glazing_Areas!$I$175,\"\")","v":""},{"$f":"IF(Wall_Glazing_Areas!$I$177<>0,Wall_Glazing_Areas!$I$177,\"\")","v":""},{"$f":"IF(Wall_Glazing_Areas!$I$179<>0,Wall_Glazing_Areas!$I$179,\"\")","v":""}]
[null,"Internal",{"$f":"IF(Wall_Glazing_Areas!P149,TRUE,FALSE)","v":false},{"$f":"IF(Wall_Glazing_Areas!P151,TRUE,FALSE)","v":false},{"$f":"IF(Wall_Glazing_Areas!P153,TRUE,FALSE)","v":false},{"$f":"IF(Wall_Glazing_Areas!P155,TRUE,FALSE)","v":false},{"$f":"IF(Wall_Glazing_Areas!P157,TRUE,FALSE)","v":false},{"$f":"IF(Wall_Glazing_Areas!P159,TRUE,FALSE)","v":false},{"$f":"IF(Wall_Glazing_Areas!P161,TRUE,FALSE)","v":false},{"$f":"IF(Wall_Glazing_Areas!P163,TRUE,FALSE)","v":false},{"$f":"IF(Wall_Glazing_Areas!P165,TRUE,FALSE)","v":false},{"$f":"IF(Wall_Glazing_Areas!P167,TRUE,FALSE)","v":false},{"$f":"IF(Wall_Glazing_Areas!P169,TRUE,FALSE)","v":false},{"$f":"IF(Wall_Glazing_Areas!P171,TRUE,FALSE)","v":false},{"$f":"IF(Wall_Glazing_Areas!P173,TRUE,FALSE)","v":false},{"$f":"IF(Wall_Glazing_Areas!P175,TRUE,FALSE)","v":false},{"$f":"IF(Wall_Glazing_Areas!P177,TRUE,FALSE)","v":false},{"$f":"IF(Wall_Glazing_Areas!P179,TRUE,FALSE)","v":false}]
[null,"System Type",{"$f":"IFERROR(INDEX(Glazing_Systems!$D$12:$D$42,MATCH('J1.5A_Calcs'!C156,Glazing_Systems!$C$12:$C$42,0)),\"\")","v":""},{"$f":"IFERROR(INDEX(Glazing_Systems!$D$12:$D$42,MATCH('J1.5A_Calcs'!D156,Glazing_Systems!$C$12:$C$42,0)),\"\")","v":""},{"$f":"IFERROR(INDEX(Glazing_Systems!$D$12:$D$42,MATCH('J1.5A_Calcs'!E156,Glazing_Systems!$C$12:$C$42,0)),\"\")","v":""},{"$f":"IFERROR(INDEX(Glazing_Systems!$D$12:$D$42,MATCH('J1.5A_Calcs'!F156,Glazing_Systems!$C$12:$C$42,0)),\"\")","v":""},{"$f":"IFERROR(INDEX(Glazing_Systems!$D$12:$D$42,MATCH('J1.5A_Calcs'!G156,Glazing_Systems!$C$12:$C$42,0)),\"\")","v":""},{"$f":"IFERROR(INDEX(Glazing_Systems!$D$12:$D$42,MATCH('J1.5A_Calcs'!H156,Glazing_Systems!$C$12:$C$42,0)),\"\")","v":""},{"$f":"IFERROR(INDEX(Glazing_Systems!$D$12:$D$42,MATCH('J1.5A_Calcs'!I156,Glazing_Systems!$C$12:$C$42,0)),\"\")","v":""},{"$f":"IFERROR(INDEX(Glazing_Systems!$D$12:$D$42,MATCH('J1.5A_Calcs'!J156,Glazing_Systems!$C$12:$C$42,0)),\"\")","v":""},{"$f":"IFERROR(INDEX(Glazing_Systems!$D$12:$D$42,MATCH('J1.5A_Calcs'!K156,Glazing_Systems!$C$12:$C$42,0)),\"\")","v":""},{"$f":"IFERROR(INDEX(Glazing_Systems!$D$12:$D$42,MATCH('J1.5A_Calcs'!L156,Glazing_Systems!$C$12:$C$42,0)),\"\")","v":""},{"$f":"IFERROR(INDEX(Glazing_Systems!$D$12:$D$42,MATCH('J1.5A_Calcs'!M156,Glazing_Systems!$C$12:$C$42,0)),\"\")","v":""},{"$f":"IFERROR(INDEX(Glazing_Systems!$D$12:$D$42,MATCH('J1.5A_Calcs'!N156,Glazing_Systems!$C$12:$C$42,0)),\"\")","v":""},{"$f":"IFERROR(INDEX(Glazing_Systems!$D$12:$D$42,MATCH('J1.5A_Calcs'!O156,Glazing_Systems!$C$12:$C$42,0)),\"\")","v":""},{"$f":"IFERROR(INDEX(Glazing_Systems!$D$12:$D$42,MATCH('J1.5A_Calcs'!P156,Glazing_Systems!$C$12:$C$42,0)),\"\")","v":""},{"$f":"IFERROR(INDEX(Glazing_Systems!$D$12:$D$42,MATCH('J1.5A_Calcs'!Q156,Glazing_Systems!$C$12:$C$42,0)),\"\")","v":""},{"$f":"IFERROR(INDEX(Glazing_Systems!$D$12:$D$42,MATCH('J1.5A_Calcs'!R156,Glazing_Systems!$C$12:$C$42,0)),\"\")","v":""},{"$f":"IFERROR(INDEX(Wall_Systems!$D$12:$D$42,MATCH('J1.5A_Calcs'!S156,Wall_Systems!$C$12:$C$42,0)),\"\")","v":""},{"$f":"IFERROR(INDEX(Wall_Systems!$D$12:$D$42,MATCH('J1.5A_Calcs'!T156,Wall_Systems!$C$12:$C$42,0)),\"\")","v":""},{"$f":"IFERROR(INDEX(Wall_Systems!$D$12:$D$42,MATCH('J1.5A_Calcs'!U156,Wall_Systems!$C$12:$C$42,0)),\"\")","v":""},{"$f":"IFERROR(INDEX(Wall_Systems!$D$12:$D$42,MATCH('J1.5A_Calcs'!V156,Wall_Systems!$C$12:$C$42,0)),\"\")","v":""},{"$f":"IFERROR(INDEX(Wall_Systems!$D$12:$D$42,MATCH('J1.5A_Calcs'!W156,Wall_Systems!$C$12:$C$42,0)),\"\")","v":""},{"$f":"IFERROR(INDEX(Wall_Systems!$D$12:$D$42,MATCH('J1.5A_Calcs'!X156,Wall_Systems!$C$12:$C$42,0)),\"\")","v":""},{"$f":"IFERROR(INDEX(Wall_Systems!$D$12:$D$42,MATCH('J1.5A_Calcs'!Y156,Wall_Systems!$C$12:$C$42,0)),\"\")","v":""},{"$f":"IFERROR(INDEX(Wall_Systems!$D$12:$D$42,MATCH('J1.5A_Calcs'!Z156,Wall_Systems!$C$12:$C$42,0)),\"\")","v":""},{"$f":"IFERROR(INDEX(Wall_Systems!$D$12:$D$42,MATCH('J1.5A_Calcs'!AA156,Wall_Systems!$C$12:$C$42,0)),\"\")","v":""},{"$f":"IFERROR(INDEX(Wall_Systems!$D$12:$D$42,MATCH('J1.5A_Calcs'!AB156,Wall_Systems!$C$12:$C$42,0)),\"\")","v":""},{"$f":"IFERROR(INDEX(Wall_Systems!$D$12:$D$42,MATCH('J1.5A_Calcs'!AC156,Wall_Systems!$C$12:$C$42,0)),\"\")","v":""},{"$f":"IFERROR(INDEX(Wall_Systems!$D$12:$D$42,MATCH('J1.5A_Calcs'!AD156,Wall_Systems!$C$12:$C$42,0)),\"\")","v":""},{"$f":"IFERROR(INDEX(Wall_Systems!$D$12:$D$42,MATCH('J1.5A_Calcs'!AE156,Wall_Systems!$C$12:$C$42,0)),\"\")","v":""},{"$f":"IFERROR(INDEX(Wall_Systems!$D$12:$D$42,MATCH('J1.5A_Calcs'!AF156,Wall_Systems!$C$12:$C$42,0)),\"\")","v":""},{"$f":"IFERROR(INDEX(Wall_Systems!$D$12:$D$42,MATCH('J1.5A_Calcs'!AG156,Wall_Systems!$C$12:$C$42,0)),\"\")","v":""},{"$f":"IFERROR(INDEX(Wall_Systems!$D$12:$D$42,MATCH('J1.5A_Calcs'!AH156,Wall_Systems!$C$12:$C$42,0)),\"\")","v":""}]
[null,"Glazing Type / Wall Construction",{"$f":"IFERROR(INDEX(Glazing_Systems!$E$12:$E$42,MATCH('J1.5A_Calcs'!C156,Glazing_Systems!$C$12:$C$42,0)),\"\")","v":""},{"$f":"IFERROR(INDEX(Glazing_Systems!$E$12:$E$42,MATCH('J1.5A_Calcs'!D156,Glazing_Systems!$C$12:$C$42,0)),\"\")","v":""},{"$f":"IFERROR(INDEX(Glazing_Systems!$E$12:$E$42,MATCH('J1.5A_Calcs'!E156,Glazing_Systems!$C$12:$C$42,0)),\"\")","v":""},{"$f":"IFERROR(INDEX(Glazing_Systems!$E$12:$E$42,MATCH('J1.5A_Calcs'!F156,Glazing_Systems!$C$12:$C$42,0)),\"\")","v":""},{"$f":"IFERROR(INDEX(Glazing_Systems!$E$12:$E$42,MATCH('J1.5A_Calcs'!G156,Glazing_Systems!$C$12:$C$42,0)),\"\")","v":""},{"$f":"IFERROR(INDEX(Glazing_Systems!$E$12:$E$42,MATCH('J1.5A_Calcs'!H156,Glazing_Systems!$C$12:$C$42,0)),\"\")","v":""},{"$f":"IFERROR(INDEX(Glazing_Systems!$E$12:$E$42,MATCH('J1.5A_Calcs'!I156,Glazing_Systems!$C$12:$C$42,0)),\"\")","v":""},{"$f":"IFERROR(INDEX(Glazing_Systems!$E$12:$E$42,MATCH('J1.5A_Calcs'!J156,Glazing_Systems!$C$12:$C$42,0)),\"\")","v":""},{"$f":"IFERROR(INDEX(Glazing_Systems!$E$12:$E$42,MATCH('J1.5A_Calcs'!K156,Glazing_Systems!$C$12:$C$42,0)),\"\")","v":""},{"$f":"IFERROR(INDEX(Glazing_Systems!$E$12:$E$42,MATCH('J1.5A_Calcs'!L156,Glazing_Systems!$C$12:$C$42,0)),\"\")","v":""},{"$f":"IFERROR(INDEX(Glazing_Systems!$E$12:$E$42,MATCH('J1.5A_Calcs'!M156,Glazing_Systems!$C$12:$C$42,0)),\"\")","v":""},{"$f":"IFERROR(INDEX(Glazing_Systems!$E$12:$E$42,MATCH('J1.5A_Calcs'!N156,Glazing_Systems!$C$12:$C$42,0)),\"\")","v":""},{"$f":"IFERROR(INDEX(Glazing_Systems!$E$12:$E$42,MATCH('J1.5A_Calcs'!O156,Glazing_Systems!$C$12:$C$42,0)),\"\")","v":""},{"$f":"IFERROR(INDEX(Glazing_Systems!$E$12:$E$42,MATCH('J1.5A_Calcs'!P156,Glazing_Systems!$C$12:$C$42,0)),\"\")","v":""},{"$f":"IFERROR(INDEX(Glazing_Systems!$E$12:$E$42,MATCH('J1.5A_Calcs'!Q156,Glazing_Systems!$C$12:$C$42,0)),\"\")","v":""},{"$f":"IFERROR(INDEX(Glazing_Systems!$E$12:$E$42,MATCH('J1.5A_Calcs'!R156,Glazing_Systems!$C$12:$C$42,0)),\"\")","v":""},{"$f":"IFERROR(INDEX(Wall_Systems!$F$12:$F$42,MATCH('J1.5A_Calcs'!S156,Wall_Systems!$C$12:$C$42,0)),\"\")","v":""},{"$f":"IFERROR(INDEX(Wall_Systems!$F$12:$F$42,MATCH('J1.5A_Calcs'!T156,Wall_Systems!$C$12:$C$42,0)),\"\")","v":""},{"$f":"IFERROR(INDEX(Wall_Systems!$F$12:$F$42,MATCH('J1.5A_Calcs'!U156,Wall_Systems!$C$12:$C$42,0)),\"\")","v":""},{"$f":"IFERROR(INDEX(Wall_Systems!$F$12:$F$42,MATCH('J1.5A_Calcs'!V156,Wall_Systems!$C$12:$C$42,0)),\"\")","v":""},{"$f":"IFERROR(INDEX(Wall_Systems!$F$12:$F$42,MATCH('J1.5A_Calcs'!W156,Wall_Systems!$C$12:$C$42,0)),\"\")","v":""},{"$f":"IFERROR(INDEX(Wall_Systems!$F$12:$F$42,MATCH('J1.5A_Calcs'!X156,Wall_Systems!$C$12:$C$42,0)),\"\")","v":""},{"$f":"IFERROR(INDEX(Wall_Systems!$F$12:$F$42,MATCH('J1.5A_Calcs'!Y156,Wall_Systems!$C$12:$C$42,0)),\"\")","v":""},{"$f":"IFERROR(INDEX(Wall_Systems!$F$12:$F$42,MATCH('J1.5A_Calcs'!Z156,Wall_Systems!$C$12:$C$42,0)),\"\")","v":""},{"$f":"IFERROR(INDEX(Wall_Systems!$F$12:$F$42,MATCH('J1.5A_Calcs'!AA156,Wall_Systems!$C$12:$C$42,0)),\"\")","v":""},{"$f":"IFERROR(INDEX(Wall_Systems!$F$12:$F$42,MATCH('J1.5A_Calcs'!AB156,Wall_Systems!$C$12:$C$42,0)),\"\")","v":""},{"$f":"IFERROR(INDEX(Wall_Systems!$F$12:$F$42,MATCH('J1.5A_Calcs'!AC156,Wall_Systems!$C$12:$C$42,0)),\"\")","v":""},{"$f":"IFERROR(INDEX(Wall_Systems!$F$12:$F$42,MATCH('J1.5A_Calcs'!AD156,Wall_Systems!$C$12:$C$42,0)),\"\")","v":""},{"$f":"IFERROR(INDEX(Wall_Systems!$F$12:$F$42,MATCH('J1.5A_Calcs'!AE156,Wall_Systems!$C$12:$C$42,0)),\"\")","v":""},{"$f":"IFERROR(INDEX(Wall_Systems!$F$12:$F$42,MATCH('J1.5A_Calcs'!AF156,Wall_Systems!$C$12:$C$42,0)),\"\")","v":""},{"$f":"IFERROR(INDEX(Wall_Systems!$F$12:$F$42,MATCH('J1.5A_Calcs'!AG156,Wall_Systems!$C$12:$C$42,0)),\"\")","v":""},{"$f":"IFERROR(INDEX(Wall_Systems!$F$12:$F$42,MATCH('J1.5A_Calcs'!AH156,Wall_Systems!$C$12:$C$42,0)),\"\")","v":""}]
[null,"Framing Type / Wall Thickness",{"$f":"IFERROR(INDEX(Glazing_Systems!$F$12:$F$42,MATCH('J1.5A_Calcs'!C118,Glazing_Systems!$C$12:$C$42,0)),\"\")","v":""},{"$f":"IFERROR(INDEX(Glazing_Systems!$F$12:$F$42,MATCH('J1.5A_Calcs'!D118,Glazing_Systems!$C$12:$C$42,0)),\"\")","v":""},{"$f":"IFERROR(INDEX(Glazing_Systems!$F$12:$F$42,MATCH('J1.5A_Calcs'!E118,Glazing_Systems!$C$12:$C$42,0)),\"\")","v":""},{"$f":"IFERROR(INDEX(Glazing_Systems!$F$12:$F$42,MATCH('J1.5A_Calcs'!F118,Glazing_Systems!$C$12:$C$42,0)),\"\")","v":""},{"$f":"IFERROR(INDEX(Glazing_Systems!$F$12:$F$42,MATCH('J1.5A_Calcs'!G118,Glazing_Systems!$C$12:$C$42,0)),\"\")","v":""},{"$f":"IFERROR(INDEX(Glazing_Systems!$F$12:$F$42,MATCH('J1.5A_Calcs'!H118,Glazing_Systems!$C$12:$C$42,0)),\"\")","v":""},{"$f":"IFERROR(INDEX(Glazing_Systems!$F$12:$F$42,MATCH('J1.5A_Calcs'!I118,Glazing_Systems!$C$12:$C$42,0)),\"\")","v":""},{"$f":"IFERROR(INDEX(Glazing_Systems!$F$12:$F$42,MATCH('J1.5A_Calcs'!J118,Glazing_Systems!$C$12:$C$42,0)),\"\")","v":""},{"$f":"IFERROR(INDEX(Glazing_Systems!$F$12:$F$42,MATCH('J1.5A_Calcs'!K118,Glazing_Systems!$C$12:$C$42,0)),\"\")","v":""},{"$f":"IFERROR(INDEX(Glazing_Systems!$F$12:$F$42,MATCH('J1.5A_Calcs'!L118,Glazing_Systems!$C$12:$C$42,0)),\"\")","v":""},{"$f":"IFERROR(INDEX(Glazing_Systems!$F$12:$F$42,MATCH('J1.5A_Calcs'!M118,Glazing_Systems!$C$12:$C$42,0)),\"\")","v":""},{"$f":"IFERROR(INDEX(Glazing_Systems!$F$12:$F$42,MATCH('J1.5A_Calcs'!N118,Glazing_Systems!$C$12:$C$42,0)),\"\")","v":""},{"$f":"IFERROR(INDEX(Glazing_Systems!$F$12:$F$42,MATCH('J1.5A_Calcs'!O118,Glazing_Systems!$C$12:$C$42,0)),\"\")","v":""},{"$f":"IFERROR(INDEX(Glazing_Systems!$F$12:$F$42,MATCH('J1.5A_Calcs'!P118,Glazing_Systems!$C$12:$C$42,0)),\"\")","v":""},{"$f":"IFERROR(INDEX(Glazing_Systems!$F$12:$F$42,MATCH('J1.5A_Calcs'!Q118,Glazing_Systems!$C$12:$C$42,0)),\"\")","v":""},{"$f":"IFERROR(INDEX(Glazing_Systems!$F$12:$F$42,MATCH('J1.5A_Calcs'!R118,Glazing_Systems!$C$12:$C$42,0)),\"\")","v":""},{"$f":"IFERROR(INDEX(Wall_Systems!$G$12:$G$42,MATCH('J1.5A_Calcs'!S156,Wall_Systems!$C$12:$C$42,0)),\"\")","v":""}]
[null,"Vision?",{"$f":"IF(C156<>\"\",TRUE,\"\")","v":""},"","","","","","",{"$f":"IF(J156<>\"\",TRUE,\"\")","v":""},"","","","","","","","",{"$f":"IF(S156<>\"\",FALSE,\"\")","v":""},"","","","","","",{"$f":"IF(Z156<>\"\",FALSE,\"\")","v":""},"","","","","","","",""]
[null,"R-value / m2K/W",{"$f":"IF(C156<>\"\",IF(C161=TRUE,\"\",VLOOKUP(C156,$F$17:$H$35,2,FALSE)),\"\")","v":""},"","","","","","",{"$f":"IF(J156<>\"\",IF(J161=TRUE,\"\",VLOOKUP(J156,$F$17:$H$35,2,FALSE)),\"\")","v":""},"","","","","","","","",{"$f":"IF(S156<>\"\",IF(S161=TRUE,\"\",VLOOKUP(S156,$F$17:$H$34,2,FALSE)),\"\")","v":""},{"$f":"IF(T156<>\"\",IF(T161=TRUE,\"\",VLOOKUP(T156,$F$17:$H$34,2,FALSE)),\"\")","v":""},{"$f":"IF(U156<>\"\",IF(U161=TRUE,\"\",VLOOKUP(U156,$F$17:$H$34,2,FALSE)),\"\")","v":""},"","","","","",{"$f":"IF(AA156<>\"\",IF(AA161=TRUE,\"\",VLOOKUP(AA156,$F$17:$H$34,2,FALSE)),\"\")","v":""},"","","","","","",""]
[null,"U-value / W/m2K",{"$f":"IF(C156<>\"\",IF(C161=TRUE,VLOOKUP(C156,$B$17:$D$35,2,FALSE),VLOOKUP(C156,$F$17:$H$35,3,FALSE)),\"\")","v":""},{"$f":"IF(D156<>\"\",IF(D161=TRUE,VLOOKUP(D156,$B$17:$D$35,2,FALSE),VLOOKUP(D156,$F$17:$H$35,3,FALSE)),\"\")","v":""},"","","","","","",{"$f":"IF(K156<>\"\",IF(K161=TRUE,VLOOKUP(K156,$B$17:$D$35,2,FALSE),VLOOKUP(K156,$F$17:$H$35,3,FALSE)),\"\")","v":""},"","","","","","",{"$f":"IF(R156<>\"\",IF(R161=TRUE,VLOOKUP(R156,$B$17:$D$34,2,FALSE),VLOOKUP(R156,$F$17:$H$34,3,FALSE)),\"\")","v":""},{"$f":"IF(S156<>\"\",IF(S161=TRUE,VLOOKUP(S156,$B$17:$D$35,2,FALSE),VLOOKUP(S156,$F$17:$H$35,3,FALSE)),\"\")","v":""},"","","","","","","",{"$f":"IF(AA156<>\"\",IF(AA161=TRUE,VLOOKUP(AA156,$B$17:$D$35,2,FALSE),VLOOKUP(AA156,$F$17:$H$35,3,FALSE)),\"\")","v":""},"","","","","","",""]
[null,"SHGC",{"$f":"IF(AND(C157=FALSE,C161=TRUE),VLOOKUP(C156,$B$17:$D$34,3,FALSE),\"0\")","v":"0"},{"$f":"IF(AND(D157=FALSE,D161=TRUE),VLOOKUP(D156,$B$17:$D$34,3,FALSE),\"0\")","v":"0"},"0",{"$f":"IF(AND(F157=FALSE,F161=TRUE),VLOOKUP(F156,$B$17:$D$34,3,FALSE),\"0\")","v":"0"},"0","0","0","0","0","0","0","0","0","0","0","0",{"$f":"IF(S161=TRUE,VLOOKUP(S156,$B$17:$D$35,3,FALSE),\"\")","v":""},"","","","","","","","","","","","","","","","Total"]
[null,"Area / m2",{"$f":"IF(C161=TRUE,VLOOKUP(C156,Wall_Glazing_Areas!$C$149:$F$179,4,FALSE),IF(C161=FALSE,VLOOKUP(C156,Wall_Glazing_Areas!$C$149:$F$179,2,FALSE),\"\"))","v":""},{"$f":"IF(D161=TRUE,VLOOKUP(D156,Wall_Glazing_Areas!$C$149:$F$179,4,FALSE),IF(D161=FALSE,VLOOKUP(D156,Wall_Glazing_Areas!$C$149:$F$179,2,FALSE),\"\"))","v":""},{"$f":"IF(E161=TRUE,VLOOKUP(E156,Wall_Glazing_Areas!$C$149:$F$179,4,FALSE),IF(E161=FALSE,VLOOKUP(E156,Wall_Glazing_Areas!$C$149:$F$179,2,FALSE),\"\"))","v":""},{"$f":"IF(F161=TRUE,VLOOKUP(F156,Wall_Glazing_Areas!$C$149:$F$179,4,FALSE),IF(F161=FALSE,VLOOKUP(F156,Wall_Glazing_Areas!$C$149:$F$179,2,FALSE),\"\"))","v":""},{"$f":"IF(G161=TRUE,VLOOKUP(G156,Wall_Glazing_Areas!$C$149:$F$179,4,FALSE),IF(G161=FALSE,VLOOKUP(G156,Wall_Glazing_Areas!$C$149:$F$179,2,FALSE),\"\"))","v":""},{"$f":"IF(H161=TRUE,VLOOKUP(H156,Wall_Glazing_Areas!$C$149:$F$179,4,FALSE),IF(H161=FALSE,VLOOKUP(H156,Wall_Glazing_Areas!$C$149:$F$179,2,FALSE),\"\"))","v":""},{"$f":"IF(I161=TRUE,VLOOKUP(I156,Wall_Glazing_Areas!$C$149:$F$179,4,FALSE),IF(I161=FALSE,VLOOKUP(I156,Wall_Glazing_Areas!$C$149:$F$179,2,FALSE),\"\"))","v":""},{"$f":"IF(J161=TRUE,VLOOKUP(J156,Wall_Glazing_Areas!$C$149:$F$179,4,FALSE),IF(J161=FALSE,VLOOKUP(J156,Wall_Glazing_Areas!$C$149:$F$179,2,FALSE),\"\"))","v":""},{"$f":"IF(K161=TRUE,VLOOKUP(K156,Wall_Glazing_Areas!$C$149:$F$179,4,FALSE),IF(K161=FALSE,VLOOKUP(K156,Wall_Glazing_Areas!$C$149:$F$179,2,FALSE),\"\"))","v":""},{"$f":"IF(L161=TRUE,VLOOKUP(L156,Wall_Glazing_Areas!$C$149:$F$179,4,FALSE),IF(L161=FALSE,VLOOKUP(L156,Wall_Glazing_Areas!$C$149:$F$179,2,FALSE),\"\"))","v":""},{"$f":"IF(M161=TRUE,VLOOKUP(M156,Wall_Glazing_Areas!$C$149:$F$179,4,FALSE),IF(M161=FALSE,VLOOKUP(M156,Wall_Glazing_Areas!$C$149:$F$179,2,FALSE),\"\"))","v":""},{"$f":"IF(N161=TRUE,VLOOKUP(N156,Wall_Glazing_Areas!$C$149:$F$179,4,FALSE),IF(N161=FALSE,VLOOKUP(N156,Wall_Glazing_Areas!$C$149:$F$179,2,FALSE),\"\"))","v":""},{"$f":"IF(O161=TRUE,VLOOKUP(O156,Wall_Glazing_Areas!$C$149:$F$179,4,FALSE),IF(O161=FALSE,VLOOKUP(O156,Wall_Glazing_Areas!$C$149:$F$179,2,FALSE),\"\"))","v":""},{"$f":"IF(P161=TRUE,VLOOKUP(P156,Wall_Glazing_Areas!$C$149:$F$179,4,FALSE),IF(P161=FALSE,VLOOKUP(P156,Wall_Glazing_Areas!$C$149:$F$179,2,FALSE),\"\"))","v":""},{"$f":"IF(Q161=TRUE,VLOOKUP(Q156,Wall_Glazing_Areas!$C$149:$F$179,4,FALSE),IF(Q161=FALSE,VLOOKUP(Q156,Wall_Glazing_Areas!$C$149:$F$179,2,FALSE),\"\"))","v":""},{"$f":"IF(R161=TRUE,VLOOKUP(R156,Wall_Glazing_Areas!$C$149:$F$179,4,FALSE),IF(R161=FALSE,VLOOKUP(R156,Wall_Glazing_Areas!$C$149:$F$179,2,FALSE),\"\"))","v":""},{"$f":"IF(S161=TRUE,VLOOKUP(S156,Wall_Glazing_Areas!$C$149:$F$179,4),IF(S161=FALSE,VLOOKUP(S156,Wall_Glazing_Areas!$I$149:$J$179,2,FALSE),\"\"))","v":""},{"$f":"IF(T161=TRUE,VLOOKUP(T156,Wall_Glazing_Areas!$C$149:$F$179,4),IF(T161=FALSE,VLOOKUP(T156,Wall_Glazing_Areas!$I$149:$J$179,2,FALSE),\"\"))","v":""},{"$f":"IF(U161=TRUE,VLOOKUP(U156,Wall_Glazing_Areas!$C$149:$F$179,4),IF(U161=FALSE,VLOOKUP(U156,Wall_Glazing_Areas!$I$149:$J$179,2,FALSE),\"\"))","v":""},{"$f":"IF(V161=TRUE,VLOOKUP(V156,Wall_Glazing_Areas!$C$149:$F$179,4),IF(V161=FALSE,VLOOKUP(V156,Wall_Glazing_Areas!$I$149:$J$179,2,FALSE),\"\"))","v":""},{"$f":"IF(W161=TRUE,VLOOKUP(W156,Wall_Glazing_Areas!$C$149:$F$179,4),IF(W161=FALSE,VLOOKUP(W156,Wall_Glazing_Areas!$I$149:$J$179,2,FALSE),\"\"))","v":""},{"$f":"IF(X161=TRUE,VLOOKUP(X156,Wall_Glazing_Areas!$C$149:$F$179,4),IF(X161=FALSE,VLOOKUP(X156,Wall_Glazing_Areas!$I$149:$J$179,2,FALSE),\"\"))","v":""},{"$f":"IF(Y161=TRUE,VLOOKUP(Y156,Wall_Glazing_Areas!$C$149:$F$179,4),IF(Y161=FALSE,VLOOKUP(Y156,Wall_Glazing_Areas!$I$149:$J$179,2,FALSE),\"\"))","v":""},{"$f":"IF(Z161=TRUE,VLOOKUP(Z156,Wall_Glazing_Areas!$C$149:$F$179,4),IF(Z161=FALSE,VLOOKUP(Z156,Wall_Glazing_Areas!$I$149:$J$179,2,FALSE),\"\"))","v":""},{"$f":"IF(AA161=TRUE,VLOOKUP(AA156,Wall_Glazing_Areas!$C$149:$F$179,4),IF(AA161=FALSE,VLOOKUP(AA156,Wall_Glazing_Areas!$I$149:$J$179,2,FALSE),\"\"))","v":""},{"$f":"IF(AB161=TRUE,VLOOKUP(AB156,Wall_Glazing_Areas!$C$149:$F$179,4),IF(AB161=FALSE,VLOOKUP(AB156,Wall_Glazing_Areas!$I$149:$J$179,2,FALSE),\"\"))","v":""},{"$f":"IF(AC161=TRUE,VLOOKUP(AC156,Wall_Glazing_Areas!$C$149:$F$179,4),IF(AC161=FALSE,VLOOKUP(AC156,Wall_Glazing_Areas!$I$149:$J$179,2,FALSE),\"\"))","v":""},{"$f":"IF(AD161=TRUE,VLOOKUP(AD156,Wall_Glazing_Areas!$C$149:$F$179,4),IF(AD161=FALSE,VLOOKUP(AD156,Wall_Glazing_Areas!$I$149:$J$179,2,FALSE),\"\"))","v":""},{"$f":"IF(AE161=TRUE,VLOOKUP(AE156,Wall_Glazing_Areas!$C$149:$F$179,4),IF(AE161=FALSE,VLOOKUP(AE156,Wall_Glazing_Areas!$I$149:$J$179,2,FALSE),\"\"))","v":""},{"$f":"IF(AF161=TRUE,VLOOKUP(AF156,Wall_Glazing_Areas!$C$149:$F$179,4),IF(AF161=FALSE,VLOOKUP(AF156,Wall_Glazing_Areas!$I$149:$J$179,2,FALSE),\"\"))","v":""},{"$f":"IF(AG161=TRUE,VLOOKUP(AG156,Wall_Glazing_Areas!$C$149:$F$179,4),IF(AG161=FALSE,VLOOKUP(AG156,Wall_Glazing_Areas!$I$149:$J$179,2,FALSE),\"\"))","v":""},{"$f":"IF(AH161=TRUE,VLOOKUP(AH156,Wall_Glazing_Areas!$C$149:$F$179,4),IF(AH161=FALSE,VLOOKUP(AH156,Wall_Glazing_Areas!$I$149:$J$179,2,FALSE),\"\"))","v":""},{"$f":"SUM(C165:AH165)","v":0},"m2"]
[null,"%",{"$f":"IFERROR(C165/SUM($C165:$Z165),\"\")","v":""},{"$f":"IFERROR(D165/SUM($C165:$Z165),\"\")","v":""},"","","","","","",{"$f":"IFERROR(K165/SUM($C165:$Z165),\"\")","v":""},"","","","","","","","","","","","","","","",{"$f":"IFERROR(AA165/SUM($C165:$Z165),\"\")","v":""},"","","","","","","",{"$f":"SUM(C166:AH166)","v":0},"=100?"]
[null,"Vision area / m2",{"$f":"IF(C161=TRUE,C165,\"\")","v":""},"","","","","","","",{"$f":"IF(K161=TRUE,K165,\"\")","v":""},"","","","","","","","","","","","","","","",{"$f":"IF(AA161=TRUE,AA165,\"\")","v":""},"","","","","","","",{"$f":"IFERROR(SUM(C167:AH167),0)","v":0},"m2"]
[null,"Wall area / m2",{"$f":"IF(C161=FALSE,C165,\"\")","v":""},{"$f":"IF(D161=FALSE,D165,\"\")","v":""},"","","","","","",{"$f":"IF(K161=FALSE,K165,\"\")","v":""},"","","","","","","","","","","","","","","",{"$f":"IF(AA161=FALSE,AA165,\"\")","v":""},"","","","","","","",{"$f":"SUM(C168:AH168)","v":0},"m2"]
[null,"Wall >= 80%?",{"$f":"IF(C161=FALSE,IF(C166>=0.8,TRUE,FALSE),\"\")","v":""},"","","","","","","",{"$f":"IF(K161=FALSE,IF(K166>=0.8,TRUE,FALSE),\"\")","v":""},"","","","","","","","","","","","","","","",{"$f":"IF(AA161=FALSE,IF(AA166>=0.8,TRUE,FALSE),\"\")","v":""},"","","","","","","",{"$f":"AI167/AI165","v":{"$error":"#DIV/0!"}},"WWR"]
[null,"Meets R-value?",{"$f":"IF(C161=FALSE,IF(C169=TRUE,IF(C162<$E$11,FALSE,TRUE),IF(C162<$C$11,FALSE,TRUE)),\"\")","v":""},{"$f":"IF(D161=FALSE,IF(D169=TRUE,IF(D162<$E$11,FALSE,TRUE),IF(D162<$C$11,FALSE,TRUE)),\"\")","v":""},"","","","","","",{"$f":"IF(K161=FALSE,IF(K169=TRUE,IF(K162<$E$11,FALSE,TRUE),IF(K162<$C$11,FALSE,TRUE)),\"\")","v":""},"","","","","","","","","","","","","","","",{"$f":"IF(AA161=FALSE,IF(AA169=TRUE,IF(AA162<$E$11,FALSE,TRUE),IF(AA162<$C$11,FALSE,TRUE)),\"\")","v":""},"","","","","","",""]
["if vision, then ","Shading?",{"$f":"IF(Wall_Glazing_Areas!$G$149<>\"\",TRUE,FALSE)","v":false},{"$f":"IF(Wall_Glazing_Areas!$G$151<>\"\",TRUE,FALSE)","v":false},{"$f":"IF(Wall_Glazing_Areas!$G$153<>\"\",TRUE,FALSE)","v":false},{"$f":"IF(Wall_Glazing_Areas!$G$155<>\"\",TRUE,FALSE)","v":false},{"$f":"IF(Wall_Glazing_Areas!$G$157<>\"\",TRUE,FALSE)","v":false},{"$f":"IF(Wall_Glazing_Areas!$G$159<>\"\",TRUE,FALSE)","v":false},{"$f":"IF(Wall_Glazing_Areas!$G$161<>\"\",TRUE,FALSE)","v":false},{"$f":"IF(Wall_Glazing_Areas!$G$163<>\"\",TRUE,FALSE)","v":false},{"$f":"IF(Wall_Glazing_Areas!$G$163<>\"\",TRUE,FALSE)","v":false},{"$f":"IF(Wall_Glazing_Areas!$G$163<>\"\",TRUE,FALSE)","v":false},{"$f":"IF(Wall_Glazing_Areas!$G$163<>\"\",TRUE,FALSE)","v":false},{"$f":"IF(Wall_Glazing_Areas!$G$163<>\"\",TRUE,FALSE)","v":false},{"$f":"IF(Wall_Glazing_Areas!$G$163<>\"\",TRUE,FALSE)","v":false},{"$f":"IF(Wall_Glazing_Areas!$G$163<>\"\",TRUE,FALSE)","v":false},{"$f":"IF(Wall_Glazing_Areas!$G$163<>\"\",TRUE,FALSE)","v":false},{"$f":"IF(Wall_Glazing_Areas!$G$163<>\"\",TRUE,FALSE)","v":false}]
[null,"Shading ref",{"$f":"IF(C171=TRUE,Wall_Glazing_Areas!$G$149,\"\")","v":""},{"$f":"IF(D171=TRUE,Wall_Glazing_Areas!$G$151,\"\")","v":""},{"$f":"IF(E171=TRUE,Wall_Glazing_Areas!$G$153,\"\")","v":""},{"$f":"IF(F171=TRUE,Wall_Glazing_Areas!$G$155,\"\")","v":""},{"$f":"IF(G171=TRUE,Wall_Glazing_Areas!$G$157,\"\")","v":""},{"$f":"IF(H171=TRUE,Wall_Glazing_Areas!$G$159,\"\")","v":""},{"$f":"IF(I171=TRUE,Wall_Glazing_Areas!$G$161,\"\")","v":""},{"$f":"IF(J171=TRUE,Wall_Glazing_Areas!$G$163,\"\")","v":""},{"$f":"IF(K171=TRUE,Wall_Glazing_Areas!$G$163,\"\")","v":""},{"$f":"IF(L171=TRUE,Wall_Glazing_Areas!$G$163,\"\")","v":""},{"$f":"IF(M171=TRUE,Wall_Glazing_Areas!$G$163,\"\")","v":""},{"$f":"IF(N171=TRUE,Wall_Glazing_Areas!$G$163,\"\")","v":""},{"$f":"IF(O171=TRUE,Wall_Glazing_Areas!$G$163,\"\")","v":""},{"$f":"IF(P171=TRUE,Wall_Glazing_Areas!$G$163,\"\")","v":""},{"$f":"IF(Q171=TRUE,Wall_Glazing_Areas!$G$163,\"\")","v":""},{"$f":"IF(R171=TRUE,Wall_Glazing_Areas!$G$163,\"\")","v":""}]
[null,"Multiplier",{"$f":"IF(C171=FALSE,1,VLOOKUP(C172,$J$17:$T$34,10,FALSE))","v":1},{"$f":"IF(D171=FALSE,1,VLOOKUP(D172,$J$17:$T$34,10,FALSE))","v":1},1,1,1,1,1,1,1,1,1,1,1,1,1,1]
[null,"ERROR No U-value",{"$f":"IF(AND(C165<>\"\",C163=\"\"),\"U-VALUE MISSING\",\"\")","v":""},{"$f":"IF(AND(D165<>\"\",D163=\"\"),\"U-VALUE MISSING\",\"\")","v":""},"","","","","","","","","","","","","","","","","","","","","",""]
[null,"ERROR No Area",{"$f":"IF(AND(C163<>\"\",C165=0),\"AREA MISSING\",\"\")","v":""},{"$f":"IF(AND(D163<>\"\",D165=0),\"AREA MISSING\",\"\")","v":""},"","","","","","","","","","","","","","","","","","","","","","",null,null,null,null,null,null,null,null,"Total"]
[null,"UA",{"$f":"IFERROR(C165*C163,\"\")","v":""},{"$f":"IFERROR(D165*D163,\"\")","v":""},"","","","","","","","","","","","","","","","","","","","","","","","","","","","","","",{"$f":"SUM(C176:AH176)","v":0}]
[null,"SA",{"$f":"IF(C161=TRUE,C165*C173*C164,\"\")","v":""},{"$f":"IF(D161=TRUE,D165*D173*D164,\"\")","v":""},"","","","","","","","","","","","","","",null,null,null,null,null,null,null,null,null,null,null,null,null,null,null,null,{"$f":"SUM(C177:R177)","v":0}]
[null,"MultiplierA",{"$f":"IFERROR((C173*C167),\"\")","v":""},{"$f":"IFERROR((D173*D167),\"\")","v":""},"","","","","","","","","","","","","",{"$f":"IFERROR((R173*R167),\"\")","v":""}]
[null,"SHGCA",{"$f":"IFERROR((C164*C167),\"\")","v":""},{"$f":"IFERROR((D164*D167),\"\")","v":""},"","","","","","","","","","","","","",""]
[null,null,null,null,null,null,null,null,null,null,null,null,null,null,null,null,null,null,null,null,null,null,null,"Reference Building","Glazing","Wall","WWR"]
["Area weighted average glazing U-value / W/m2K",null,{"$f":"SUM(C176:R176)/AI167","v":{"$error":"#DIV/0!"}},null,null,null,null,null,null,null,null,null,null,null,null,null,null,null,null,null,null,null,null,"U-value glazing",{"$f":"IFERROR(($B$11*AI165-(Y182*(AI165-AI167)))/AI167,0)","v":0},{"$f":"C181","v":{"$error":"#DIV/0!"}},{"$f":"C181","v":{"$error":"#DIV/0!"}}]
["Area weighted average wall U-value / W/m2K",null,{"$f":"IF(SUM(S176:AH176)/(AI165-AI167)=0,\"WALL R-VALUE ERROR\",SUM(S176:AH176)/(AI165-AI167))","v":{"$error":"#DIV/0!"}},null,null,null,null,null,null,null,null,null,null,null,null,null,null,null,null,null,null,null,null,"U-value wall",{"$f":"IFERROR(IF(AND($Y183<=0.2,$C182>$F$11),$F$11,IF(AND($Y183>0.2,$C182>$D$11),$D$11,$C182)),0)","v":0},{"$f":"($B$11*AI165-SUM(C176:R176))/(AI165-AI167)","v":{"$error":"#N/A"}},{"$f":"IF(AND($Y183<=0.2,$C182>$F$11),$F$11,IF(AND($Y183>0.2,$C182>$D$11),$D$11,$C182))","v":{"$error":"#DIV/0!"}},"note, wall value may not meet backsto"]
["Meets compliance?",null,{"$f":"IF(AND(AI169>0.2,C182<D$11),TRUE,IF(AND(AI169<=0.2,C182<F$11),TRUE,FALSE))","v":{"$error":"#DIV/0!"}},null,null,null,null,null,null,null,null,null,null,null,null,null,null,null,null,null,null,null,null,"WWR",{"$f":"AI169","v":{"$error":"#DIV/0!"}},{"$f":"AI169","v":{"$error":"#DIV/0!"}},{"$f":"(($B$11*AI165-AA182*AI165)/(AA181-AA182))/AI165","v":{"$error":"#N/A"}}]
["Area weighted average SHGC",null,{"$f":"IFERROR(SUM(C179:R179)/AI167,0)","v":0},null,null,null,null,null,null,null,null,null,null,null,null,null,null,null,null,null,null,null,null,null,"Glazing","Shading","WWR"]
["Area weighted average shading multiplier",null,{"$f":"IFERROR(SUM(C178:R178)/AI167,0)","v":0},null,null,null,null,null,null,null,null,null,null,null,null,null,null,null,null,null,null,null,null,"SHGC",{"$f":"J$11/(Y186*Y187)","v":{"$error":"#N/A"}},{"$f":"C184","v":0},{"$f":"C184","v":0}]
["Solar admittance coefficient",null,{"$f":"IF(AI167=0,0,IF(AI169<0.2,0,$N$11))","v":0},null,null,null,null,null,null,null,null,null,null,null,null,null,null,null,null,null,null,null,null,"Shading",{"$f":"IF(C$200=FALSE,1,C185)","v":0},{"$f":"J$11/(Z185*Z187)","v":{"$error":"#N/A"}},1]
["Wall-glazing U-value, West",null,{"$f":"IF(AI165=0,\"\",SUM(C176:AH176)/SUM(C165:AH165))","v":""},null,null,null,null,null,null,null,null,null,null,null,null,null,null,null,null,null,null,null,null,"WWR",{"$f":"AI169","v":{"$error":"#DIV/0!"}},{"$f":"AI169","v":{"$error":"#DIV/0!"}},{"$f":"J$11/(AA185*AA186)","v":{"$error":"#N/A"}}]
["Solar admittance, West",null,{"$f":"IF(AI167=0,0,AI177/AI165)","v":0}]
[]
[]
[]
[]
[null,null,null,null,null,null,null,null,null,null,null,null,null,null,null,null,null,null,null,null,null,null,null,null,null,null,null,null,1]
["Method 2",null,null,null,null,null,null,null,null,null,null,null,null,null,null,null,null,null,null,null,null,null,null,null,null,null,null,null,0]
[]
["All orientations, area-weighted average glazing U-value",null,{"$f":"(C67*AI$53+C105*AI$91+C143*AI$129+C181*AI$167)/SUM(AI$53,AI$91,AI$129,AI$167)","v":{"$error":"#VALUE!"}}]
["All orientations, area-weighted average SHGC",null,{"$f":"(C70*AI$53+C108*AI$91+C146*AI$129+C184*AI$167)/SUM(AI$53,AI$91,AI$129,AI$167)","v":{"$error":"#DIV/0!"}}]
["All orientations, area-weighted average solar admittance",null,{"$f":"C209/(AI51*C72+AI89*C110+AI127*C148+AI165*C186)","v":{"$error":"#DIV/0!"}}]
["All orientations, area-weighted average wall U-value",null,{"$f":"(C68*AI54+C106*AI92+C144*AI130+C182*AI168)/SUM(AI54,AI92,AI130,AI168)","v":{"$error":"#DIV/0!"}}]
["Reference Building, shading included?",null,{"$f":"IF(Wall_Glazing_Areas!D189=\"\",\"\",IF(Wall_Glazing_Areas!D189=\"None\",FALSE,TRUE))","v":""}]
[]
["Reference Building, wall U-value",null,{"$f":"(Y68*AI54+Y106*AI92+Y144*AI130+Y182*AI168)/SUM(AI54,AI92,AI130,AI168)","v":{"$error":"#DIV/0!"}}]
["Reference Building, glazing U-value",null,{"$f":"(Y67*AI$53+Y105*AI$91+Y143*AI$129+Y181*AI$167)/SUM(AI$53,AI$91,AI$129,AI$167)","v":{"$error":"#DIV/0!"}}]
["Reference Building, SHGC (shading as proposed)",null,{"$f":"C$208/(C$72*AI$53*C$71+C$110*AI$91*C$109+C$148*AI$129*C$147+C$186*AI$167*C$185)","v":{"$error":"#N/A"}}]
["Reference Building, SHGC (no shading)",null,{"$f":"C$208/(C$72*AI$53*1+C$110*AI$91*1+C$148*AI$129*1+C$186*AI$167*1)","v":{"$error":"#N/A"}}]
[]
["Wall-glazing U-value, ALL",null,{"$f":"SUM(AI62,AI100,AI138,AI176)/SUM(AI51,AI89,AI127,AI165)","v":{"$error":"#DIV/0!"}}]
["Reference AC Energy Value",null,{"$f":"AI$51*C$72*G11+AI$89*C$110*H11+AI$127*C$148*I11+AI$165*C$186*J11","v":{"$error":"#N/A"}}]
["AC Energy Value",null,{"$f":"AI$51*C$72*C74+AI$89*C$110*C112+AI$127*C$148*C150+AI$165*C$186*C188","v":0}]
[]
[]
[]
["Charts"]
["Wall Performance"]
[]
[null,"R-value","Target < 80%","Target > 80%"]
["North",{"$f":"1/C68","v":{"$error":"#DIV/0!"}},{"$f":"C11","v":{"$error":"#N/A"}},{"$f":"E$11","v":{"$error":"#N/A"}}]
["East",{"$f":"1/C106","v":{"$error":"#DIV/0!"}},{"$f":"C11","v":{"$error":"#N/A"}},{"$f":"E$11","v":{"$error":"#N/A"}}]
["South",{"$f":"1/C144","v":{"$error":"#DIV/0!"}},{"$f":"C11","v":{"$error":"#N/A"}},{"$f":"E$11","v":{"$error":"#N/A"}}]
["West",{"$f":"1/C182","v":{"$error":"#DIV/0!"}},{"$f":"C11","v":{"$error":"#N/A"}},{"$f":"E$11","v":{"$error":"#N/A"}}]
["Combined",{"$f":"1/C199","v":{"$error":"#DIV/0!"}},{"$f":"C11","v":{"$error":"#N/A"}},{"$f":"E$11","v":{"$error":"#N/A"}}]
[]
[]
[null,null,null,null,null," "]
["Wall-glazing Performance"]
[]
[null,"U-value","Target","UA-value"]
["North",{"$f":"C73","v":""},{"$f":"B$11","v":{"$error":"#N/A"}},{"$f":"AI62","v":0}]
["East",{"$f":"C111","v":""},{"$f":"B$11","v":{"$error":"#N/A"}},{"$f":"AI100","v":0}]
["South",{"$f":"C149","v":""},{"$f":"B$11","v":{"$error":"#N/A"}},{"$f":"AI138","v":0}]
["West",{"$f":"C187","v":""},{"$f":"B$11","v":{"$error":"#N/A"}},{"$f":"AI176","v":0}]
["Combined",{"$f":"C207","v":{"$error":"#DIV/0!"}},{"$f":"B$11","v":{"$error":"#N/A"}}]
[]
[]
[]
["Glazing Performance"]
[null,"Solar Admittance","Target","SAA","AC Energy"]
["North",{"$f":"C74","v":0},{"$f":"G$11","v":{"$error":"#N/A"}},{"$f":"AI63","v":0},{"$f":"AI51*C72*C74","v":0}]
["East",{"$f":"C112","v":0},{"$f":"G$11","v":{"$error":"#N/A"}},{"$f":"AI101","v":0},{"$f":"AI89*C110*C112","v":0}]
["South",{"$f":"C150","v":0},{"$f":"G$11","v":{"$error":"#N/A"}},{"$f":"AI139","v":0},{"$f":"AI127*C148*C150","v":0}]
["West",{"$f":"C188","v":0},{"$f":"G$11","v":{"$error":"#N/A"}},{"$f":"AI177","v":0},{"$f":"AI165*C186*C188","v":0}]
["Combined",{"$f":"C198","v":{"$error":"#DIV/0!"}},{"$f":"G$11","v":{"$error":"#N/A"}}]
["Target",null,null,null,{"$f":"C208","v":{"$error":"#N/A"}}]
[]
[null,"U-value","UA-value"]
["North",{"$f":"C67","v":""},{"$f":"SUM(C62:R62)","v":0}]
["East",{"$f":"C105","v":{"$error":"#DIV/0!"}},{"$f":"SUM(C100:R100)","v":0}]
["South",{"$f":"C143","v":{"$error":"#DIV/0!"}},{"$f":"SUM(C138:R138)","v":0}]
["West",{"$f":"C181","v":{"$error":"#DIV/0!"}},{"$f":"SUM(C176:R176)","v":0}]
["Target",null,{"$f":"B11*(AI51+AI89+AI127+AI165)","v":{"$error":"#N/A"}}]

{"sheet":"J1.5B_Calcs","index":10,"n_rows":98,"n_cols":8,"rows_kept":98,"cut":false,"hidden":true,"merged":[[0,0,2,16383]]}
["All information held within this worksheet is for the reference and calculations of J1.5B only. This sheet is subject to auditing and maintainence and therefore must be clear and organsied."]
[]
[]
[]
["J1.5B Calcs",true]
[null,null,null,"Bridged Layer"]
["Wall System 01","Ext - Layer 1","Layer 2","Layer 3","Layer 4","Layer 5","Layer 6","Layer 7"]
["Material ",{"$f":"Wall_Systems!C51","v":0},{"$f":"Wall_Systems!D51","v":0},{"$f":"Wall_Systems!E51","v":0},{"$f":"Wall_Systems!F51","v":0},{"$f":"Wall_Systems!G51","v":0},{"$f":"Wall_Systems!H51","v":0},{"$f":"Wall_Systems!I51","v":0}]
["Is material?",{"$f":"IF(OR(B8=\"\",B8=0),FALSE,TRUE)","v":false},{"$f":"IF(OR(C8=\"\",C8=0),FALSE,TRUE)","v":false},false,false,false,false,false]
["Is air space?",{"$f":"IF(B9=TRUE,ISNUMBER(SEARCH(\"Airspace\",B8)),\"\")","v":""},{"$f":"IF(C9=TRUE,ISNUMBER(SEARCH(\"Airspace\",C8)),\"\")","v":""},{"$f":"IF(D9=TRUE,ISNUMBER(SEARCH(\"Airspace\",D8)),\"\")","v":""},{"$f":"IF(E9=TRUE,ISNUMBER(SEARCH(\"Airspace\",E8)),\"\")","v":""},"","",""]
["Air space resistance",{"$f":"IF(B10=TRUE,INDEX(User_Library!$G$10:$G$64,MATCH(B8,User_Library!$E$10:$E$64,0)),\"\")","v":""},{"$f":"IF(C10=TRUE,INDEX(User_Library!$G$10:$G$64,MATCH(C8,User_Library!$E$10:$E$64,0)),\"\")","v":""},{"$f":"IF(D10=TRUE,INDEX(User_Library!$G$10:$G$64,MATCH(D8,User_Library!$E$10:$E$64,0)),\"\")","v":""},{"$f":"IF(E10=TRUE,INDEX(User_Library!$G$10:$G$64,MATCH(E8,User_Library!$E$10:$E$64,0)),\"\")","v":""},{"$f":"IF(F10=TRUE,INDEX(User_Library!$G$10:$G$64,MATCH(F8,User_Library!$E$10:$E$64,0)),\"\")","v":""},{"$f":"IF(G10=TRUE,INDEX(User_Library!$G$10:$G$64,MATCH(G8,User_Library!$E$10:$E$64,0)),\"\")","v":""},{"$f":"IF(H10=TRUE,INDEX(User_Library!$G$10:$G$64,MATCH(H8,User_Library!$E$10:$E$64,0)),\"\")","v":""}]
["Veniltation Strategy",null,{"$f":"IF(C10=TRUE,Wall_Systems!D49,\"\")","v":""},{"$f":"IF(D10=TRUE,Wall_Systems!D49,\"\")","v":""},{"$f":"IF(E10=TRUE,Wall_Systems!F49,\"\")","v":""},{"$f":"IF(F10=TRUE,Wall_Systems!G49,\"\")","v":""},{"$f":"IF(G10=TRUE,Wall_Systems!H49,\"\")","v":""},{"$f":"IF(H10=TRUE,Wall_Systems!I49,\"\")","v":""}]
["Derating Factor",{"$f":"C13","v":1},{"$f":"IF(C12=\"Unventilated\",\"1\",IF(C12=\"Slightly Ventilated\",\"0.45\",IF(C12=\"Well Ventilated\",\"0\",1)))","v":1},{"$f":"IF(D12=\"Unventilated\",\"1\",IF(D12=\"Slightly Ventilated\",\"0.45\",IF(D12=\"Well Ventilated\",\"0\",1)))","v":1},1,1,1,1]
["Derating Bridged Layer",{"$f":"IF(B12=\"No Ventilation\",B11*1,IF(B12=\"Slightly Ventilated\",B11*0.55,IF(B12=\"Well Ventilated\",B11*0)))","v":false},{"$f":"IF(C12=\"Unventilated\",C11*1,IF(C12=\"Slightly Ventilated\",C11*0.55,IF(C12=\"Well Ventilated\",C11*0)))","v":false},{"$f":"IF(D12=\"Unventilated\",D11*1,IF(D12=\"Slightly Ventilated\",D11*0.55,IF(D12=\"Well Ventilated\",D11*0)))","v":false},false,false,false,false]
["Thickness (mm)",{"$f":"IF(B9=TRUE,Wall_Systems!C54,\"\")","v":""},{"$f":"IF(C9=TRUE,Wall_Systems!D54,\"\")","v":""},{"$f":"IF(D9=TRUE,Wall_Systems!E54,\"\")","v":""},{"$f":"IF(E9=TRUE,Wall_Systems!F54,\"\")","v":""},{"$f":"IF(F9=TRUE,Wall_Systems!G54,\"\")","v":""},{"$f":"IF(G9=TRUE,Wall_Systems!H54,\"\")","v":""},{"$f":"IF(H9=TRUE,Wall_Systems!I54,\"\")","v":""}]
["Conductivity (W/mK)",{"$f":"IF(B9=FALSE,\"\",IF(B10=TRUE,\"n/a\",Wall_Systems!C56))","v":""},{"$f":"IF(C9=FALSE,\"\",IF(C10=TRUE,\"n/a\",Wall_Systems!D56))","v":""},{"$f":"IF(D9=FALSE,\"\",IF(D10=TRUE,\"n/a\",Wall_Systems!E56))","v":""},{"$f":"IF(E9=FALSE,\"\",IF(E10=TRUE,\"n/a\",Wall_Systems!F56))","v":""},{"$f":"IF(F9=FALSE,\"\",IF(F10=TRUE,\"n/a\",Wall_Systems!G56))","v":""},{"$f":"IF(G9=FALSE,\"\",IF(G10=TRUE,\"n/a\",Wall_Systems!H56))","v":""},{"$f":"IF(H9=FALSE,\"\",IF(H10=TRUE,\"n/a\",Wall_Systems!I56))","v":""}]
["R-value (m2K/W),",{"$f":"IF(AND(B9=TRUE,B10=FALSE),B15/1000/B16,\"\")","v":""},{"$f":"IF(AND(C9=TRUE,C10=FALSE),C15/1000/C16,\"\")","v":""},"","","","",""]
["R-value (m2K/W), Including Airlayer Resistance",null,{"$f":"C17+$C$14","v":{"$error":"#VALUE!"}},{"$error":"#VALUE!"},{"$f":"E17","v":""},{"$f":"F17","v":""},{"$f":"G17","v":""},{"$f":"H17","v":""}]
["Framing?",{"$f":"IF(B9=TRUE,IF(OR(Wall_Systems!C58=\"\",Wall_Systems!C58=\"None\"),FALSE,TRUE),\"\")","v":""},{"$f":"IF(C$9=TRUE,IF(OR(Wall_Systems!D58=\"\",Wall_Systems!D58=\"None\"),FALSE,TRUE),\"\")","v":""},{"$f":"IF(D9=TRUE,IF(OR(Wall_Systems!E58=\"\",Wall_Systems!E58=\"None\"),FALSE,TRUE),\"\")","v":""},{"$f":"IF(E9=TRUE,IF(OR(Wall_Systems!F58=\"\",Wall_Systems!F58=\"None\"),FALSE,TRUE),\"\")","v":""},{"$f":"IF(F9=TRUE,IF(OR(Wall_Systems!G58=\"\",Wall_Systems!G58=\"None\"),FALSE,TRUE),\"\")","v":""},{"$f":"IF(G9=TRUE,IF(OR(Wall_Systems!H58=\"\",Wall_Systems!H58=\"None\"),FALSE,TRUE),\"\")","v":""},{"$f":"IF(H9=TRUE,IF(OR(Wall_Systems!I58=\"\",Wall_Systems!I58=\"None\"),FALSE,TRUE),\"\")","v":""}]
["Framing material",null,{"$f":"IF(C19=TRUE,Wall_Systems!D58,\"\")","v":""},{"$f":"IF(D19=TRUE,Wall_Systems!E58,\"\")","v":""},{"$f":"IF(E19=TRUE,Wall_Systems!F58,\"\")","v":""},{"$f":"IF(F19=TRUE,Wall_Systems!G58,\"\")","v":""},{"$f":"IF(G19=TRUE,Wall_Systems!H58,\"\")","v":""},{"$f":"IF(H19=TRUE,Wall_Systems!I58,\"\")","v":""}]
["Frame conductivity (W/mK)",{"$f":"IFERROR(INDEX(User_Library!$O$11:$O$66,MATCH(B20,User_Library!$N$11:$N$66,0)),\"\")","v":""},{"$f":"IFERROR(INDEX(User_Library!$O$11:$O$66,MATCH(C20,User_Library!$N$11:$N$66,0)),\"\")","v":""},{"$f":"IFERROR(INDEX(User_Library!$O$11:$O$66,MATCH(D20,User_Library!$N$11:$N$66,0)),\"\")","v":""},{"$f":"IFERROR(INDEX(User_Library!$O$11:$O$66,MATCH(E20,User_Library!$N$11:$N$66,0)),\"\")","v":""},{"$f":"IFERROR(INDEX(User_Library!$O$11:$O$66,MATCH(F20,User_Library!$N$11:$N$66,0)),\"\")","v":""},{"$f":"IFERROR(INDEX(User_Library!$O$11:$O$66,MATCH(G20,User_Library!$N$11:$N$66,0)),\"\")","v":""},{"$f":"IFERROR(INDEX(User_Library!$O$11:$O$66,MATCH(H20,User_Library!$N$11:$N$66,0)),\"\")","v":""}]
["Equivalent conductivity calculation?",{"$f":"IF(B19=TRUE,IF(AND(B23<>\"\",B24<>\"\"),TRUE,FALSE),\"\")","v":""},"","","","","",""]
["Metal frame, web thickness (mm)",{"$f":"IF(AND(B19=TRUE,Wall_Systems!C60<>\"\"),Wall_Systems!C60,\"\")","v":""},{"$f":"IF(AND(C19=TRUE,Wall_Systems!D60<>\"\"),Wall_Systems!D60,\"\")","v":""},{"$f":"IF(AND(D19=TRUE,Wall_Systems!E60<>\"\"),Wall_Systems!E60,\"\")","v":""},{"$f":"IF(AND(E19=TRUE,Wall_Systems!F60<>\"\"),Wall_Systems!F60,\"\")","v":""},{"$f":"IF(AND(F19=TRUE,Wall_Systems!G60<>\"\"),Wall_Systems!G60,\"\")","v":""},{"$f":"IF(AND(G19=TRUE,Wall_Systems!H60<>\"\"),Wall_Systems!H60,\"\")","v":""},{"$f":"IF(AND(H19=TRUE,Wall_Systems!I60<>\"\"),Wall_Systems!I60,\"\")","v":""}]
["Metal frame, flange width (mm) or k",{"$f":"IF(AND(B19=TRUE,Wall_Systems!C62<>\"\"),Wall_Systems!C62,\"\")","v":""},{"$f":"IF(AND(C19=TRUE,Wall_Systems!D62<>\"\"),Wall_Systems!D62,\"\")","v":""},{"$f":"IF(AND(D19=TRUE,Wall_Systems!E62<>\"\"),Wall_Systems!E62,\"\")","v":""},{"$f":"IF(AND(E19=TRUE,Wall_Systems!F62<>\"\"),Wall_Systems!F62,\"\")","v":""},{"$f":"IF(AND(F19=TRUE,Wall_Systems!G62<>\"\"),Wall_Systems!G62,\"\")","v":""},{"$f":"IF(AND(G19=TRUE,Wall_Systems!H62<>\"\"),Wall_Systems!H62,\"\")","v":""},{"$f":"IF(AND(H19=TRUE,Wall_Systems!I62<>\"\"),Wall_Systems!I62,\"\")","v":""}]
["Metal frame equivalent conductivity (W/mK) ",{"$f":"IF(AND(B19=TRUE,B23<>\"\",B24<>\"\"),B23/B24*B21,\"\")","v":""},{"$f":"IF(AND(C19=TRUE,C23<>\"\",C24<>\"\"),C23/C24*C21,\"\")","v":""},{"$f":"IF(AND(D19=TRUE,D23<>\"\",D24<>\"\"),D23/D24*D21,\"\")","v":""},{"$f":"IF(AND(E19=TRUE,E23<>\"\",E24<>\"\"),E23/E24*E21,\"\")","v":""},{"$f":"IF(AND(F19=TRUE,F23<>\"\",F24<>\"\"),F23/F24*F21,\"\")","v":""},"",""]
[]
["Frame R-value (m2K/W)",{"$f":"IF(AND(B19=TRUE,B22=TRUE,B31=TRUE),(B15-B33)/1000/B25,IF(AND(B19=TRUE,B22=TRUE,B31=FALSE),B15/1000/B25,IF(AND(B19=TRUE,B22=FALSE,B31=TRUE),(B15-B33)/1000/B21,IF(AND(B19=TRUE,B22=FALSE,B31=FALSE),B15/1000/B21,\"\"))))","v":""},{"$f":"IF(AND(C19=TRUE,C22=TRUE,C31=TRUE),(C15-C33)/1000/C25,IF(AND(C19=TRUE,C22=TRUE,C31=FALSE),C15/1000/C25,IF(AND(C19=TRUE,C22=FALSE,C31=TRUE),(C15-C33)/1000/C21,IF(AND(C19=TRUE,C22=FALSE,C31=FALSE),C15/1000/C21,\"\"))))","v":""},{"$f":"IF(AND(D19=TRUE,D22=TRUE,D31=TRUE),(D15-D33)/1000/D25+$C$14,IF(AND(D19=TRUE,D22=TRUE,D31=FALSE),D15/1000/D25+$C$14,IF(AND(D19=TRUE,D22=FALSE,D31=TRUE),(D15-D33)/1000/D21+C14,IF(AND(D19=TRUE,D22=FALSE,D31=FALSE),D15/1000/D21+$C$14,\"\"))))","v":""},{"$f":"IF(AND(E19=TRUE,E22=TRUE,E31=TRUE),(E15-E33)/1000/E25,IF(AND(E19=TRUE,E22=TRUE,E31=FALSE),E15/1000/E25,IF(AND(E19=TRUE,E22=FALSE,E31=TRUE),(E15-E33)/1000/E21+D14,IF(AND(E19=TRUE,E22=FALSE,E31=FALSE),E15/1000/E21,\"\"))))","v":""},{"$f":"IF(AND(F19=TRUE,F22=TRUE,F31=TRUE),(F15-F33)/1000/F25,IF(AND(F19=TRUE,F22=TRUE,F31=FALSE),F15/1000/F25,IF(AND(F19=TRUE,F22=FALSE,F31=TRUE),(F15-F33)/1000/F21+E14,IF(AND(F19=TRUE,F22=FALSE,F31=FALSE),F15/1000/F21,\"\"))))","v":""},{"$f":"IF(AND(G19=TRUE,G22=TRUE,G31=TRUE),(G15-G33)/1000/G25,IF(AND(G19=TRUE,G22=TRUE,G31=FALSE),G15/1000/G25,IF(AND(G19=TRUE,G22=FALSE,G31=TRUE),(G15-G33)/1000/G21+F14,IF(AND(G19=TRUE,G22=FALSE,G31=FALSE),G15/1000/G21,\"\"))))","v":""},{"$f":"IF(AND(H19=TRUE,H22=TRUE,H31=TRUE),(H15-H33)/1000/H25,IF(AND(H19=TRUE,H22=TRUE,H31=FALSE),H15/1000/H25,IF(AND(H19=TRUE,H22=FALSE,H31=TRUE),(H15-H33)/1000/H21+G14,IF(AND(H19=TRUE,H22=FALSE,H31=FALSE),H15/1000/H21,\"\"))))","v":""}]
["Framing %",{"$f":"IF(B19=TRUE,Wall_Systems!C64,\"\")","v":""},{"$f":"IF(C19=TRUE,Wall_Systems!D64,\"\")","v":""},{"$f":"IF(D19=TRUE,Wall_Systems!E64,\"\")","v":""},{"$f":"IF(E19=TRUE,Wall_Systems!F64,\"\")","v":""},{"$f":"IF(F19=TRUE,Wall_Systems!G64,\"\")","v":""},{"$f":"IF(G19=TRUE,Wall_Systems!H64,\"\")","v":""},{"$f":"IF(H19=TRUE,Wall_Systems!I64,\"\")","v":""}]
["Framing Excluding EPS Area %"]
[]
["Thermal break?",{"$f":"IF(B$9=TRUE,IF(OR(Wall_Systems!C66=\"\",Wall_Systems!C66=\"None\"),FALSE,TRUE),\"\")","v":""},{"$f":"IF(C9=TRUE,IF(OR(Wall_Systems!D66=\"\",Wall_Systems!D66=\"None\"),FALSE,TRUE),\"\")","v":""},{"$f":"IF(D$9=TRUE,IF(OR(Wall_Systems!E66=\"\",Wall_Systems!E66=\"None\"),FALSE,TRUE),\"\")","v":""},{"$f":"IF(E$9=TRUE,IF(OR(Wall_Systems!F66=\"\",Wall_Systems!F66=\"None\"),FALSE,TRUE),\"\")","v":""},{"$f":"IF(F$9=TRUE,IF(OR(Wall_Systems!G66=\"\",Wall_Systems!G66=\"None\"),FALSE,TRUE),\"\")","v":""},{"$f":"IF(G$9=TRUE,IF(OR(Wall_Systems!H66=\"\",Wall_Systems!H66=\"None\"),FALSE,TRUE),\"\")","v":""},{"$f":"IF(H$9=TRUE,IF(OR(Wall_Systems!I66=\"\",Wall_Systems!I66=\"None\"),FALSE,TRUE),\"\")","v":""}]
["Thermal break material",{"$f":"IF(B31=TRUE,Wall_Systems!C66,\"\")","v":""},{"$f":"IF(C31=TRUE,Wall_Systems!D66,\"\")","v":""},{"$f":"IF(D31=TRUE,Wall_Systems!E66,\"\")","v":""},{"$f":"IF(E31=TRUE,Wall_Systems!F66,\"\")","v":""},{"$f":"IF(F31=TRUE,Wall_Systems!G66,\"\")","v":""},{"$f":"IF(G31=TRUE,Wall_Systems!H66,\"\")","v":""},{"$f":"IF(H31=TRUE,Wall_Systems!I66,\"\")","v":""}]
["Thermal break thickness (mm)",{"$f":"IF(B31=TRUE,Wall_Systems!C68,\"\")","v":""},{"$f":"IFERROR(IF(C31=TRUE,Wall_Systems!D68,\"\"),0)","v":""},{"$f":"IF(D31=TRUE,Wall_Systems!E68,\"\")","v":""},{"$f":"IF(E31=TRUE,Wall_Systems!F68,\"\")","v":""},{"$f":"IF(F31=TRUE,Wall_Systems!G68,\"\")","v":""},{"$f":"IF(G31=TRUE,Wall_Systems!H68,\"\")","v":""},{"$f":"IF(H31=TRUE,Wall_Systems!I68,\"\")","v":""}]
["Thermal break conductivity (W/mK)",{"$f":"IF(B31=TRUE,INDEX(User_Library!$O$11:$O$66,MATCH(B32,User_Library!$N$11:$N$66,0)),\"\")","v":""},{"$f":"IF(C31=TRUE,INDEX(User_Library!$O$11:$O$66,MATCH(C32,User_Library!$N$11:$N$66,0)),\"\")","v":""},{"$f":"IF(D31=TRUE,INDEX(User_Library!$O$11:$O$66,MATCH(D32,User_Library!$N$11:$N$66,0)),\"\")","v":""},{"$f":"IF(E31=TRUE,INDEX(User_Library!$O$11:$O$66,MATCH(E32,User_Library!$N$11:$N$66,0)),\"\")","v":""},{"$f":"IF(F31=TRUE,INDEX(User_Library!$O$11:$O$66,MATCH(F32,User_Library!$N$11:$N$66,0)),\"\")","v":""},{"$f":"IF(G31=TRUE,INDEX(User_Library!$O$11:$O$66,MATCH(G32,User_Library!$N$11:$N$66,0)),\"\")","v":""},{"$f":"IF(H31=TRUE,INDEX(User_Library!$O$11:$O$66,MATCH(H32,User_Library!$N$11:$N$66,0)),\"\")","v":""}]
["Thermal break R-value (m2K/W)",{"$f":"IF(B31=TRUE,B33/1000/B34,\"\")","v":""},{"$f":"IF(C31=TRUE,C33/1000/C34,\"\")","v":""},"","","","",""]
["Frame + thermal break R-value (m2K/W)",{"$f":"IF(AND(B19=TRUE,B31=TRUE),B35+B27,IF(AND(B19=TRUE,B31=FALSE),B27,\"\"))","v":""},{"$f":"IF(AND(C19=TRUE,C31=TRUE),C35+C27,IF(AND(C19=TRUE,C31=FALSE),C27,\"\"))","v":""},{"$f":"IF(AND(D19=TRUE,D31=TRUE),D35+D27,IF(AND(D19=TRUE,D31=FALSE),D27,\"\"))","v":""},{"$f":"IF(AND(E19=TRUE,E31=TRUE),E35+E27,IF(AND(E19=TRUE,E31=FALSE),E27,\"\"))","v":""},"","",""]
["Thermal break overlap?",{"$f":"IF(B31=TRUE,IF(OR(Wall_Systems!C70=0,Wall_Systems!C70=\"\"),FALSE,TRUE),\"\")","v":""},{"$f":"IF(C31=TRUE,IF(OR(Wall_Systems!D70=0,Wall_Systems!D70=\"\"),FALSE,TRUE),\"\")","v":""},{"$f":"IF(D31=TRUE,IF(OR(Wall_Systems!E70=0,Wall_Systems!E70=\"\"),FALSE,TRUE),\"\")","v":""},{"$f":"IF(E31=TRUE,IF(OR(Wall_Systems!F70=0,Wall_Systems!F70=\"\"),FALSE,TRUE),\"\")","v":""},{"$f":"IF(F31=TRUE,IF(OR(Wall_Systems!G70=0,Wall_Systems!G70=\"\"),FALSE,TRUE),\"\")","v":""},{"$f":"IF(G31=TRUE,IF(OR(Wall_Systems!H70=0,Wall_Systems!H70=\"\"),FALSE,TRUE),\"\")","v":""},{"$f":"IF(H31=TRUE,IF(OR(Wall_Systems!I70=0,Wall_Systems!I70=\"\"),FALSE,TRUE),\"\")","v":""}]
["Thermal break overlap %",{"$f":"IF(B31=TRUE,IF(B37=TRUE,Wall_Systems!C70,0),\"\")","v":""},{"$f":"IF(C31=TRUE,IF(C37=TRUE,Wall_Systems!D70,0),\"\")","v":""},{"$f":"IF(D31=TRUE,IF(D37=TRUE,Wall_Systems!E70,0),\"\")","v":""},{"$f":"IF(E31=TRUE,IF(E37=TRUE,Wall_Systems!F70,0),\"\")","v":""},{"$f":"IF(F31=TRUE,IF(F37=TRUE,Wall_Systems!G70,0),\"\")","v":""},{"$f":"IF(G31=TRUE,IF(G37=TRUE,Wall_Systems!H70,0),\"\")","v":""},{"$f":"IF(H31=TRUE,IF(H37=TRUE,Wall_Systems!I70,0),\"\")","v":""}]
["Thermal break + insulation R-value",{"$f":"IF(B31=TRUE,B17+B35,\"\")","v":""},"",{"$f":"IF(D31=TRUE,D17+D35,\"\")","v":""},"","","",""]
[]
["Airspace resistance",{"$f":"IF(AND(B10=TRUE,B19=FALSE),B11,\"\")","v":""},{"$f":"IF(AND(C10=TRUE,C19=FALSE),C11,\"\")","v":""},{"$f":"IF(AND(D10=TRUE,D19=FALSE),D11,\"\")","v":""},{"$f":"IF(AND(E10=TRUE,E19=FALSE),E11,\"\")","v":""},{"$f":"IF(AND(F10=TRUE,F19=FALSE),F11,\"\")","v":""},"",""]
["Bridged airspace resistance",{"$f":"IF(AND(B10=TRUE,B19=TRUE),1/(((1/B11)*(1-B28))+(B25/(B15/1000)*B28)),\"\")","v":""},"",{"$f":"IF(AND(D10=TRUE,D19=TRUE),1/(((1/D11)*(1-D28))+(D25/(D15/1000)*D28)),\"\")","v":""},"","","",""]
["Non-bridged material resistance",{"$f":"IF(AND(B10=FALSE,B19=FALSE),(B15/1000)/B16,\"\")","v":""},{"$f":"IF(AND(C10=FALSE,C19=FALSE),(C15/1000)/C16+$C$14,\"\")","v":""},{"$f":"IF(AND(D10=FALSE,D19=FALSE),(D15/1000)/D16+$C$14,\"\")","v":""},"","","",""]
["Bridged material resistance",{"$f":"IF(AND(B10=FALSE,B19=TRUE,B31=TRUE),1/(B28/B36+B38/B39+(1-B38-B28)/B18),IF(AND(B10=FALSE,B19=TRUE,B31=FALSE),1/(B28/B27+(1-B28)/B18),\"\"))","v":""},"","",{"$f":"IF(AND(E10=FALSE,E19=TRUE,E31=TRUE),1/(E28/E36+E38/E39+(1-E38-E28)/E18),IF(AND(E10=FALSE,E19=TRUE,E31=FALSE),1/(E28/E27+(1-E28)/E18),\"\"))","v":""},"","",""]
["Calculated resistance (m2K/W)",{"$f":"IF(B9=TRUE,SUM(B41:B44),\"\")","v":""},"",{"$f":"IF(D9=TRUE,SUM(D41:D44),\"\")","v":""},{"$f":"IF(E9=TRUE,SUM(E41:E44),\"\")","v":""},{"$f":"IF(F9=TRUE,SUM(F41:F44),\"\")","v":""},"",""]
["Calculated resistance (m2K/W) derated",{"$f":"IF(B9=TRUE,SUM(B41:B44)*B13,\"0\")","v":"0"},{"$f":"IF(C9=TRUE,SUM(C41:C44)*C13,\"0\")","v":"0"},{"$f":"IF(D9=TRUE,SUM(D41:D44)*D13,\"0\")","v":"0"},{"$f":"IF(E9=TRUE,SUM(E41:E44)*E13,\"0\")","v":"0"},"0","0","0"]
[null,{"$f":"IFERROR(IF(B11=\"\",B46,0),0)","v":"0"},"0",{"$f":"IFERROR(IF(D11=\"\",D46,0),0)","v":"0"},"0","0","0","0"]
[{"$f":"Wall_Systems!E74","v":0},{"$f":"Wall_Systems!I74","v":""}]
[{"$f":"Wall_Systems!F76","v":"Internal Surface Resistance (still air, on a wall)"},{"$f":"Wall_Systems!I76","v":0.12},null,null,null,null,null,{"$f":"IF(H13=TRUE,SUM(H45:H48),\"\")","v":""}]
[{"$f":"B7","v":"Ext - Layer 1"},{"$f":"B46","v":"0"},null,null,null,null,null,""]
[{"$f":"D7","v":"Layer 3"},{"$f":"SUM(C47:D47)","v":0},null,null,null,null,null,""]
[{"$f":"E7","v":"Layer 4"},{"$f":"E46","v":"0"}]
[{"$f":"F7","v":"Layer 5"},{"$f":"F46","v":"0"}]
[{"$f":"G7","v":"Layer 6"},{"$f":"G46","v":"0"}]
[{"$f":"H7","v":"Layer 7"},{"$f":"H46","v":"0"}]
["Total",{"$f":"SUM(B48:B55)","v":0.12}]
[]
[]
[]
[]
[]
[]
[]
[]
[]
[]
[]
[]
[]
[]
[]
[]
[]
[]
[]
[null,"mm","Conductivity "]
[{"$f":"Wall_Systems!C51","v":0},{"$f":"Wall_Systems!C54","v":0},{"$f":"'J1.5B_Calcs'!B17","v":""}]
[{"$f":"Wall_Systems!D51","v":0},{"$f":"Wall_Systems!D54","v":0},{"$f":"C11","v":""}]
[{"$f":"Wall_Systems!E51","v":0},{"$f":"Wall_Systems!E54","v":0},{"$f":"User_Library!F42","v":0}]
[{"$f":"Wall_Systems!F51","v":0},{"$f":"Wall_Systems!F54","v":0},{"$f":"E17","v":""}]
[{"$f":"Wall_Systems!E58","v":0},{"$f":"Wall_Systems!E62","v":0},47.5]
["Thermal Break",{"$f":"Wall_Systems!E68","v":0},{"$f":"User_Library!O17","v":0}]
[]
[]
[null,"F1","F2"]
[null,{"$f":"1-D28","v":{"$error":"#VALUE!"}},{"$f":"D28","v":""}]
[null,"R1","R2"]
[]
[]
[]
[]
[null,"Example F2"]
["Rse (exterior surface)",{"$f":"'J1.5B_Calcs'!B48","v":""}]
["Layer 1",0.1]
["Layer 2, Rb (air space and insulated frame)",{"$f":"B51","v":0}]
["Layer 3 (liing)",0.05]
["Rsi (interior surface)",0.09]
[null,{"$f":"SUM(B93:B97)","v":0.24000000000000002}]

{"sheet":"NCC_Support_Text","index":11,"n_rows":179,"n_cols":23,"rows_kept":179,"cut":false,"hidden":true,"merged":[[30,1,30,8],[30,9,30,16],[60,11,60,21],[69,11,69,21],[0,0,2,16383]]}
["All information held within this worksheet directly references Part J1 Walls and Glazing (a-g), J15a and J1.5b."]
[]
[]
[]
[]
[]
["Building Classes",null,null,null,null,null,null,null,null,"Australian Capital Territory",null,"New South Wales",null,"South Australia",null,"Victoria"]
["Class 2 - apartment building (Common Area)",2,null,null,"Column1",null,"Select",null,null,"Climate Zone 7 - Cool temperate",null,"Climate Zone 2 - Warm humid summer, mild winter",null,"Climate Zone 4 - Hot dry summer, cool winter",null,"Climate Zone 4 - Hot dry summer, cool winter"]
["Class 3 - student accommodation",3,null,null,"ACT",null,"Yes",null,null,null,null,"Climate Zone 4 - Hot dry summer, cool winter",null,"Climate Zone 5 - Warm temperate",null,"Climate Zone 6 - Mild temperate"]
["Class 3 - hotel",3,null,null,"NSW",null,null,null,null,null,null,"Climate Zone 5 - Warm temperate",null,"Climate Zone 6 - Mild temperate",null,"Climate Zone 7 - Cool temperate"]
["Class 3 - other",3,null,null,"NT",null,"No",null,null,null,null,"Climate Zone 6 - Mild temperate",null,null,null,"Climate Zone 8 - Alpine"]
["Class 5 - office building",5,null,null,"QLD",null,null,null,null,null,null,"Climate Zone 7 - Cool temperate"]
["Class 6 - department stores, shopping centres",6,null,null,"SA",null,null,null,null,null,null,"Climate Zone 8 - Alpine"]
["Class 6 - restaurants, cafes, bars",6,null,null,"TAS"]
["Class 8 - factory",8,null,null,"VIC",null,null,null,null,"Northern Territory",null,"Queensland",null,"Tasmania",null,"Western Australia"]
["Class 9a - health-care buildings","9a",null,null,"WA",null,null,null,null,"Climate Zone 1 - High humidity summer, warm winter",null,"Climate Zone 1 - High humidity summer, warm winter",null,"Climate Zone 7 - Cool temperate",null,"Climate Zone 1 - High humidity summer, warm winter"]
["Class 9a - ward","9a ward",null,null,null,null,null,null,null,"Climate Zone 2 - Warm humid summer, mild winter",null,"Climate Zone 2 - Warm humid summer, mild winter",null,"Climate Zone 8 - Alpine",null,"Climate Zone 3 - Hot dry summer, warm winter"]
["Class 9b - churches, chapels or the like","9b",null,null,null,null,null,null,null,null,null,"Climate Zone 3 - Hot dry summer, warm winter",null,null,null,"Climate Zone 4 - Hot dry summer, cool winter"]
["Class 9b - early childhood centres","9b",null,null,null,null,null,null,null,null,null,"Climate Zone 5 - Warm temperate",null,null,null,"Climate Zone 5 - Warm temperate"]
["Class 9b - public halls, function rooms or the like","9b",null,null,null,null,null,null,null,null,null,null,null,null,null,"Climate Zone 6 - Mild temperate"]
["Class 9b - schools","9b"]
["Class 9b - single auditorium theatres and cinemas","9b"]
["Class 9b - sports venues or the like","9b"]
["Class 9b - theatres and cinemas with multiple auditoria, art galleries or the like",9]
["Class 9c - aged care building","9c"]
["Mixed 1 - 3, 9c, 9a ward",3]
["Mixed 2 - 2 common, 5, 6, 7, 8, 9b, 9a non-ward",5]
[]
[]
["R-value Minimums"]
["Wall area proportion","< 80%",null,null,null,null,null,null,null,">=80%"]
["Climate Zone",1,2,3,4,5,6,7,8,1,2,3,4,5,6,7,8]
["2 common, 5, 6, 7, 8, 9b, 9a non-ward",1,1,1,1,1,1,1,1,2.4,1.4,1.4,1.4,1.4,1.4,1.4,1.4]
["3, 9c, 9a ward",1,1,1,1,1,1,1,1,3.3,1.4,3.3,2.8,1.4,2.8,2.8,3.8]
[]
[]
["Target Wall-Glazing U-values"]
["Climate Zone",1,2,3,4,5,6,7,8]
["2 common, 5, 6 non-display, 7, 8, 9b, 9a non-ward",2,2,2,2,2,2,2,2]
["3, 9c, 9a ward",1.1000000000000001,2,1.1000000000000001,1.1000000000000001,2,1.1000000000000001,1.1000000000000001,0.9]
[]
[]
["Target Solar Admittance Values"]
["Classes","2 common, 5, 6 non-display, 7, 8 9b, 9a non-ward"]
["Climate Zone",1,2,3,4,5,6,7,8]
["North",0.12,0.13,0.16,0.13,0.13,0.13,0.13,0.2]
["East",0.12,0.13,0.16,0.13,0.13,0.13,0.13,0.2]
["South",0.12,0.13,0.16,0.13,0.13,0.13,0.13,0.42]
["West",0.12,0.13,0.16,0.13,0.13,0.13,0.13,0.36]
[]
["Classes","3, 9c, 9a ward"]
["Climate Zone",1,2,3,4,5,6,7,8]
["North",7.0000000000000007E-2,0.1,7.0000000000000007E-2,7.0000000000000007E-2,0.1,7.0000000000000007E-2,7.0000000000000007E-2,0.08]
["East",7.0000000000000007E-2,0.1,7.0000000000000007E-2,7.0000000000000007E-2,0.1,7.0000000000000007E-2,7.0000000000000007E-2,0.08]
["South",0.1,0.1,7.0000000000000007E-2,7.0000000000000007E-2,0.1,7.0000000000000007E-2,0.08,0.08]
["West",7.0000000000000007E-2,0.1,7.0000000000000007E-2,7.0000000000000007E-2,0.1,7.0000000000000007E-2,7.0000000000000007E-2,0.08]
[]
[]
["Solar Admittance Weighting Coefficients",null,null,null,null,null,null,null,null,null,"Shading Multipliers"]
["Classes","2 common, 5, 6 non-display, 7, 8 9b, 9a non-ward",null,null,null,null,null,null,null,null,"North, East, West"]
["Climate Zone",1,2,3,4,5,6,7,8,null,null,"P/H"]
["North",1.47,1.95,1.95,2.0499999999999998,2.2799999999999998,2.12,2.4,1.88,null,"G/H",0,0.1,0.2,0.3,0.4,0.5,0.6,0.7,0.8,0.9,1,"Device"]
["East",1.39,1.58,1.63,1.72,1.72,1.62,1.84,1.92,null,0,1,0.9,0.8,0.72,0.64,0.56999999999999995,0.51,0.46,0.41,0.38,0.35,0.35]
["South",1,1,1,1,1,1,1,1,null,0.1,1,0.95,0.89,0.81,0.74,0.66,0.59,0.52,0.47,0.42,0.4,0.35]
["West",1.41,1.68,1.65,1.69,1.75,1.67,1.92,1.25,null,0.2,1,0.98,0.94,0.89,0.82,0.75,0.68,0.62,0.56000000000000005,0.51,0.47,0.35]
[null,null,null,null,null,null,null,null,null,null,0.3,1,1,0.97,0.94,0.89,0.84,0.78,0.72,0.66,0.61,0.56999999999999995,0.35]
["Classes","3, 9c, 9a ward",null,null,null,null,null,null,null,null,0.4,1,1,0.99,0.97,0.94,0.9,0.86,0.82,0.77,0.73,0.68,0.35]
["Climate Zone",1,2,3,4,5,6,7,8,null,0.5,1,1,1,0.99,0.97,0.95,0.92,0.9,0.86,0.83,0.79,0.35]
["North",1.42,1.77,1.72,1.55,1.88,1.52,1.6,1.24]
["East",1.3,1.49,1.48,1.37,1.48,1.28,1.35,1.26,null,"South","P/H"]
["South",1,1,1,1,1,1,1,1,null,"G/H",0,0.1,0.2,0.3,0.4,0.5,0.6,0.7,0.8,0.9,1,"Device"]
["West",1.37,1.54,1.5,1.36,1.52,1.33,1.4,1.05,null,0,1,0.93,0.87,0.82,0.77,0.73,0.69,0.65,0.62,0.6,0.57999999999999996,0.35]
[null,null,null,null,null,null,null,null,null,null,0.1,1,0.97,0.93,0.88,0.84,0.79,0.75,0.71,0.67,0.64,0.62,0.35]
[null,null,null,null,null,null,null,null,null,null,0.2,1,0.98,0.96,0.93,0.89,0.85,0.81,0.77,0.73,0.7,0.68,0.35]
[null,null,null,null,null,null,null,null,null,null,0.3,1,0.99,0.98,0.96,0.93,0.9,0.87,0.83,0.8,0.77,0.74,0.35]
[null,null,null,null,null,null,null,null,null,null,0.4,1,1,0.99,0.98,0.96,0.94,0.91,0.89,0.86,0.84,0.81,0.35]
[null,null,null,null,null,null,null,null,null,null,0.5,1,1,0.99,0.99,0.98,0.96,0.95,0.93,0.91,0.9,0.88,0.35]
["Spandrel Panels"]
["Insulation","None","R0.5","R1.0","R1.5","R2.0"]
["Type 1",0.3,0.39,0.42,0.44,0.45]
["Type 2",0.35,0.41,0.43,0.44,0.45]
["Type 3",0.84,0.96,1.03,1.07,1.0900000000000001]
["Type 4",0.91,1,1.05,1.0900000000000001,1.1100000000000001]
[]
[]
[]
[]
["Climate Zone 1 - High humidity summer, warm winter",1]
["Climate Zone 2 - Warm humid summer, mild winter",2]
["Climate Zone 3 - Hot dry summer, warm winter",3]
["Climate Zone 4 - Hot dry summer, cool winter",4]
["Climate Zone 5 - Warm temperate",5]
["Climate Zone 6 - Mild temperate",6]
["Climate Zone 7 - Cool temperate",7]
["Climate Zone 8 - Alpine",8]
[]
[]
[]
["External Surface Resistance (moving air, more than 3m/s and not more than 7/ms wind speed)",0.03]
["External Surface Resistance (moving air, not more than 3m/s wind speed)",0.04]
["Internal Surface Resistance (Still air)",0.14000000000000001]
[]
[]
["Spandrel"]
["Wall"]
[]
[]
["NCC Specification J1.5b - Method 1"]
["NCC Specification J1.5b - Method 2"]
[]
["Internal Surface Resistance (still air, on a wall)",0.12]
[]
[]
[]
["Unventilated",1]
["Slightly Ventilated",0.45]
["Well Ventilated",0]
[]
["None"]
["As Proposed"]
[]
[]
[]
[]
["Horizontal"]
["Device"]
[]
[]
[]
[]
["WERS Default (Design)"]
["User Defined (Construction)"]
[]
["Awning"]
["Fixed"]
["Sliding Door"]
["Other"]
[null,null,"R-Value"]
["Select",0]
["ABCB",3.7999999999999999E-2,2.8]
["Airspace - Non-Reflective Unventilated","n/a",0.17]
["Airspace - Non-Reflective Ventilated","n/a",0.14000000000000001]
["Alucobond ® (3-6 mm)",5.54]
["Aluminium - Sheeting",210]
["Aluminium Alloy Painted/Anodized/Oxidised",160]
["Bondor Panel",7.0000000000000007E-2]
["Bradford TM - Faced Blanket (60-130 mm)",4.4499999999999998E-2]
["Bradford TM - Plain Building Blanket (50-130 mm)",4.53E-2]
["Bradford TM - Thermodeck",3.3000000000000002E-2]
["Brass",120]
["Cement Render",0.53]
["CFC Sheet",0.25]
["Clay Brick - 3.25 kg",0.65]
["Concrete - Medium",0.85]
["Concrete - Solid",1.44]
["Conrete - Autoclaved Aerated 900 kg/m3",0.27]
["Conrete or Terra Cotta Riles",0.81]
["Copper",380]
["Fibre Insulating Board",4.8000000000000001E-2]
["Fibre-Cement",0.25]
["Foilboard Super 15",0.02]
["Foilboard Ultra 20",0.03]
["Glass - Window (Enter U-Value under \"Thickness\")","GLASS"]
["Glasswool",0.04]
["Hardwood",0.16]
["Kingspan - Kooltherm® K12 Framing Board  (25-44 mm)",{"$f":"(25/1000)/1.2","v":2.0833333333333336E-2}]
["Kingspan - Kooltherm® K18 Insulated Plasterboard (35-90 mm) ",{"$f":"AVERAGE(0.035/1.3,0.09/4.1)","v":2.4437148217636026E-2}]
["Kingspan - Kooltherm® K5 External Wall Board (Conductivity 0.02 W/mK)",0.02]
["Kingspan Board K8/K17/K18 (Excl Plasterboard)",2.1000000000000001E-2]
["Plasterboard",0.17]
["Plywood",0.14000000000000001]
["Polystyrene",0.16]
["PVC - Rigid",0.17]
["Rigid Polyurethane Foam",2.3E-2]
["Rockwool ® - ConRock for Sanwich Panels L-Series (23-150 mm)",{"$f":"AVERAGE(0.042,0.044,0.048)","v":4.4666666666666667E-2}]
["Rockwool ® - Thermal Rock S (Slab) (25-100 mm)",3.4000000000000002E-2]
["Softwood",0.13]
["Steel - Oxidised/Rolled/Ground",50]
["Steel - Sheeting",47.5]